Workbook

Sheet Рекапитулация по диаметри
B7: РЕКАПИТУЛАЦИЯ
B8: на стойността на СМР
A10: № | B10: Наименование | C10: стойност лв.
A11: 1 | B11: Общо КСС 1
A12: 2 | B12: Общо КСС 2
A13: 3 | B13: Общо КСС 3
A14: 4 | B14: Общо КСС 4
A15: 5 | B15: Общо КСС 5
A16: 6 | B16: Общо КСС 6
A17: 7 | B17: Общо КСС 7
A18: 8 | B18: Общо КСС 8
A19: 9 | B19: Общо КСС 9
A20: 10 | B20: Общо КСС 10
A21: 11 | B21: Общо КСС 11
A22: 13 | B22: Общо КСС 13
... A29: 20 | B29: Общо КСС 20 - Хармонизатор
B30: Общо за Водопровод | C30: =SUM(C11:C29) -> 0
B33: ВСИЧКО без ДДС: | C33: =SUM(C30:C32) -> 0
B35: Непредвидени 5% | C35: =C33*5% -> 0
B36: ВСИЧКО без ДДС: | C36: =SUM(C33,C35) -> 0
B37: ДДС 20% | C37: =C36*20% -> 0
B38: ВСИЧКО с ДДС: | C38: =ROUNDDOWN(SUM(C36,C37),2) -> 0

Sheet Пом.см.Шахта 1,30 м
B1: ПОМОЩНА СМЕТКА за Шахта с воден хармонизатор 1.30/1.30/2.20
A2: № | B2: Описание | C2: Ед. Мярка | D2: Количество | E2: ед.цена | F2: стойност без ДДС
B4: Стоманобетонова шахта 1.30/1.30/2.20м
A5: 1 | B5: Рязане на асфалт | C5: m' | D5: =2.5*4 -> 10
A6: =A5+1 -> 2 | B6: Разваляне на съществуваща асфалтова настилка | C6: м2 | D6: =2.5*2.5 -> 6.25
A7: =A6+1 -> 3 | B7: Разваляне на съществуваща трошенокаменна настилка 0,30 m | C7: м³ | D7: =2.5*2.5*0.3 -> 1.875
A8: =A7+1 -> 4 | B8: Натоварване на строителни отпадъци на самосвал | C8: м³ | D8: =SUM(D6:D7) -> 8.125
A9: =A8+1 -> 5 | B9: Извозване на строителни отпадъци - 15 km и такса стр.отпадъци | C9: м³ | D9: =D8 -> 8.125
A10: 6 | B10: Направа на изкоп | C10: м³ | D10: 13
B11: в т.ч. земни почви | C11: м³ | D11: =D10-D12 -> 2.6
B12: скални почви | C12: м³ | D12: =ROUND(D10*80%,2) -> 10.4
A13: =A10+1 -> 7 | B13: Изкоп с багер на земни почви с ограничена шир. по улици | C13: м³ | D13: =D11-D14 -> 2.08
A14: =A13+1 -> 8 | B14: Изкоп до 1.20м шир. и до 2м дълб.земни почви - ръчно по улици | C14: м³ | D14: =ROUND(D11*20%,2) -> 0.52
A15: =A14+1 -> 9 | B15: Натоварване на земни почви с багер на транспорт | C15: м³ | D15: =D14 -> 0.52
A16: =A15+1 -> 10 | B16: Превоз земни почви със самосвал на депо | C16: м³ | D16: =D11 -> 2.6
A17: =A16+1 -> 11 | B17: Разриване с булдозер земни почви на депото или такса депо | C17: м³ | D17: =D16 -> 2.6
A18: =A17+1 -> 12 | B18: =КСС1!B$46 -> Изкоп до 1.20м шир. и до 2м. дълб. скални почви | C18: м³ | D18: =D12 -> 10.4
A19: =A18+1 -> 13 | B19: Натоварване на скални почви с багер на транспорт | C19: м³ | D19: =D18 -> 10.4
A20: =A19+1 -> 14 | B20: Превоз скални почви със самосвал на депо | C20: м³ | D20: =D18 -> 10.4
A21: =A20+1 -> 15 | B21: Разриване с булдозер скални почви с булдозер на депо или такса депо | C21: м³ | D21: =D18 -> 10.4
A22: =A21+1 -> 16 | B22: Полагане на пясък - 10 см | C22: м³ | D22: =1.6*1.6*0.1 -> 0.256
A23: =A22+1 -> 17 | B23: Доставка и обратна засипка,уплътняване с пневматична трамбовка - 25km | C23: м³ | D23: 9.28
A24: =A23+1 -> 18 | B24: Доставка и полагане на плътен асфалтобетон d=4 см (25km) | C24: t | D24: =D26*0.04*2.4 -> 0.6
A25: =A24+1 -> 19 | B25: Доставка и полагане на неплътен асфалтобетон d=6 см (25km) | C25: t | D25: =D24*1.5 -> 0.9
A26: =A25+1 -> 20 | B26: Пръскане с емулсия между неплътния асфалтобетон и битумизираната баластра (25km) | C26: м2 | D26: =2.5*2.5 -> 6.25
A27: =A26+1 -> 21 | B27: Доставка и полагане на 45 см трошен камък (БДС 2282-83) - Е = 200 МРа | C27: м³ | D27: =0.3*1*D26 -> 1.875
A28: =A27+1 -> 22 | B28: Заливка с битум | C28: m | D28: =D5 -> 10
A29: =A28+1 -> 23 | B29: Кофраж | C29: м2 | D29: =(5.2*2.2)+(4*2.2) -> 20.24
A30: =A29+1 -> 24 | B30: Армировка | C30: кг | D30: =D31*100 -> 166.8
A31: =A30+1 -> 25 | B31: Бетон | C31: м³ | D31: =(0.69*2.2)+(1*1*0.15) -> 1.668
A32: =A31+1 -> 26 | B32: Капак стоманена ламарина 3 мм - 80/80 см | C32: бр. | D32: 1
A33: =A32+1 -> 27 | B33: Стоманоботенов капак МБ 150 - 70/70/10 см | C33: бр. | D33: 1
A34: =A33+1 -> 28 | B34: Кофраж | C34: м2 | D34: =(0.7*0.7)+(2.8*0.1) -> 0.77
A35: =A34+1 -> 29 | B35: Арматура 10 бр/Ф8х810 | C35: кг | D35: 5
A36: =A35+1 -> 30 | B36: Бетон | C36: м³ | D36: =0.7*0.7*0.1 -> 0.049
A37: =A36+1 -> 31 | B37: Стоманоботенова плоча В15 130/130/10 | C37: бр.
A38: =A37+1 -> 32 | B38: Кофраж | C38: м2 | D38: =(1.3*1.3)+(5.2*0.1)+(0.6*0.6*0.1) -> 2.246
A39: =A38+1 -> 33 | B39: Арматура | C39: кг | D39: 13
A40: =A39+1 -> 34 | B40: Бетон | C40: м³ | D40: =1.3*1.3*0.1-(0.6*0.6*0.1) -> 0.133
A41: =A40+1 -> 35 | B41: Стъпала (Арм.желязо ф18) 18/100 | C41: бр. | D41: 5
...

Sheet Хармонизатор20
B2: Количествено-стойностна сметка № 20
B4: Обект: „Реконструкция на водоснабдителна система – гр.Земен”
A6: № | B6: Наименование | C6: мярка | D6: кол-во | E6: цена | F6: стойност
A7: 1 | B7: Направа на стоманобетонова шахта за воден хармонизатор 1.30/1.30/2.20м от Помощна сметка | C7: бр. | D7: 1
A8: 2 | B8: Доставка и монтаж на воден хармонизатор чрез фланец DN100 | C8: бр. | D8: =D7 -> 1
B10: ОБЩО без ДДС: | F10: =SUM(F7:F9) -> 0

Sheet КСС19
B1: Количествено-стойностна сметка № 19
B2: Обект: „Реконструкция на водоснабдителна система – гр.Земен”
F3: ул. Д.Благоев, ул. Тичък
D4: Ф110
A5: № | B5: Наименование | C5: мярка | D5: кол-во | E5: цена | F5: стойност
B6: Изпълнение на водопровод Ф110
A7: I | B7: Водопровод - строителни работи
B8: Пътни работи
A9: 1 | B9: Рязане на асфалт | C9: m' | D9: 454
A10: =A9+1 -> 2 | B10: Разваляне на съществуваща асфалтова настилка | C10: m2 | D10: 227
A11: =A10+1 -> 3 | B11: Разваляне на съществуваща трошенокаменна настилка - 0,15+0,30 m | C11: m3 | D11: 178.2
A12: =A11+1 -> 4 | B12: Натоварване на строителни отпадъци на самосвал | C12: m3 | D12: 200.9
A13: =A12+1 -> 5 | B13: Извозване на строителни отпадъци - 15 km и такса стр.отпадъци | C13: m3 | D13: 200.9
A14: =A13+1 -> 6 | B14: Доставка и полагане на 45 см трошен камък (БДС 2282-83) - Е = 200 МРа | C14: m3 | D14: 178.2
A15: =A14+1 -> 7 | B15: Доставка и полагане на плътен асфалтобетон d=4 см,(БДС 4132-90) - Е = 1200 МРа | C15: t | D15: 21.792
A16: =A15+1 -> 8 | B16: Доставка и полагане на неплътен асфалтобетон d=4 см, (БДС 4132-90)- Е = 1000 МРа | C16: t | D16: 0
A17: =A16+1 -> 9 | B17: Доставка и полагане на неплътен асфалтобетон d=6 см, (БДС 4132-90) - Е = 800 МРа | C17: t | D17: 32.688
A18: =A17+1 -> 10 | B18: Доставка и полагане на битумизиран трошен кавък d=10 см, (БДС 4132-90) - Е = 800 МРа | C18: t | D18: 0
A19: =A18+1 -> 11 | B19: Пръскане с емулсия между неплътния асфалтобетон | C19: m2 | D19: 227
A20: =A19+1 -> 12 | B20: Заливка с битум (стар/нов асфалт) | C20: m' | D20: 454
A22: =A21+1 -> 1 | B22: Разваляне на съществуващ паваж | C22: m2 | D22: 103
... A30: =A29+1 -> 6 | B30: Възстановяване на тротоари с бетонови плочи 40/40/5см (БДС 625) вкл. | C30: m2 | D30: 24
B31: - 3 см вароциментов разтвор
B32: - 18 см трошен камък (БДС 2282-83)- Е = 200 МРа
B33: Земни работи
B34: =КСС1!B$34 -> Изкопи в 20% з.п. и 80% ск.п.
B35: за водопровод | C35: м³ | D35: 727.056
B36: за сградни отклонения | C36: м³ | D36: 152.32
B37: за пожарни хидранти | C37: м³ | D37: 5.4
B38: Всичко изкопи | C38: м³ | D38: =SUM(D35:D37) -> 884.776
B39: в т.ч. земни почви | C39: м³ | D39: =D38-D40 -> 176.956
B40: скални почви | C40: м³ | D40: =ROUND(D38*80%,2) -> 707.82
A41: 1 | B41: Изкоп с багер на земни почви с ограничена шир. по улици | C41: м³ | D41: =D39-D42 -> 141.566
A42: 2 | B42: Изкоп до 1.20м шир. и до 2м дълб.земни почви - ръчно по улици | C42: м³ | D42: =ROUND(D39*20%,2) -> 35.39
A43: 3 | B43: Натоварване на земни почви с багер на транспорт | C43: м³ | D43: =D42 -> 35.39
A44: 3 | B44: Превоз земни почви със самосвал на депо | C44: м³ | D44: =D39 -> 176.956
A45: 4 | B45: Разриване с булдозер земни почви на депото или такса депо | C45: м³ | D45: =D44 -> 176.956
A46: 5 | B46: =КСС1!B$46 -> Изкоп до 1.20м шир. и до 2м. дълб. скални почви | C46: м³ | D46: =D40 -> 707.82
A47: 6 | B47: Натоварване на скални почви с багер на транспорт | C47: м³ | D47: =D46 -> 707.82
A48: 7 | B48: Превоз скални почви със самосвал на депо | C48: м³ | D48: =D46 -> 707.82
...

Sheet КСС18
B1: Количествено-стойностна сметка № 18
B2: Обект: „Реконструкция на водоснабдителна система – гр.Земен”
F3: ул. Ивайло, ул. Л.Каравелов, ул. Тичък, ул. Струма
D4: ф90
A5: № | B5: Наименование | C5: мярка | D5: кол-во | E5: цена | F5: стойност
B6: Изпълнение на водопровод Ф90
A7: I | B7: Водопровод - строителни работи
B8: Пътни работи
A9: 1 | B9: Рязане на асфалт | C9: m' | D9: 4410
A10: =A9+1 -> 2 | B10: Разваляне на съществуваща асфалтова настилка | C10: m2 | D10: 2205
A11: =A10+1 -> 3 | B11: Разваляне на съществуваща трошенокаменна настилка - 0,15+0,30 m | C11: m3 | D11: 1081.8
A12: =A11+1 -> 4 | B12: Натоварване на строителни отпадъци на самосвал | C12: m3 | D12: 1302.3
A13: =A12+1 -> 5 | B13: Извозване на строителни отпадъци - 15 km и такса стр.отпадъци | C13: m3 | D13: 1302.3
A14: =A13+1 -> 6 | B14: Доставка и полагане на 45 см трошен камък (БДС 2282-83) - Е = 200 МРа | C14: m3 | D14: 1081.8
A15: =A14+1 -> 7 | B15: Доставка и полагане на плътен асфалтобетон d=4 см,(БДС 4132-90) - Е = 1200 МРа | C15: t | D15: 211.68
A16: =A15+1 -> 8 | B16: Доставка и полагане на неплътен асфалтобетон d=4 см, (БДС 4132-90)- Е = 1000 МРа | C16: t | D16: 0
A17: =A16+1 -> 9 | B17: Доставка и полагане на неплътен асфалтобетон d=6 см, (БДС 4132-90) - Е = 800 МРа | C17: t | D17: 317.52
A18: =A17+1 -> 10 | B18: Доставка и полагане на битумизиран трошен кавък d=10 см, (БДС 4132-90) - Е = 800 МРа | C18: t | D18: 0
A19: =A18+1 -> 11 | B19: Пръскане с емулсия между неплътния асфалтобетон | C19: m2 | D19: 2205
A20: =A19+1 -> 12 | B20: Заливка с битум (стар/нов асфалт) | C20: m' | D20: 4410
A22: =A21+1 -> 1 | B22: Разваляне на съществуващ паваж | C22: m2 | D22: 453
... A30: =A29+1 -> 6 | B30: Възстановяване на тротоари с бетонови плочи 40/40/5см (БДС 625) вкл. | C30: m2 | D30: 152.4
B31: - 3 см вароциментов разтвор
B32: - 18 см трошен камък (БДС 2282-83)- Е = 200 МРа
B33: Земни работи
B34: =КСС1!B$34 -> Изкопи в 20% з.п. и 80% ск.п.
B35: за водопровод | C35: м³ | D35: 4327.2
B36: за сградни отклонения | C36: м³ | D36: 831.215
B37: за пожарни хидранти | C37: м³ | D37: 43.2
B38: Всичко изкопи | C38: м³ | D38: =SUM(D35:D37) -> 5201.615
B39: в т.ч. земни почви | C39: м³ | D39: =D38-D40 -> 1040.325
B40: скални почви | C40: м³ | D40: =ROUND(D38*80%,2) -> 4161.29
A41: 1 | B41: Изкоп с багер на земни почви с ограничена шир. по улици | C41: м³ | D41: =D39-D42 -> 832.255
A42: 2 | B42: Изкоп до 1.20м шир. и до 2м дълб.земни почви - ръчно по улици | C42: м³ | D42: =ROUND(D39*20%,2) -> 208.07
A43: 3 | B43: Натоварване на земни почви с багер на транспорт | C43: м³ | D43: =D42 -> 208.07
A44: 3 | B44: Превоз земни почви със самосвал на депо | C44: м³ | D44: =D39 -> 1040.325
A45: 4 | B45: Разриване с булдозер земни почви на депото или такса депо | C45: м³ | D45: =D44 -> 1040.325
A46: 5 | B46: =КСС1!B$46 -> Изкоп до 1.20м шир. и до 2м. дълб. скални почви | C46: м³ | D46: =D40 -> 4161.29
A47: 6 | B47: Натоварване на скални почви с багер на транспорт | C47: м³ | D47: =D46 -> 4161.29
A48: 7 | B48: Превоз скални почви със самосвал на депо | C48: м³ | D48: =D46 -> 4161.29
...

Sheet КСС17
B1: Количествено-стойностна сметка № 17
B2: Обект: „Реконструкция на водоснабдителна система – гр.Земен”
F3: ул. Хр.Смирненски, ул. Н.Вапцаров
D4: Ф140
A5: № | B5: Наименование | C5: мярка | D5: кол-во | E5: цена | F5: стойност
B6: Изпълнение на водопровод Ф140
A7: I | B7: Водопровод - строителни работи
B8: Пътни работи
A9: 1 | B9: Рязане на асфалт | C9: m' | D9: 876
A10: =A9+1 -> 2 | B10: Разваляне на съществуваща асфалтова настилка | C10: m2 | D10: 438
A11: =A10+1 -> 3 | B11: Разваляне на съществуваща трошенокаменна настилка - 0,15+0,30 m | C11: m3 | D11: 180.9
A12: =A11+1 -> 4 | B12: Натоварване на строителни отпадъци на самосвал | C12: m3 | D12: 224.7
A13: =A12+1 -> 5 | B13: Извозване на строителни отпадъци - 15 km и такса стр.отпадъци | C13: m3 | D13: 224.7
A14: =A13+1 -> 6 | B14: Доставка и полагане на 45 см трошен камък (БДС 2282-83) - Е = 200 МРа | C14: m3 | D14: 180.9
A15: =A14+1 -> 7 | B15: Доставка и полагане на плътен асфалтобетон d=4 см,(БДС 4132-90) - Е = 1200 МРа | C15: t | D15: 42.048
A16: =A15+1 -> 8 | B16: Доставка и полагане на неплътен асфалтобетон d=4 см, (БДС 4132-90)- Е = 1000 МРа | C16: t
A17: =A16+1 -> 9 | B17: Доставка и полагане на неплътен асфалтобетон d=6 см, (БДС 4132-90) - Е = 800 МРа | C17: t | D17: 63.072
A18: =A17+1 -> 10 | B18: Доставка и полагане на битумизиран трошен кавък d=10 см, (БДС 4132-90) - Е = 800 МРа | C18: t
A19: =A18+1 -> 11 | B19: Пръскане с емулсия между неплътния асфалтобетон | C19: m2 | D19: 438
A20: =A19+1 -> 12 | B20: Заливка с битум (стар/нов асфалт) | C20: m' | D20: 876
A22: =A21+1 -> 1 | B22: Разваляне на съществуващ паваж | C22: m2
A23: =A22+1 -> 2 | B23: Възстановяване на съществуващ паваж | C23: m2 | D23: 0
A25: =A24+1 -> 1 | B25: Разкъртване на бордюри | C25: m' | D25: 18
A26: =A25+1 -> 2 | B26: Развяляне на тротоари | C26: m2 | D26: 21.6
A27: =A26+1 -> 3 | B27: Натоварване на строителни отпадъци на самосвал | C27: m3 | D27: 3.78
A28: =A27+1 -> 4 | B28: Извозване на строителни отпадъци - 15 km и такса стр.отпадъци | C28: m3 | D28: 3.78
A29: =A28+1 -> 5 | B29: Възстановяване на бордюри с регула 15см, поставени върху бетонова основа. | C29: m' | D29: 18
A30: =A29+1 -> 6 | B30: Възстановяване на тротоари с бетонови плочи 40/40/5см (БДС 625) вкл. | C30: m2 | D30: 21.6
B31: - 3 см вароциментов разтвор
B32: - 18 см трошен камък (БДС 2282-83)- Е = 200 МРа
B33: Земни работи
B34: =КСС1!B$34 -> Изкопи в 20% з.п. и 80% ск.п.
B35: за водопровод | C35: м³ | D35: 759.78
B36: за сградни отклонения | C36: м³ | D36: 117.81
B37: за пожарни хидранти | C37: м³ | D37: 7.2
B38: Всичко изкопи | C38: м³ | D38: =SUM(D35:D37) -> 884.79
B39: в т.ч. земни почви | C39: м³ | D39: =D38-D40 -> 176.96
B40: скални почви | C40: м³ | D40: =ROUND(D38*80%,2) -> 707.83
A41: 1 | B41: Изкоп с багер на земни почви с ограничена шир. по улици | C41: м³ | D41: =D39-D42 -> 141.57
A42: 2 | B42: Изкоп до 1.20м шир. и до 2м дълб.земни почви - ръчно по улици | C42: м³ | D42: =ROUND(D39*20%,2) -> 35.39
...

Sheet КСС16
B1: Количествено-стойностна сметка № 16
B2: Обект: „Реконструкция на водоснабдителна система – гр.Земен”
F3: ул. Хан Аспарух
D4: Ф110
A5: № | B5: Наименование | C5: мярка | D5: кол-во | E5: цена | F5: стойност
B6: Изпълнение на водопровод Ф110
A7: I | B7: Водопровод - строителни работи
B8: Пътни работи
A9: 1 | B9: Рязане на асфалт | C9: m' | D9: 342
A10: =A9+1 -> 2 | B10: Разваляне на съществуваща асфалтова настилка | C10: m2 | D10: 171
A11: =A10+1 -> 3 | B11: Разваляне на съществуваща трошенокаменна настилка - 0,15+0,30 m | C11: m3 | D11: 68.85
A12: =A11+1 -> 4 | B12: Натоварване на строителни отпадъци на самосвал | C12: m3 | D12: 85.95
A13: =A12+1 -> 5 | B13: Извозване на строителни отпадъци - 15 km и такса стр.отпадъци | C13: m3 | D13: 85.95
A14: =A13+1 -> 6 | B14: Доставка и полагане на 45 см трошен камък (БДС 2282-83) - Е = 200 МРа | C14: m3 | D14: 68.85
A15: =A14+1 -> 7 | B15: Доставка и полагане на плътен асфалтобетон d=4 см,(БДС 4132-90) - Е = 1200 МРа | C15: t | D15: 16.416
A16: =A15+1 -> 8 | B16: Доставка и полагане на неплътен асфалтобетон d=4 см, (БДС 4132-90)- Е = 1000 МРа | C16: t
A17: =A16+1 -> 9 | B17: Доставка и полагане на неплътен асфалтобетон d=6 см, (БДС 4132-90) - Е = 800 МРа | C17: t | D17: 24.624
A18: =A17+1 -> 10 | B18: Доставка и полагане на битумизиран трошен кавък d=10 см, (БДС 4132-90) - Е = 800 МРа | C18: t
A19: =A18+1 -> 11 | B19: Пръскане с емулсия между неплътния асфалтобетон | C19: m2 | D19: 171
A20: =A19+1 -> 12 | B20: Заливка с битум (стар/нов асфалт) | C20: m' | D20: 342
A22: =A21+1 -> 1 | B22: Разваляне на съществуващ паваж | C22: m2
A23: =A22+1 -> 2 | B23: Възстановяване на съществуващ паваж | C23: m2 | D23: 0
A25: =A24+1 -> 1 | B25: Разкъртване на бордюри | C25: m' | D25: 9
A26: =A25+1 -> 2 | B26: Развяляне на тротоари | C26: m2 | D26: 10.8
A27: =A26+1 -> 3 | B27: Натоварване на строителни отпадъци на самосвал | C27: m3 | D27: 1.89
A28: =A27+1 -> 4 | B28: Извозване на строителни отпадъци - 15 km и такса стр.отпадъци | C28: m3 | D28: 1.89
A29: =A28+1 -> 5 | B29: Възстановяване на бордюри с регула 15см, поставени върху бетонова основа. | C29: m' | D29: 9
A30: =A29+1 -> 6 | B30: Възстановяване на тротоари с бетонови плочи 40/40/5см (БДС 625) вкл. | C30: m2 | D30: 10.8
B31: - 3 см вароциментов разтвор
B32: - 18 см трошен камък (БДС 2282-83)- Е = 200 МРа
B33: Земни работи
B34: =КСС1!B$34 -> Изкопи в 20% з.п. и 80% ск.п.
B35: за водопровод | C35: м³ | D35: 280.908
B36: за сградни отклонения | C36: м³ | D36: 58.905
B37: за пожарни хидранти | C37: м³ | D37: 12.6
B38: Всичко изкопи | C38: м³ | D38: =SUM(D35:D37) -> 352.413
B39: в т.ч. земни почви | C39: м³ | D39: =D38-D40 -> 70.483
B40: скални почви | C40: м³ | D40: =ROUND(D38*80%,2) -> 281.93
A41: 1 | B41: Изкоп с багер на земни почви с ограничена шир. по улици | C41: м³ | D41: =D39-D42 -> 56.383
A42: 2 | B42: Изкоп до 1.20м шир. и до 2м дълб.земни почви - ръчно по улици | C42: м³ | D42: =ROUND(D39*20%,2) -> 14.1
...

Sheet КСС15
B1: Количествено-стойностна сметка № 15
B2: Обект: „Реконструкция на водоснабдителна система – гр.Земен”
F3: ул. Райна Княгиня, ул. Хр.Смирненски, ул. Хан Кубрат, ул. Хан Аспарух
D4: ф90
A5: № | B5: Наименование | C5: мярка | D5: кол-во | E5: цена | F5: стойност
B6: Изпълнение на водопровод Ф90
A7: I | B7: Водопровод - строителни работи
B8: Пътни работи
A9: 1 | B9: Рязане на асфалт | C9: m' | D9: 2590
A10: =A9+1 -> 2 | B10: Разваляне на съществуваща асфалтова настилка | C10: m2 | D10: 1295
A11: =A10+1 -> 3 | B11: Разваляне на съществуваща трошенокаменна настилка - 0,15+0,30 m | C11: m3 | D11: 651.15
A12: =A11+1 -> 4 | B12: Натоварване на строителни отпадъци на самосвал | C12: m3 | D12: 780.65
A13: =A12+1 -> 5 | B13: Извозване на строителни отпадъци - 15 km и такса стр.отпадъци | C13: m3 | D13: 780.65
A14: =A13+1 -> 6 | B14: Доставка и полагане на 45 см трошен камък (БДС 2282-83) - Е = 200 МРа | C14: m3 | D14: 651.15
A15: =A14+1 -> 7 | B15: Доставка и полагане на плътен асфалтобетон d=4 см,(БДС 4132-90) - Е = 1200 МРа | C15: t | D15: 124.32
A16: =A15+1 -> 8 | B16: Доставка и полагане на неплътен асфалтобетон d=4 см, (БДС 4132-90)- Е = 1000 МРа | C16: t | D16: 71.52
A17: =A16+1 -> 9 | B17: Доставка и полагане на неплътен асфалтобетон d=6 см, (БДС 4132-90) - Е = 800 МРа | C17: t | D17: 79.2
A18: =A17+1 -> 10 | B18: Доставка и полагане на битумизиран трошен кавък d=10 см, (БДС 4132-90) - Е = 800 МРа | C18: t | D18: 178.8
A19: =A18+1 -> 11 | B19: Пръскане с емулсия между неплътния асфалтобетон | C19: m2 | D19: 1295
A20: =A19+1 -> 12 | B20: Заливка с битум (стар/нов асфалт) | C20: m' | D20: 2590
A22: =A21+1 -> 1 | B22: Разваляне на съществуващ паваж | C22: m2 | D22: 80
... A30: =A29+1 -> 6 | B30: Възстановяване на тротоари с бетонови плочи 40/40/5см (БДС 625) вкл. | C30: m2 | D30: 94.8
B31: - 3 см вароциментов разтвор
B32: - 18 см трошен камък (БДС 2282-83)- Е = 200 МРа
B33: Земни работи
B34: =КСС1!B$34 -> Изкопи в 20% з.п. и 80% ск.п.
B35: за водопровод | C35: м³ | D35: 2604.6
B36: за сградни отклонения | C36: м³ | D36: 517.055
B37: за пожарни хидранти | C37: м³ | D37: 14.4
B38: Всичко изкопи | C38: м³ | D38: =SUM(D35:D37) -> 3136.055
B39: в т.ч. земни почви | C39: м³ | D39: =D38-D40 -> 627.215
B40: скални почви | C40: м³ | D40: =ROUND(D38*80%,2) -> 2508.84
A41: 1 | B41: Изкоп с багер на земни почви с ограничена шир. по улици | C41: м³ | D41: =D39-D42 -> 501.775
A42: 2 | B42: Изкоп до 1.20м шир. и до 2м дълб.земни почви - ръчно по улици | C42: м³ | D42: =ROUND(D39*20%,2) -> 125.44
A43: 3 | B43: Натоварване на земни почви с багер на транспорт | C43: м³ | D43: =D42 -> 125.44
A44: 3 | B44: Превоз земни почви със самосвал на депо | C44: м³ | D44: =D39 -> 627.215
A45: 4 | B45: Разриване с булдозер земни почви на депото или такса депо | C45: м³ | D45: =D44 -> 627.215
A46: 5 | B46: =КСС1!B$46 -> Изкоп до 1.20м шир. и до 2м. дълб. скални почви | C46: м³ | D46: =D40 -> 2508.84
A47: 6 | B47: Натоварване на скални почви с багер на транспорт | C47: м³ | D47: =D46 -> 2508.84
A48: 7 | B48: Превоз скални почви със самосвал на депо | C48: м³ | D48: =D46 -> 2508.84
...

Sheet КСС14
B1: Количествено-стойностна сметка № 14
B2: Обект: „Реконструкция на водоснабдителна система – гр.Земен”
F3: ул. В.Левски, ул. Ал.Стамболийски, ул. Цар Асен
D4: Ф140
A5: № | B5: Наименование | C5: мярка | D5: кол-во | E5: цена | F5: стойност
B6: Изпълнение на водопровод Ф140
A7: I | B7: Водопровод - строителни работи
B8: Пътни работи
A9: 1 | B9: Рязане на асфалт | C9: m' | D9: 1194 | F9: =ROUND(D9*E9,2) -> 0
A10: =A9+1 -> 2 | B10: Разваляне на съществуваща асфалтова настилка | C10: m2 | D10: 597 | F10: =ROUND(D10*E10,2) -> 0
A11: =A10+1 -> 3 | B11: Разваляне на съществуваща трошенокаменна настилка - 0,15+0,30 m | C11: m3 | D11: 238.95 | F11: =ROUND(D11*E11,2) -> 0
A12: =A11+1 -> 4 | B12: Натоварване на строителни отпадъци на самосвал | C12: m3 | D12: 298.65 | F12: =ROUND(D12*E12,2) -> 0
A13: =A12+1 -> 5 | B13: Извозване на строителни отпадъци - 15 km и такса стр.отпадъци | C13: m3 | D13: 298.65 | F13: =ROUND(D13*E13,2) -> 0
A14: =A13+1 -> 6 | B14: Доставка и полагане на 45 см трошен камък (БДС 2282-83) - Е = 200 МРа | C14: m3 | D14: 238.95 | F14: =ROUND(D14*E14,2) -> 0
A15: =A14+1 -> 7 | B15: Доставка и полагане на плътен асфалтобетон d=4 см,(БДС 4132-90) - Е = 1200 МРа | C15: t | D15: 57.312 | F15: =ROUND(D15*E15,2) -> 0
A16: =A15+1 -> 8 | B16: Доставка и полагане на неплътен асфалтобетон d=4 см, (БДС 4132-90)- Е = 1000 МРа | C16: t | D16: 0 | F16: =ROUND(D16*E16,2) -> 0
A17: =A16+1 -> 9 | B17: Доставка и полагане на неплътен асфалтобетон d=6 см, (БДС 4132-90) - Е = 800 МРа | C17: t | D17: 85.968 | F17: =ROUND(D17*E17,2) -> 0
A18: =A17+1 -> 10 | B18: Доставка и полагане на битумизиран трошен кавък d=10 см, (БДС 4132-90) - Е = 800 МРа | C18: t | D18: 0 | F18: =ROUND(D18*E18,2) -> 0
A19: =A18+1 -> 11 | B19: Пръскане с емулсия между неплътния асфалтобетон | C19: m2 | D19: 597 | F19: =ROUND(D19*E19,2) -> 0
A20: =A19+1 -> 12 | B20: Заливка с битум (стар/нов асфалт) | C20: m' | D20: 1194 | F20: =ROUND(D20*E20,2) -> 0
A22: =A21+1 -> 1 | B22: Разваляне на съществуващ паваж | C22: m2 | D22: 0 | F22: =ROUND(D22*E22,2) -> 0
... A30: =A29+1 -> 6 | B30: Възстановяване на тротоари с бетонови плочи 40/40/5см (БДС 625) вкл. | C30: m2 | D30: 39.6 | F30: =ROUND(D30*E30,2) -> 0
B31: - 3 см вароциментов разтвор
B32: - 18 см трошен камък (БДС 2282-83)- Е = 200 МРа
B33: Земни работи
B34: =КСС1!B$34 -> Изкопи в 20% з.п. и 80% ск.п.
B35: за водопровод | C35: м³ | D35: 1003.59
B36: за сградни отклонения | C36: м³ | D36: 209.44
B37: за пожарни хидранти | C37: м³ | D37: 5.4
B38: Всичко изкопи | C38: м³ | D38: =SUM(D35:D37) -> 1218.43
B39: в т.ч. земни почви | C39: м³ | D39: =D38-D40 -> 243.69
B40: скални почви | C40: м³ | D40: =ROUND(D38*80%,2) -> 974.74
A41: 1 | B41: Изкоп с багер на земни почви с ограничена шир. по улици | C41: м³ | D41: =D39-D42 -> 194.95 | F41: =ROUND(D41*E41,2) -> 0
A42: 2 | B42: Изкоп до 1.20м шир. и до 2м дълб.земни почви - ръчно по улици | C42: м³ | D42: =ROUND(D39*20%,2) -> 48.74 | F42: =ROUND(D42*E42,2) -> 0
A43: 3 | B43: Натоварване на земни почви с багер на транспорт | C43: м³ | D43: =D42 -> 48.74 | F43: =ROUND(D43*E43,2) -> 0
A44: 3 | B44: Превоз земни почви със самосвал на депо | C44: м³ | D44: =D39 -> 243.69 | F44: =ROUND(D44*E44,2) -> 0
A45: 4 | B45: Разриване с булдозер земни почви на депото или такса депо | C45: м³ | D45: =D44 -> 243.69 | F45: =ROUND(D45*E45,2) -> 0
A46: 5 | B46: =КСС1!B$46 -> Изкоп до 1.20м шир. и до 2м. дълб. скални почви | C46: м³ | D46: =D40 -> 974.74 | F46: =ROUND(D46*E46,2) -> 0
A47: 6 | B47: Натоварване на скални почви с багер на транспорт | C47: м³ | D47: =D46 -> 974.74 | F47: =ROUND(D47*E47,2) -> 0
A48: 7 | B48: Превоз скални почви със самосвал на депо | C48: м³ | D48: =D46 -> 974.74 | F48: =ROUND(D48*E48,2) -> 0
...

Sheet КСС13
B1: Количествено-стойностна сметка № 13
B2: Обект: „Реконструкция на водоснабдителна система – гр.Земен”
F3: ул. Ал.Стамболийски
D4: Ф110
A5: № | B5: Наименование | C5: мярка | D5: кол-во | E5: цена | F5: стойност
B6: Изпълнение на водопровод Ф110
A7: I | B7: Водопровод - строителни работи
B8: Пътни работи
A9: 1 | B9: Рязане на асфалт | C9: m' | D9: 510 | F9: =ROUND(D9*E9,2) -> 0
A10: =A9+1 -> 2 | B10: Разваляне на съществуваща асфалтова настилка | C10: m2 | D10: 255 | F10: =ROUND(D10*E10,2) -> 0
A11: =A10+1 -> 3 | B11: Разваляне на съществуваща трошенокаменна настилка - 0,15+0,30 m | C11: m3 | D11: 104.85 | F11: =ROUND(D11*E11,2) -> 0
A12: =A11+1 -> 4 | B12: Натоварване на строителни отпадъци на самосвал | C12: m3 | D12: 130.35 | F12: =ROUND(D12*E12,2) -> 0
A13: =A12+1 -> 5 | B13: Извозване на строителни отпадъци - 15 km и такса стр.отпадъци | C13: m3 | D13: 130.35 | F13: =ROUND(D13*E13,2) -> 0
A14: =A13+1 -> 6 | B14: Доставка и полагане на 45 см трошен камък (БДС 2282-83) - Е = 200 МРа | C14: m3 | D14: 104.85 | F14: =ROUND(D14*E14,2) -> 0
A15: =A14+1 -> 7 | B15: Доставка и полагане на плътен асфалтобетон d=4 см,(БДС 4132-90) - Е = 1200 МРа | C15: t | D15: 24.48 | F15: =ROUND(D15*E15,2) -> 0
A16: =A15+1 -> 8 | B16: Доставка и полагане на неплътен асфалтобетон d=4 см, (БДС 4132-90)- Е = 1000 МРа | C16: t | D16: 0 | F16: =ROUND(D16*E16,2) -> 0
A17: =A16+1 -> 9 | B17: Доставка и полагане на неплътен асфалтобетон d=6 см, (БДС 4132-90) - Е = 800 МРа | C17: t | D17: 36.72 | F17: =ROUND(D17*E17,2) -> 0
A18: =A17+1 -> 10 | B18: Доставка и полагане на битумизиран трошен кавък d=10 см, (БДС 4132-90) - Е = 800 МРа | C18: t | D18: 0 | F18: =ROUND(D18*E18,2) -> 0
A19: =A18+1 -> 11 | B19: Пръскане с емулсия между неплътния асфалтобетон | C19: m2 | D19: 255 | F19: =ROUND(D19*E19,2) -> 0
A20: =A19+1 -> 12 | B20: Заливка с битум (стар/нов асфалт) | C20: m' | D20: 510 | F20: =ROUND(D20*E20,2) -> 0
A22: =A21+1 -> 1 | B22: Разваляне на съществуващ паваж | C22: m2 | D22: 0 | F22: =ROUND(D22*E22,2) -> 0
... A30: =A29+1 -> 6 | B30: Възстановяване на тротоари с бетонови плочи 40/40/5см (БДС 625) вкл. | C30: m2 | D30: 13.2 | F30: =ROUND(D30*E30,2) -> 0
B31: - 3 см вароциментов разтвор
B32: - 18 см трошен камък (БДС 2282-83)- Е = 200 МРа
B33: Земни работи
B34: =КСС1!B$34 -> Изкопи в 20% з.п. и 80% ск.п.
B35: за водопровод | C35: м³ | D35: 427.788
B36: за сградни отклонения | C36: м³ | D36: 71.4
B37: за пожарни хидранти | C37: м³ | D37: 12.6
B38: Всичко изкопи | C38: м³ | D38: =SUM(D35:D37) -> 511.788
B39: в т.ч. земни почви | C39: м³ | D39: =D38-D40 -> 102.358
B40: скални почви | C40: м³ | D40: =ROUND(D38*80%,2) -> 409.43
A41: 1 | B41: Изкоп с багер на земни почви с ограничена шир. по улици | C41: м³ | D41: =D39-D42 -> 81.888 | F41: =ROUND(D41*E41,2) -> 0
A42: 2 | B42: Изкоп до 1.20м шир. и до 2м дълб.земни почви - ръчно по улици | C42: м³ | D42: =ROUND(D39*20%,2) -> 20.47 | F42: =ROUND(D42*E42,2) -> 0
A43: 3 | B43: Натоварване на земни почви с багер на транспорт | C43: м³ | D43: =D42 -> 20.47 | F43: =ROUND(D43*E43,2) -> 0
A44: 3 | B44: Превоз земни почви със самосвал на депо | C44: м³ | D44: =D39 -> 102.358 | F44: =ROUND(D44*E44,2) -> 0
A45: 4 | B45: Разриване с булдозер земни почви на депото или такса депо | C45: м³ | D45: =D44 -> 102.358 | F45: =ROUND(D45*E45,2) -> 0
A46: 5 | B46: =КСС1!B$46 -> Изкоп до 1.20м шир. и до 2м. дълб. скални почви | C46: м³ | D46: =D40 -> 409.43 | F46: =ROUND(D46*E46,2) -> 0
A47: 6 | B47: Натоварване на скални почви с багер на транспорт | C47: м³ | D47: =D46 -> 409.43 | F47: =ROUND(D47*E47,2) -> 0
A48: 7 | B48: Превоз скални почви със самосвал на депо | C48: м³ | D48: =D46 -> 409.43 | F48: =ROUND(D48*E48,2) -> 0
...

Sheet КСС11
B1: Количествено-стойностна сметка № 11
B2: Обект: „Реконструкция на водоснабдителна система – гр.Земен”
F3: ул. И.Стойнев
D4: Ф140
A5: № | B5: Наименование | C5: мярка | D5: кол-во | E5: цена | F5: стойност
B6: Изпълнение на водопровод Ф140
A7: I | B7: Водопровод - строителни работи
B8: Пътни работи
A9: 1 | B9: Рязане на асфалт | C9: m' | D9: 408 | F9: =ROUND(D9*E9,2) -> 0
A10: =A9+1 -> 2 | B10: Разваляне на съществуваща асфалтова настилка | C10: m2 | D10: 204 | F10: =ROUND(D10*E10,2) -> 0
A11: =A10+1 -> 3 | B11: Разваляне на съществуваща трошенокаменна настилка - 0,15+0,30 m | C11: m3 | D11: 87.3 | F11: =ROUND(D11*E11,2) -> 0
A12: =A11+1 -> 4 | B12: Натоварване на строителни отпадъци на самосвал | C12: m3 | D12: 107.7 | F12: =ROUND(D12*E12,2) -> 0
A13: =A12+1 -> 5 | B13: Извозване на строителни отпадъци - 15 km и такса стр.отпадъци | C13: m3 | D13: 107.7 | F13: =ROUND(D13*E13,2) -> 0
A14: =A13+1 -> 6 | B14: Доставка и полагане на 45 см трошен камък (БДС 2282-83) - Е = 200 МРа | C14: m3 | D14: 87.3 | F14: =ROUND(D14*E14,2) -> 0
A15: =A14+1 -> 7 | B15: Доставка и полагане на плътен асфалтобетон d=4 см,(БДС 4132-90) - Е = 1200 МРа | C15: t | D15: 19.584 | F15: =ROUND(D15*E15,2) -> 0
A16: =A15+1 -> 8 | B16: Доставка и полагане на неплътен асфалтобетон d=4 см, (БДС 4132-90)- Е = 1000 МРа | C16: t | D16: 0 | F16: =ROUND(D16*E16,2) -> 0
A17: =A16+1 -> 9 | B17: Доставка и полагане на неплътен асфалтобетон d=6 см, (БДС 4132-90) - Е = 800 МРа | C17: t | D17: 29.376 | F17: =ROUND(D17*E17,2) -> 0
A18: =A17+1 -> 10 | B18: Доставка и полагане на битумизиран трошен кавък d=10 см, (БДС 4132-90) - Е = 800 МРа | C18: t | D18: 0 | F18: =ROUND(D18*E18,2) -> 0
A19: =A18+1 -> 11 | B19: Пръскане с емулсия между неплътния асфалтобетон | C19: m2 | D19: 204 | F19: =ROUND(D19*E19,2) -> 0
A20: =A19+1 -> 12 | B20: Заливка с битум (стар/нов асфалт) | C20: m' | D20: 408 | F20: =ROUND(D20*E20,2) -> 0
A22: =A21+1 -> 1 | B22: Разваляне на съществуващ паваж | C22: m2 | D22: 0 | F22: =ROUND(D22*E22,2) -> 0
... A30: =A29+1 -> 6 | B30: Възстановяване на тротоари с бетонови плочи 40/40/5см (БДС 625) вкл. | C30: m2 | D30: 6 | F30: =ROUND(D30*E30,2) -> 0
B31: - 3 см вароциментов разтвор
B32: - 18 см трошен камък (БДС 2282-83)- Е = 200 МРа
B33: Земни работи
B34: =КСС1!B$34 -> Изкопи в 20% з.п. и 80% ск.п.
B35: за водопровод | C35: м³ | D35: 366.66
B36: за сградни отклонения | C36: м³ | D36: 36.89
B37: за пожарни хидранти | C37: м³ | D37: 5.4
B38: Всичко изкопи | C38: м³ | D38: =SUM(D35:D37) -> 408.95
B39: в т.ч. земни почви | C39: м³ | D39: =D38-D40 -> 81.79
B40: скални почви | C40: м³ | D40: =ROUND(D38*80%,2) -> 327.16
A41: 1 | B41: Изкоп с багер на земни почви с ограничена шир. по улици | C41: м³ | D41: =D39-D42 -> 65.43 | F41: =ROUND(D41*E41,2) -> 0
A42: 2 | B42: Изкоп до 1.20м шир. и до 2м дълб.земни почви - ръчно по улици | C42: м³ | D42: =ROUND(D39*20%,2) -> 16.36 | F42: =ROUND(D42*E42,2) -> 0
A43: 3 | B43: Натоварване на земни почви с багер на транспорт | C43: м³ | D43: =D42 -> 16.36 | F43: =ROUND(D43*E43,2) -> 0
A44: 3 | B44: Превоз земни почви със самосвал на депо | C44: м³ | D44: =D39 -> 81.79 | F44: =ROUND(D44*E44,2) -> 0
A45: 4 | B45: Разриване с булдозер земни почви на депото или такса депо | C45: м³ | D45: =D44 -> 81.79 | F45: =ROUND(D45*E45,2) -> 0
A46: 5 | B46: =КСС1!B$46 -> Изкоп до 1.20м шир. и до 2м. дълб. скални почви | C46: м³ | D46: =D40 -> 327.16 | F46: =ROUND(D46*E46,2) -> 0
A47: 6 | B47: Натоварване на скални почви с багер на транспорт | C47: м³ | D47: =D46 -> 327.16 | F47: =ROUND(D47*E47,2) -> 0
A48: 7 | B48: Превоз скални почви със самосвал на депо | C48: м³ | D48: =D46 -> 327.16 | F48: =ROUND(D48*E48,2) -> 0
...

Sheet КСС10
B1: Количествено-стойностна сметка № 10
B2: Обект: „Реконструкция на водоснабдителна система – гр.Земен”
F3: ул. Р.Даскалов
D4: Ф110
A5: № | B5: Наименование | C5: мярка | D5: кол-во | E5: цена | F5: стойност
B6: Изпълнение на водопровод Ф110
A7: I | B7: Водопровод - строителни работи
B8: Пътни работи
A9: 1 | B9: Рязане на асфалт | C9: m' | D9: 562 | F9: =D9*E9 -> 0
A10: =A9+1 -> 2 | B10: Разваляне на съществуваща асфалтова настилка | C10: m2 | D10: 281 | F10: =D10*E10 -> 0
A11: =A10+1 -> 3 | B11: Разваляне на съществуваща трошенокаменна настилка - 0,15+0,30 m | C11: m3 | D11: 116.55 | F11: =D11*E11 -> 0
A12: =A11+1 -> 4 | B12: Натоварване на строителни отпадъци на самосвал | C12: m3 | D12: 144.65 | F12: =D12*E12 -> 0
A13: =A12+1 -> 5 | B13: Извозване на строителни отпадъци - 15 km и такса стр.отпадъци | C13: m3 | D13: 144.65 | F13: =D13*E13 -> 0
A14: =A13+1 -> 6 | B14: Доставка и полагане на 45 см трошен камък (БДС 2282-83) - Е = 200 МРа | C14: m3 | D14: 116.55 | F14: =D14*E14 -> 0
A15: =A14+1 -> 7 | B15: Доставка и полагане на плътен асфалтобетон d=4 см,(БДС 4132-90) - Е = 1200 МРа | C15: t | D15: 26.976 | F15: =D15*E15 -> 0
A16: =A15+1 -> 8 | B16: Доставка и полагане на неплътен асфалтобетон d=4 см, (БДС 4132-90)- Е = 1000 МРа | C16: t | D16: 0 | F16: =D16*E16 -> 0
A17: =A16+1 -> 9 | B17: Доставка и полагане на неплътен асфалтобетон d=6 см, (БДС 4132-90) - Е = 800 МРа | C17: t | D17: 40.464 | F17: =D17*E17 -> 0
A18: =A17+1 -> 10 | B18: Доставка и полагане на битумизиран трошен кавък d=10 см, (БДС 4132-90) - Е = 800 МРа | C18: t | D18: 0 | F18: =D18*E18 -> 0
A19: =A18+1 -> 11 | B19: Пръскане с емулсия между неплътния асфалтобетон | C19: m2 | D19: 281 | F19: =D19*E19 -> 0
A20: =A19+1 -> 12 | B20: Заливка с битум (стар/нов асфалт) | C20: m' | D20: 562 | F20: =D20*E20 -> 0
A22: =A21+1 -> 1 | B22: Разваляне на съществуващ паваж | C22: m2 | D22: 0 | F22: =D22*E22 -> 0
... A30: =A29+1 -> 6 | B30: Възстановяване на тротоари с бетонови плочи 40/40/5см (БДС 625) вкл. | C30: m2 | D30: 13.2 | F30: =D30*E30 -> 0
B31: - 3 см вароциментов разтвор
B32: - 18 см трошен камък (БДС 2282-83)- Е = 200 МРа
B33: Земни работи
B34: =КСС1!B$34 -> Изкопи в 20% з.п. и 80% ск.п.
B35: за водопровод | C35: м³ | D35: 475.524
B36: за сградни отклонения | C36: м³ | D36: 71.995
B37: за пожарни хидранти | C37: м³ | D37: 3.6
B38: Всичко изкопи | C38: м³ | D38: =SUM(D35:D37) -> 551.119
B39: в т.ч. земни почви | C39: м³ | D39: =D38-D40 -> 110.219
B40: скални почви | C40: м³ | D40: =ROUND(D38*80%,2) -> 440.9
A41: 1 | B41: Изкоп с багер на земни почви с ограничена шир. по улици | C41: м³ | D41: =D39-D42 -> 88.179 | F41: =ROUND(D41*E41,2) -> 0
A42: 2 | B42: Изкоп до 1.20м шир. и до 2м дълб.земни почви - ръчно по улици | C42: м³ | D42: =ROUND(D39*20%,2) -> 22.04 | F42: =ROUND(D42*E42,2) -> 0
A43: 3 | B43: Натоварване на земни почви с багер на транспорт | C43: м³ | D43: =D42 -> 22.04 | F43: =ROUND(D43*E43,2) -> 0
A44: 3 | B44: Превоз земни почви със самосвал на депо | C44: м³ | D44: =D39 -> 110.219 | F44: =ROUND(D44*E44,2) -> 0
A45: 4 | B45: Разриване с булдозер земни почви на депото или такса депо | C45: м³ | D45: =D44 -> 110.219 | F45: =ROUND(D45*E45,2) -> 0
A46: 5 | B46: =КСС1!B$46 -> Изкоп до 1.20м шир. и до 2м. дълб. скални почви | C46: м³ | D46: =D40 -> 440.9 | F46: =ROUND(D46*E46,2) -> 0
A47: 6 | B47: Натоварване на скални почви с багер на транспорт | C47: м³ | D47: =D46 -> 440.9 | F47: =ROUND(D47*E47,2) -> 0
A48: 7 | B48: Превоз скални почви със самосвал на депо | C48: м³ | D48: =D46 -> 440.9 | F48: =ROUND(D48*E48,2) -> 0
...

Sheet КСС9
B1: Количествено-стойностна сметка № 9
B2: Обект: „Реконструкция на водоснабдителна система – гр.Земен”
F3: ул. Р.Даскалов, ул. Албена, ул. Баба Тонка, ул. Петър Берон, ул. А.Златаров, ул. Х.Димитър, ул. Г.Лазаров
D4: Ф90
A5: № | B5: Наименование | C5: мярка | D5: кол-во | E5: цена | F5: стойност
B6: Изпълнение на водопровод Ф90
A7: I | B7: Водопровод - строителни работи
B8: Пътни работи
A9: 1 | B9: Рязане на асфалт | C9: m' | D9: 3164 | F9: =ROUND(D9*E9,2) -> 0
A10: =A9+1 -> 2 | B10: Разваляне на съществуваща асфалтова настилка | C10: m2 | D10: 1582 | F10: =ROUND(D10*E10,2) -> 0
A11: =A10+1 -> 3 | B11: Разваляне на съществуваща трошенокаменна настилка - 0,15+0,30 m | C11: m3 | D11: 1039.5 | F11: =ROUND(D11*E11,2) -> 0
A12: =A11+1 -> 4 | B12: Натоварване на строителни отпадъци на самосвал | C12: m3 | D12: 1197.7 | F12: =ROUND(D12*E12,2) -> 0
A13: =A12+1 -> 5 | B13: Извозване на строителни отпадъци - 15 km и такса стр.отпадъци | C13: m3 | D13: 1197.7 | F13: =ROUND(D13*E13,2) -> 0
A14: =A13+1 -> 6 | B14: Доставка и полагане на 45 см трошен камък (БДС 2282-83) - Е = 200 МРа | C14: m3 | D14: 1039.5 | F14: =ROUND(D14*E14,2) -> 0
A15: =A14+1 -> 7 | B15: Доставка и полагане на плътен асфалтобетон d=4 см,(БДС 4132-90) - Е = 1200 МРа | C15: t | D15: 151.872 | F15: =ROUND(D15*E15,2) -> 0
A16: =A15+1 -> 8 | B16: Доставка и полагане на неплътен асфалтобетон d=4 см, (БДС 4132-90)- Е = 1000 МРа | C16: t | D16: 0 | F16: =ROUND(D16*E16,2) -> 0
A17: =A16+1 -> 9 | B17: Доставка и полагане на неплътен асфалтобетон d=6 см, (БДС 4132-90) - Е = 800 МРа | C17: t | D17: 227.808 | F17: =ROUND(D17*E17,2) -> 0
A18: =A17+1 -> 10 | B18: Доставка и полагане на битумизиран трошен кавък d=10 см, (БДС 4132-90) - Е = 800 МРа | C18: t | D18: 0 | F18: =ROUND(D18*E18,2) -> 0
A19: =A18+1 -> 11 | B19: Пръскане с емулсия между неплътния асфалтобетон | C19: m2 | D19: 1582 | F19: =ROUND(D19*E19,2) -> 0
A20: =A19+1 -> 12 | B20: Заливка с битум (стар/нов асфалт) | C20: m' | D20: 3164 | F20: =ROUND(D20*E20,2) -> 0
A22: =A21+1 -> 1 | B22: Разваляне на съществуващ паваж | C22: m2 | D22: 0 | F22: =ROUND(D22*E22,2) -> 0
... A30: =A29+1 -> 6 | B30: Възстановяване на тротоари с бетонови плочи 40/40/5см (БДС 625) вкл. | C30: m2 | D30: 176.4 | F30: =ROUND(D30*E30,2) -> 0
B31: - 3 см вароциментов разтвор
B32: - 18 см трошен камък (БДС 2282-83)- Е = 200 МРа
B33: Земни работи
B34: =КСС1!B$34 -> Изкопи в 20% з.п. и 80% ск.п.
B35: за водопровод | C35: м³ | D35: 4158
B36: за сградни отклонения | C36: м³ | D36: 965.685
B37: за пожарни хидранти | C37: м³ | D37: 39.6
B38: Всичко изкопи | C38: м³ | D38: =SUM(D35:D37) -> 5163.285
B39: в т.ч. земни почви | C39: м³ | D39: =D38-D40 -> 1032.655
B40: скални почви | C40: м³ | D40: =ROUND(D38*80%,2) -> 4130.63
A41: 1 | B41: Изкоп с багер на земни почви с ограничена шир. по улици | C41: м³ | D41: =D39-D42 -> 826.125 | F41: =ROUND(D41*E41,2) -> 0
A42: 2 | B42: Изкоп до 1.20м шир. и до 2м дълб.земни почви - ръчно по улици | C42: м³ | D42: =ROUND(D39*20%,2) -> 206.53 | F42: =ROUND(D42*E42,2) -> 0
A43: 3 | B43: Натоварване на земни почви с багер на транспорт | C43: м³ | D43: =D42 -> 206.53 | F43: =ROUND(D43*E43,2) -> 0
A44: 3 | B44: Превоз земни почви със самосвал на депо | C44: м³ | D44: =D39 -> 1032.655 | F44: =ROUND(D44*E44,2) -> 0
A45: 4 | B45: Разриване с булдозер земни почви на депото или такса депо | C45: м³ | D45: =D44 -> 1032.655 | F45: =ROUND(D45*E45,2) -> 0
A46: 5 | B46: =КСС1!B$46 -> Изкоп до 1.20м шир. и до 2м. дълб. скални почви | C46: м³ | D46: =D40 -> 4130.63 | F46: =ROUND(D46*E46,2) -> 0
A47: 6 | B47: Натоварване на скални почви с багер на транспорт | C47: м³ | D47: =D46 -> 4130.63 | F47: =ROUND(D47*E47,2) -> 0
A48: 7 | B48: Превоз скални почви със самосвал на депо | C48: м³ | D48: =D46 -> 4130.63 | F48: =ROUND(D48*E48,2) -> 0
...

Sheet КСС8
B1: Количествено-стойностна сметка № 8
B2: Обект: „Реконструкция на водоснабдителна система – гр.Земен”
F3: ул. Белово
D4: Ф160
A5: № | B5: Наименование | C5: мярка | D5: кол-во | E5: цена | F5: стойност
B6: Изпълнение на водопровод Ф160
A7: I | B7: Водопровод - строителни работи
B8: Пътни работи
A9: 1 | B9: Рязане на асфалт | C9: m' | D9: 18 | F9: =ROUND(D9*E9,2) -> 0
A10: =A9+1 -> 2 | B10: Разваляне на съществуваща асфалтова настилка | C10: m2 | D10: 9 | F10: =ROUND(D10*E10,2) -> 0
A11: =A10+1 -> 3 | B11: Разваляне на съществуваща трошенокаменна настилка - 0,15+0,30 m | C11: m3 | D11: 90.45 | F11: =ROUND(D11*E11,2) -> 0
A12: =A11+1 -> 4 | B12: Натоварване на строителни отпадъци на самосвал | C12: m3 | D12: 91.35 | F12: =ROUND(D12*E12,2) -> 0
A13: =A12+1 -> 5 | B13: Извозване на строителни отпадъци - 15 km и такса стр.отпадъци | C13: m3 | D13: 91.35 | F13: =ROUND(D13*E13,2) -> 0
A14: =A13+1 -> 6 | B14: Доставка и полагане на 45 см трошен камък (БДС 2282-83) - Е = 200 МРа | C14: m3 | D14: 90.45 | F14: =ROUND(D14*E14,2) -> 0
A15: =A14+1 -> 7 | B15: Доставка и полагане на плътен асфалтобетон d=4 см,(БДС 4132-90) - Е = 1200 МРа | C15: t | D15: 0.864 | F15: =ROUND(D15*E15,2) -> 0
A16: =A15+1 -> 8 | B16: Доставка и полагане на неплътен асфалтобетон d=4 см, (БДС 4132-90)- Е = 1000 МРа | C16: t | D16: 0 | F16: =ROUND(D16*E16,2) -> 0
A17: =A16+1 -> 9 | B17: Доставка и полагане на неплътен асфалтобетон d=6 см, (БДС 4132-90) - Е = 800 МРа | C17: t | D17: 1.296 | F17: =ROUND(D17*E17,2) -> 0
A18: =A17+1 -> 10 | B18: Доставка и полагане на битумизиран трошен кавък d=10 см, (БДС 4132-90) - Е = 800 МРа | C18: t | D18: 0 | F18: =ROUND(D18*E18,2) -> 0
A19: =A18+1 -> 11 | B19: Пръскане с емулсия между неплътния асфалтобетон | C19: m2 | D19: 9 | F19: =ROUND(D19*E19,2) -> 0
A20: =A19+1 -> 12 | B20: Заливка с битум (стар/нов асфалт) | C20: m' | D20: 18 | F20: =ROUND(D20*E20,2) -> 0
A22: =A21+1 -> 1 | B22: Разваляне на съществуващ паваж | C22: m2 | D22: 0 | F22: =ROUND(D22*E22,2) -> 0
... A30: =A29+1 -> 6 | B30: Възстановяване на тротоари с бетонови плочи 40/40/5см (БДС 625) вкл. | C30: m2 | D30: 0 | F30: =ROUND(D30*E30,2) -> 0
B31: - 3 см вароциментов разтвор
B32: - 18 см трошен камък (БДС 2282-83)- Е = 200 МРа
B33: Земни работи
B34: =КСС1!B$34 -> Изкопи в 20% з.п. и 80% ск.п.
B35: за водопровод | C35: м³ | D35: 387.126
B36: за сградни отклонения | C36: м³ | D36: 0
B37: за пожарни хидранти | C37: м³ | D37: 3.6
B38: Всичко изкопи | C38: м³ | D38: =SUM(D35:D37) -> 390.726
B39: в т.ч. земни почви | C39: м³ | D39: =D38-D40 -> 78.146
B40: скални почви | C40: м³ | D40: =ROUND(D38*80%,2) -> 312.58
A41: 1 | B41: Изкоп с багер на земни почви с ограничена шир. по улици | C41: м³ | D41: =D39-D42 -> 62.516 | F41: =ROUND(D41*E41,2) -> 0
A42: 2 | B42: Изкоп до 1.20м шир. и до 2м дълб.земни почви - ръчно по улици | C42: м³ | D42: =ROUND(D39*20%,2) -> 15.63 | F42: =ROUND(D42*E42,2) -> 0
A43: 3 | B43: Натоварване на земни почви с багер на транспорт | C43: м³ | D43: =D42 -> 15.63 | F43: =ROUND(D43*E43,2) -> 0
A44: 3 | B44: Превоз земни почви със самосвал на депо | C44: м³ | D44: =D39 -> 78.146 | F44: =ROUND(D44*E44,2) -> 0
A45: 4 | B45: Разриване с булдозер земни почви на депото или такса депо | C45: м³ | D45: =D44 -> 78.146 | F45: =ROUND(D45*E45,2) -> 0
A46: 5 | B46: =КСС1!B$46 -> Изкоп до 1.20м шир. и до 2м. дълб. скални почви | C46: м³ | D46: =D40 -> 312.58 | F46: =ROUND(D46*E46,2) -> 0
A47: 6 | B47: Натоварване на скални почви с багер на транспорт | C47: м³ | D47: =D46 -> 312.58 | F47: =ROUND(D47*E47,2) -> 0
A48: 7 | B48: Превоз скални почви със самосвал на депо | C48: м³ | D48: =D46 -> 312.58 | F48: =ROUND(D48*E48,2) -> 0
...

Sheet КСС7
B1: Количествено-стойностна сметка № 7
B2: Обект: „Реконструкция на водоснабдителна система – гр.Земен”
F3: ул. Груйова
D4: Ф140
A5: № | B5: Наименование | C5: мярка | D5: кол-во | E5: цена | F5: стойност
B6: Изпълнение на водопровод Ф140
A7: I | B7: Водопровод - строителни работи
B8: Пътни работи
A9: 1 | B9: Рязане на асфалт | C9: m' | D9: 204 | F9: =ROUND(D9*E9,2) -> 0
A10: =A9+1 -> 2 | B10: Разваляне на съществуваща асфалтова настилка | C10: m2 | D10: 102 | F10: =ROUND(D10*E10,2) -> 0
A11: =A10+1 -> 3 | B11: Разваляне на съществуваща трошенокаменна настилка - 0,15+0,30 m | C11: m3 | D11: 41.4 | F11: =ROUND(D11*E11,2) -> 0
A12: =A11+1 -> 4 | B12: Натоварване на строителни отпадъци на самосвал | C12: m3 | D12: 51.6 | F12: =ROUND(D12*E12,2) -> 0
A13: =A12+1 -> 5 | B13: Извозване на строителни отпадъци - 15 km и такса стр.отпадъци | C13: m3 | D13: 51.6 | F13: =ROUND(D13*E13,2) -> 0
A14: =A13+1 -> 6 | B14: Доставка и полагане на 45 см трошен камък (БДС 2282-83) - Е = 200 МРа | C14: m3 | D14: 41.4 | F14: =ROUND(D14*E14,2) -> 0
A15: =A14+1 -> 7 | B15: Доставка и полагане на плътен асфалтобетон d=4 см,(БДС 4132-90) - Е = 1200 МРа | C15: t | D15: 9.792 | F15: =ROUND(D15*E15,2) -> 0
A16: =A15+1 -> 8 | B16: Доставка и полагане на неплътен асфалтобетон d=4 см, (БДС 4132-90)- Е = 1000 МРа | C16: t | D16: 0 | F16: =ROUND(D16*E16,2) -> 0
A17: =A16+1 -> 9 | B17: Доставка и полагане на неплътен асфалтобетон d=6 см, (БДС 4132-90) - Е = 800 МРа | C17: t | D17: 14.688 | F17: =ROUND(D17*E17,2) -> 0
A18: =A17+1 -> 10 | B18: Доставка и полагане на битумизиран трошен кавък d=10 см, (БДС 4132-90) - Е = 800 МРа | C18: t | D18: 0 | F18: =ROUND(D18*E18,2) -> 0
A19: =A18+1 -> 11 | B19: Пръскане с емулсия между неплътния асфалтобетон | C19: m2 | D19: 102 | F19: =ROUND(D19*E19,2) -> 0
A20: =A19+1 -> 12 | B20: Заливка с битум (стар/нов асфалт) | C20: m' | D20: 204 | F20: =ROUND(D20*E20,2) -> 0
A22: =A21+1 -> 1 | B22: Разваляне на съществуващ паваж | C22: m2 | D22: 0 | F22: =ROUND(D22*E22,2) -> 0
... A30: =A29+1 -> 6 | B30: Възстановяване на тротоари с бетонови плочи 40/40/5см (БДС 625) вкл. | C30: m2 | D30: 6 | F30: =ROUND(D30*E30,2) -> 0
B31: - 3 см вароциментов разтвор
B32: - 18 см трошен камък (БДС 2282-83)- Е = 200 МРа
B33: Земни работи
B34: =КСС1!B$34 -> Изкопи в 20% з.п. и 80% ск.п.
B35: за водопровод | C35: м³ | D35: 173.88
B36: за сградни отклонения | C36: м³ | D36: 32.725
B37: за пожарни хидранти | C37: м³ | D37: 0
B38: Всичко изкопи | C38: м³ | D38: =SUM(D35:D37) -> 206.605
B39: в т.ч. земни почви | C39: м³ | D39: =D38-D40 -> 41.325
B40: скални почви | C40: м³ | D40: =ROUND(D38*80%,2) -> 165.28
A41: 1 | B41: Изкоп с багер на земни почви с ограничена шир. по улици | C41: м³ | D41: =D39-D42 -> 33.055 | F41: =ROUND(D41*E41,2) -> 0
A42: 2 | B42: Изкоп до 1.20м шир. и до 2м дълб.земни почви - ръчно по улици | C42: м³ | D42: =ROUND(D39*20%,2) -> 8.27 | F42: =ROUND(D42*E42,2) -> 0
A43: 3 | B43: Натоварване на земни почви с багер на транспорт | C43: м³ | D43: =D42 -> 8.27 | F43: =ROUND(D43*E43,2) -> 0
A44: 3 | B44: Превоз земни почви със самосвал на депо | C44: м³ | D44: =D39 -> 41.325 | F44: =ROUND(D44*E44,2) -> 0
A45: 4 | B45: Разриване с булдозер земни почви на депото или такса депо | C45: м³ | D45: =D44 -> 41.325 | F45: =ROUND(D45*E45,2) -> 0
A46: 5 | B46: =КСС1!B$46 -> Изкоп до 1.20м шир. и до 2м. дълб. скални почви | C46: м³ | D46: =D40 -> 165.28 | F46: =ROUND(D46*E46,2) -> 0
A47: 6 | B47: Натоварване на скални почви с багер на транспорт | C47: м³ | D47: =D46 -> 165.28 | F47: =ROUND(D47*E47,2) -> 0
A48: 7 | B48: Превоз скални почви със самосвал на депо | C48: м³ | D48: =D46 -> 165.28 | F48: =ROUND(D48*E48,2) -> 0
...

Sheet КСС6
B1: Количествено-стойностна сметка № 6
B2: Обект: „Реконструкция на водоснабдителна система – гр.Земен”
F3: ул. Е.Арсов, ул. Белово
D4: Ф110
A5: № | B5: Наименование | C5: мярка | D5: кол-во | E5: цена | F5: стойност
B6: Изпълнение на водопровод Ф110
A7: I | B7: Водопровод - строителни работи
B8: Пътни работи
A9: 1 | B9: Рязане на асфалт | C9: m' | D9: 978 | F9: =ROUND(D9*E9,2) -> 0
A10: =A9+1 -> 2 | B10: Разваляне на съществуваща асфалтова настилка | C10: m2 | D10: 489 | F10: =ROUND(D10*E10,2) -> 0
A11: =A10+1 -> 3 | B11: Разваляне на съществуваща трошенокаменна настилка - 0,15+0,30 m | C11: m3 | D11: 255.15 | F11: =ROUND(D11*E11,2) -> 0
A12: =A11+1 -> 4 | B12: Натоварване на строителни отпадъци на самосвал | C12: m3 | D12: 304.05 | F12: =ROUND(D12*E12,2) -> 0
A13: =A12+1 -> 5 | B13: Извозване на строителни отпадъци - 15 km и такса стр.отпадъци | C13: m3 | D13: 304.05 | F13: =ROUND(D13*E13,2) -> 0
A14: =A13+1 -> 6 | B14: Доставка и полагане на 45 см трошен камък (БДС 2282-83) - Е = 200 МРа | C14: m3 | D14: 255.15 | F14: =ROUND(D14*E14,2) -> 0
A15: =A14+1 -> 7 | B15: Доставка и полагане на плътен асфалтобетон d=4 см,(БДС 4132-90) - Е = 1200 МРа | C15: t | D15: 46.944 | F15: =ROUND(D15*E15,2) -> 0
A16: =A15+1 -> 8 | B16: Доставка и полагане на неплътен асфалтобетон d=4 см, (БДС 4132-90)- Е = 1000 МРа | C16: t | D16: 0 | F16: =ROUND(D16*E16,2) -> 0
A17: =A16+1 -> 9 | B17: Доставка и полагане на неплътен асфалтобетон d=6 см, (БДС 4132-90) - Е = 800 МРа | C17: t | D17: 70.416 | F17: =ROUND(D17*E17,2) -> 0
A18: =A17+1 -> 10 | B18: Доставка и полагане на битумизиран трошен кавък d=10 см, (БДС 4132-90) - Е = 800 МРа | C18: t | D18: 0 | F18: =ROUND(D18*E18,2) -> 0
A19: =A18+1 -> 11 | B19: Пръскане с емулсия между неплътния асфалтобетон | C19: m2 | D19: 489 | F19: =ROUND(D19*E19,2) -> 0
A20: =A19+1 -> 12 | B20: Заливка с битум (стар/нов асфалт) | C20: m' | D20: 978 | F20: =ROUND(D20*E20,2) -> 0
A22: =A21+1 -> 1 | B22: Разваляне на съществуващ паваж | C22: m2 | D22: 0 | F22: =ROUND(D22*E22,2) -> 0
... A30: =A29+1 -> 6 | B30: Възстановяване на тротоари с бетонови плочи 40/40/5см (БДС 625) вкл. | C30: m2 | D30: 21.6 | F30: =ROUND(D30*E30,2) -> 0
B31: - 3 см вароциментов разтвор
B32: - 18 см трошен камък (БДС 2282-83)- Е = 200 МРа
B33: Земни работи
B34: =КСС1!B$34 -> Изкопи в 20% з.п. и 80% ск.п.
B35: за водопровод | C35: м³ | D35: 1041.012
B36: за сградни отклонения | C36: м³ | D36: 117.81
B37: за пожарни хидранти | C37: м³ | D37: 12.6
B38: Всичко изкопи | C38: м³ | D38: =SUM(D35:D37) -> 1171.422
B39: в т.ч. земни почви | C39: м³ | D39: =D38-D40 -> 234.282
B40: скални почви | C40: м³ | D40: =ROUND(D38*80%,2) -> 937.14
A41: 1 | B41: Изкоп с багер на земни почви с ограничена шир. по улици | C41: м³ | D41: =D39-D42 -> 187.422 | F41: =ROUND(D41*E41,2) -> 0
A42: 2 | B42: Изкоп до 1.20м шир. и до 2м дълб.земни почви - ръчно по улици | C42: м³ | D42: =ROUND(D39*20%,2) -> 46.86 | F42: =ROUND(D42*E42,2) -> 0
A43: 3 | B43: Натоварване на земни почви с багер на транспорт | C43: м³ | D43: =D42 -> 46.86 | F43: =ROUND(D43*E43,2) -> 0
A44: 3 | B44: Превоз земни почви със самосвал на депо | C44: м³ | D44: =D39 -> 234.282 | F44: =ROUND(D44*E44,2) -> 0
A45: 4 | B45: Разриване с булдозер земни почви на депото или такса депо | C45: м³ | D45: =D44 -> 234.282 | F45: =ROUND(D45*E45,2) -> 0
A46: 5 | B46: =КСС1!B$46 -> Изкоп до 1.20м шир. и до 2м. дълб. скални почви | C46: м³ | D46: =D40 -> 937.14 | F46: =ROUND(D46*E46,2) -> 0
A47: 6 | B47: Натоварване на скални почви с багер на транспорт | C47: м³ | D47: =D46 -> 937.14 | F47: =ROUND(D47*E47,2) -> 0
A48: 7 | B48: Превоз скални почви със самосвал на депо | C48: м³ | D48: =D46 -> 937.14 | F48: =ROUND(D48*E48,2) -> 0
...

Sheet КСС5
B1: Количествено-стойностна сметка № 5
B2: Обект: „Реконструкция на водоснабдителна система – гр.Земен”
F3: ул. Ст.Стамболов, ул. Гео Милев, ул. Гео Милев, ул. Груйова
D4: Ф90
A5: № | B5: Наименование | C5: мярка | D5: кол-во | E5: цена | F5: стойност
B6: Изпълнение на водопровод Ф90
A7: I | B7: Водопровод - строителни работи
B8: Пътни работи
A9: 1 | B9: Рязане на асфалт | C9: m' | D9: 2500 | F9: =ROUND(D9*E9,2) -> 0
A10: =A9+1 -> 2 | B10: Разваляне на съществуваща асфалтова настилка | C10: m2 | D10: 1250 | F10: =ROUND(D10*E10,2) -> 0
A11: =A10+1 -> 3 | B11: Разваляне на съществуваща трошенокаменна настилка - 0,15+0,30 m | C11: m3 | D11: 496.8 | F11: =ROUND(D11*E11,2) -> 0
A12: =A11+1 -> 4 | B12: Натоварване на строителни отпадъци на самосвал | C12: m3 | D12: 621.8 | F12: =ROUND(D12*E12,2) -> 0
A13: =A12+1 -> 5 | B13: Извозване на строителни отпадъци - 15 km и такса стр.отпадъци | C13: m3 | D13: 621.8 | F13: =ROUND(D13*E13,2) -> 0
A14: =A13+1 -> 6 | B14: Доставка и полагане на 45 см трошен камък (БДС 2282-83) - Е = 200 МРа | C14: m3 | D14: 496.8 | F14: =ROUND(D14*E14,2) -> 0
A15: =A14+1 -> 7 | B15: Доставка и полагане на плътен асфалтобетон d=4 см,(БДС 4132-90) - Е = 1200 МРа | C15: t | D15: 120 | F15: =ROUND(D15*E15,2) -> 0
A16: =A15+1 -> 8 | B16: Доставка и полагане на неплътен асфалтобетон d=4 см, (БДС 4132-90)- Е = 1000 МРа | C16: t | D16: 0 | F16: =ROUND(D16*E16,2) -> 0
A17: =A16+1 -> 9 | B17: Доставка и полагане на неплътен асфалтобетон d=6 см, (БДС 4132-90) - Е = 800 МРа | C17: t | D17: 180 | F17: =ROUND(D17*E17,2) -> 0
A18: =A17+1 -> 10 | B18: Доставка и полагане на битумизиран трошен кавък d=10 см, (БДС 4132-90) - Е = 800 МРа | C18: t | D18: 0 | F18: =ROUND(D18*E18,2) -> 0
A19: =A18+1 -> 11 | B19: Пръскане с емулсия между неплътния асфалтобетон | C19: m2 | D19: 1250 | F19: =ROUND(D19*E19,2) -> 0
A20: =A19+1 -> 12 | B20: Заливка с битум (стар/нов асфалт) | C20: m' | D20: 2500 | F20: =ROUND(D20*E20,2) -> 0
A22: =A21+1 -> 1 | B22: Разваляне на съществуващ паваж | C22: m2 | D22: 0 | F22: =ROUND(D22*E22,2) -> 0
... A30: =A29+1 -> 6 | B30: Възстановяване на тротоари с бетонови плочи 40/40/5см (БДС 625) вкл. | C30: m2 | D30: 87.6 | F30: =ROUND(D30*E30,2) -> 0
B31: - 3 см вароциментов разтвор
B32: - 18 см трошен камък (БДС 2282-83)- Е = 200 МРа
B33: Земни работи
B34: =КСС1!B$34 -> Изкопи в 20% з.п. и 80% ск.п.
B35: за водопровод | C35: м³ | D35: 1987.2
B36: за сградни отклонения | C36: м³ | D36: 477.785
B37: за пожарни хидранти | C37: м³ | D37: 23.4
B38: Всичко изкопи | C38: м³ | D38: =SUM(D35:D37) -> 2488.385
B39: в т.ч. земни почви | C39: м³ | D39: =D38-D40 -> 497.675
B40: скални почви | C40: м³ | D40: =ROUND(D38*80%,2) -> 1990.71
A41: 1 | B41: Изкоп с багер на земни почви с ограничена шир. по улици | C41: м³ | D41: =D39-D42 -> 398.135 | F41: =ROUND(D41*E41,2) -> 0
A42: 2 | B42: Изкоп до 1.20м шир. и до 2м дълб.земни почви - ръчно по улици | C42: м³ | D42: =ROUND(D39*20%,2) -> 99.54 | F42: =ROUND(D42*E42,2) -> 0
A43: 3 | B43: Натоварване на земни почви с багер на транспорт | C43: м³ | D43: =D42 -> 99.54 | F43: =ROUND(D43*E43,2) -> 0
A44: 3 | B44: Превоз земни почви със самосвал на депо | C44: м³ | D44: =D39 -> 497.675 | F44: =ROUND(D44*E44,2) -> 0
A45: 4 | B45: Разриване с булдозер земни почви на депото или такса депо | C45: м³ | D45: =D44 -> 497.675 | F45: =ROUND(D45*E45,2) -> 0
A46: 5 | B46: =КСС1!B$46 -> Изкоп до 1.20м шир. и до 2м. дълб. скални почви | C46: м³ | D46: =D40 -> 1990.71 | F46: =ROUND(D46*E46,2) -> 0
A47: 6 | B47: Натоварване на скални почви с багер на транспорт | C47: м³ | D47: =D46 -> 1990.71 | F47: =ROUND(D47*E47,2) -> 0
A48: 7 | B48: Превоз скални почви със самосвал на депо | C48: м³ | D48: =D46 -> 1990.71 | F48: =ROUND(D48*E48,2) -> 0
...

Sheet КСС4
B1: Количествено-стойностна сметка № 4
B2: Обект: „Реконструкция на водоснабдителна система – гр.Земен”
F3: ул. Д-р Г.М.Димитров, ул. Цар Симеон
D4: Ф110
A5: № | B5: Наименование | C5: мярка | D5: кол-во | E5: цена | F5: стойност
B6: Изпълнение на водопровод Ф110
A7: I | B7: Водопровод - строителни работи
B8: Пътни работи
A9: 1 | B9: Рязане на асфалт | C9: m' | D9: 1960 | F9: =ROUND(D9*E9,2) -> 0
A10: =A9+1 -> 2 | B10: Разваляне на съществуваща асфалтова настилка | C10: m2 | D10: 980 | F10: =ROUND(D10*E10,2) -> 0
A11: =A10+1 -> 3 | B11: Разваляне на съществуваща трошенокаменна настилка - 0,15+0,30 m | C11: m3 | D11: 406.8 | F11: =ROUND(D11*E11,2) -> 0
A12: =A11+1 -> 4 | B12: Натоварване на строителни отпадъци на самосвал | C12: m3 | D12: 504.8 | F12: =ROUND(D12*E12,2) -> 0
A13: =A12+1 -> 5 | B13: Извозване на строителни отпадъци - 15 km и такса стр.отпадъци | C13: m3 | D13: 504.8 | F13: =ROUND(D13*E13,2) -> 0
A14: =A13+1 -> 6 | B14: Доставка и полагане на 45 см трошен камък (БДС 2282-83) - Е = 200 МРа | C14: m3 | D14: 406.8 | F14: =ROUND(D14*E14,2) -> 0
A15: =A14+1 -> 7 | B15: Доставка и полагане на плътен асфалтобетон d=4 см,(БДС 4132-90) - Е = 1200 МРа | C15: t | D15: 94.08 | F15: =ROUND(D15*E15,2) -> 0
A16: =A15+1 -> 8 | B16: Доставка и полагане на неплътен асфалтобетон d=4 см, (БДС 4132-90)- Е = 1000 МРа | C16: t | D16: 0 | F16: =ROUND(D16*E16,2) -> 0
A17: =A16+1 -> 9 | B17: Доставка и полагане на неплътен асфалтобетон d=6 см, (БДС 4132-90) - Е = 800 МРа | C17: t | D17: 141.12 | F17: =ROUND(D17*E17,2) -> 0
A18: =A17+1 -> 10 | B18: Доставка и полагане на битумизиран трошен кавък d=10 см, (БДС 4132-90) - Е = 800 МРа | C18: t | D18: 0 | F18: =ROUND(D18*E18,2) -> 0
A19: =A18+1 -> 11 | B19: Пръскане с емулсия между неплътния асфалтобетон | C19: m2 | D19: 980 | F19: =ROUND(D19*E19,2) -> 0
A20: =A19+1 -> 12 | B20: Заливка с битум (стар/нов асфалт) | C20: m' | D20: 1960 | F20: =ROUND(D20*E20,2) -> 0
A22: =A21+1 -> 1 | B22: Разваляне на съществуващ паваж | C22: m2 | D22: 0 | F22: =ROUND(D22*E22,2) -> 0
... A30: =A29+1 -> 6 | B30: Възстановяване на тротоари с бетонови плочи 40/40/5см (БДС 625) вкл. | C30: m2 | D30: 45.6 | F30: =ROUND(D30*E30,2) -> 0
B31: - 3 см вароциментов разтвор
B32: - 18 см трошен камък (БДС 2282-83)- Е = 200 МРа
B33: Земни работи
B34: =КСС1!B$34 -> Изкопи в 20% з.п. и 80% ск.п.
B35: за водопровод | C35: м³ | D35: 1659.744
B36: за сградни отклонения | C36: м³ | D36: 248.71
B37: за пожарни хидранти | C37: м³ | D37: 12.6
B38: Всичко изкопи | C38: м³ | D38: =SUM(D35:D37) -> 1921.054
B39: в т.ч. земни почви | C39: м³ | D39: =D38-D40 -> 384.214
B40: скални почви | C40: м³ | D40: =ROUND(D38*80%,2) -> 1536.84
A41: 1 | B41: Изкоп с багер на земни почви с ограничена шир. по улици | C41: м³ | D41: =D39-D42 -> 307.374 | F41: =ROUND(D41*E41,2) -> 0
A42: 2 | B42: Изкоп до 1.20м шир. и до 2м дълб.земни почви - ръчно по улици | C42: м³ | D42: =ROUND(D39*20%,2) -> 76.84 | F42: =ROUND(D42*E42,2) -> 0
A43: 3 | B43: Натоварване на земни почви с багер на транспорт | C43: м³ | D43: =D42 -> 76.84 | F43: =ROUND(D43*E43,2) -> 0
A44: 3 | B44: Превоз земни почви със самосвал на депо | C44: м³ | D44: =D39 -> 384.214 | F44: =ROUND(D44*E44,2) -> 0
A45: 4 | B45: Разриване с булдозер земни почви на депото или такса депо | C45: м³ | D45: =D44 -> 384.214 | F45: =ROUND(D45*E45,2) -> 0
A46: 5 | B46: =КСС1!B$46 -> Изкоп до 1.20м шир. и до 2м. дълб. скални почви | C46: м³ | D46: =D40 -> 1536.84 | F46: =ROUND(D46*E46,2) -> 0
A47: 6 | B47: Натоварване на скални почви с багер на транспорт | C47: м³ | D47: =D46 -> 1536.84 | F47: =ROUND(D47*E47,2) -> 0
A48: 7 | B48: Превоз скални почви със самосвал на депо | C48: м³ | D48: =D46 -> 1536.84 | F48: =ROUND(D48*E48,2) -> 0
...

Sheet КСС3
B1: Количествено-стойностна сметка № 3
B2: Обект: „Реконструкция на водоснабдителна система – гр.Земен”
F3: ул. Княз Борис, ул. Цар Колоян, ул. Гоце Делчев, ул. Цар Самуил
D4: Ф90
A5: № | B5: Наименование | C5: мярка | D5: кол-во | E5: цена | F5: стойност
B6: Изпълнение на водопровод Ф90
A7: I | B7: Водопровод - строителни работи
B8: Пътни работи
A9: 1 | B9: Рязане на асфалт | C9: m' | D9: 2108 | F9: =ROUND(D9*E9,2) -> 0
A10: =A9+1 -> 2 | B10: Разваляне на съществуваща асфалтова настилка | C10: m2 | D10: 1054 | F10: =ROUND(D10*E10,2) -> 0
A11: =A10+1 -> 3 | B11: Разваляне на съществуваща трошенокаменна настилка - 0,15+0,30 m | C11: m3 | D11: 479.7 | F11: =ROUND(D11*E11,2) -> 0
A12: =A11+1 -> 4 | B12: Натоварване на строителни отпадъци на самосвал | C12: m3 | D12: 585.1 | F12: =ROUND(D12*E12,2) -> 0
A13: =A12+1 -> 5 | B13: Извозване на строителни отпадъци - 15 km и такса стр.отпадъци | C13: m3 | D13: 585.1 | F13: =ROUND(D13*E13,2) -> 0
A14: =A13+1 -> 6 | B14: Доставка и полагане на 45 см трошен камък (БДС 2282-83) - Е = 200 МРа | C14: m3 | D14: 479.7 | F14: =ROUND(D14*E14,2) -> 0
A15: =A14+1 -> 7 | B15: Доставка и полагане на плътен асфалтобетон d=4 см,(БДС 4132-90) - Е = 1200 МРа | C15: t | D15: 101.184 | F15: =ROUND(D15*E15,2) -> 0
A16: =A15+1 -> 8 | B16: Доставка и полагане на неплътен асфалтобетон d=4 см, (БДС 4132-90)- Е = 1000 МРа | C16: t | D16: 0 | F16: =ROUND(D16*E16,2) -> 0
A17: =A16+1 -> 9 | B17: Доставка и полагане на неплътен асфалтобетон d=6 см, (БДС 4132-90) - Е = 800 МРа | C17: t | D17: 151.776 | F17: =ROUND(D17*E17,2) -> 0
A18: =A17+1 -> 10 | B18: Доставка и полагане на битумизиран трошен кавък d=10 см, (БДС 4132-90) - Е = 800 МРа | C18: t | D18: 0 | F18: =ROUND(D18*E18,2) -> 0
A19: =A18+1 -> 11 | B19: Пръскане с емулсия между неплътния асфалтобетон | C19: m2 | D19: 1054 | F19: =ROUND(D19*E19,2) -> 0
A20: =A19+1 -> 12 | B20: Заливка с битум (стар/нов асфалт) | C20: m' | D20: 2108 | F20: =ROUND(D20*E20,2) -> 0
A22: =A21+1 -> 1 | B22: Разваляне на съществуващ паваж | C22: m2 | D22: 67 | F22: =ROUND(D22*E22,2) -> 0
... A30: =A29+1 -> 6 | B30: Възстановяване на тротоари с бетонови плочи 40/40/5см (БДС 625) вкл. | C30: m2 | D30: 102 | F30: =ROUND(D30*E30,2) -> 0
B31: - 3 см вароциментов разтвор
B32: - 18 см трошен камък (БДС 2282-83)- Е = 200 МРа
B33: Земни работи
B34: =КСС1!B$34 -> Изкопи в 20% з.п. и 80% ск.п.
B35: за водопровод | C35: м³ | D35: 1918.8
B36: за сградни отклонения | C36: м³ | D36: 556.325
B37: за пожарни хидранти | C37: м³ | D37: 23.4
B38: Всичко изкопи | C38: м³ | D38: =SUM(D35:D37) -> 2498.525
B39: в т.ч. земни почви | C39: м³ | D39: =D38-D40 -> 499.705
B40: скални почви | C40: м³ | D40: =ROUND(D38*80%,2) -> 1998.82
A41: 1 | B41: Изкоп с багер на земни почви с ограничена шир. по улици | C41: м³ | D41: =D39-D42 -> 399.765 | F41: =ROUND(D41*E41,2) -> 0
