Workbook

Sheet Рекапитулация по диаметри
B7: РЕКАПИТУЛАЦИЯ
B8: на стойността на СМР
A10: № | B10: Наименование | C10: стойност лв.
A11: 1 | B11: Общо КСС 1
A12: 2 | B12: Общо КСС 2
A13: 3 | B13: Общо КСС 3
A14: 4 | B14: Общо КСС 4
A15: 5 | B15: Общо КСС 5
A16: 6 | B16: Общо КСС 6
A17: 7 | B17: Общо КСС 7
A18: 8 | B18: Общо КСС 8
A19: 9 | B19: Общо КСС 9
A20: 10 | B20: Общо КСС 10
A21: 11 | B21: Общо КСС 11
A22: 13 | B22: Общо КСС 13
... A29: 20 | B29: Общо КСС 20 - Хармонизатор
B30: Общо за Водопровод | C30: =SUM(C11:C29) -> 0
B33: ВСИЧКО без ДДС: | C33: =SUM(C30:C32) -> 0
B35: Непредвидени 5% | C35: =C33*5% -> 0
B36: ВСИЧКО без ДДС: | C36: =SUM(C33,C35) -> 0
B37: ДДС 20% | C37: =C36*20% -> 0
B38: ВСИЧКО с ДДС: | C38: =ROUNDDOWN(SUM(C36,C37),2) -> 0

Sheet Пом.см.Шахта 1,30 м
B1: ПОМОЩНА СМЕТКА за Шахта с воден хармонизатор 1.30/1.30/2.20
A2: № | B2: Описание | C2: Ед. Мярка | D2: Количество | E2: ед.цена | F2: стойност без ДДС
B4: Стоманобетонова шахта 1.30/1.30/2.20м
A5: 1 | B5: Рязане на асфалт | C5: m' | D5: =2.5*4 -> 10
A6: =A5+1 -> 2 | B6: Разваляне на съществуваща асфалтова настилка | C6: м2 | D6: =2.5*2.5 -> 6.25
A7: =A6+1 -> 3 | B7: Разваляне на съществуваща трошенокаменна настилка 0,30 m | C7: м³ | D7: =2.5*2.5*0.3 -> 1.875
A8: =A7+1 -> 4 | B8: Натоварване на строителни отпадъци на самосвал | C8: м³ | D8: =SUM(D6:D7) -> 8.125
A9: =A8+1 -> 5 | B9: Извозване на строителни отпадъци - 15 km и такса стр.отпадъци | C9: м³ | D9: =D8 -> 8.125
A10: 6 | B10: Направа на изкоп | C10: м³ | D10: 13
B11: в т.ч. земни почви | C11: м³ | D11: =D10-D12 -> 2.6
B12: скални почви | C12: м³ | D12: =ROUND(D10*80%,2) -> 10.4
A13: =A10+1 -> 7 | B13: Изкоп с багер на земни почви с ограничена шир. по улици | C13: м³ | D13: =D11-D14 -> 2.08
A14: =A13+1 -> 8 | B14: Изкоп до 1.20м шир. и до 2м дълб.земни почви - ръчно по улици | C14: м³ | D14: =ROUND(D11*20%,2) -> 0.52
A15: =A14+1 -> 9 | B15: Натоварване на земни почви с багер на транспорт | C15: м³ | D15: =D14 -> 0.52
A16: =A15+1 -> 10 | B16: Превоз земни почви със самосвал на депо | C16: м³ | D16: =D11 -> 2.6
A17: =A16+1 -> 11 | B17: Разриване с булдозер земни почви на депото или такса депо | C17: м³ | D17: =D16 -> 2.6
A18: =A17+1 -> 12 | B18: =КСС1!B$46 -> Изкоп до 1.20м шир. и до 2м. дълб. скални почви | C18: м³ | D18: =D12 -> 10.4
A19: =A18+1 -> 13 | B19: Натоварване на скални почви с багер на транспорт | C19: м³ | D19: =D18 -> 10.4
A20: =A19+1 -> 14 | B20: Превоз скални почви със самосвал на депо | C20: м³ | D20: =D18 -> 10.4
A21: =A20+1 -> 15 | B21: Разриване с булдозер скални почви с булдозер на депо или такса депо | C21: м³ | D21: =D18 -> 10.4
A22: =A21+1 -> 16 | B22: Полагане на пясък - 10 см | C22: м³ | D22: =1.6*1.6*0.1 -> 0.256
A23: =A22+1 -> 17 | B23: Доставка и обратна засипка,уплътняване с пневматична трамбовка - 25km | C23: м³ | D23: 9.28
A24: =A23+1 -> 18 | B24: Доставка и полагане на плътен асфалтобетон d=4 см (25km) | C24: t | D24: =D26*0.04*2.4 -> 0.6
A25: =A24+1 -> 19 | B25: Доставка и полагане на неплътен асфалтобетон d=6 см (25km) | C25: t | D25: =D24*1.5 -> 0.9
A26: =A25+1 -> 20 | B26: Пръскане с емулсия между неплътния асфалтобетон и битумизираната баластра (25km) | C26: м2 | D26: =2.5*2.5 -> 6.25
A27: =A26+1 -> 21 | B27: Доставка и полагане на 45 см трошен камък (БДС 2282-83) - Е = 200 МРа | C27: м³ | D27: =0.3*1*D26 -> 1.875
A28: =A27+1 -> 22 | B28: Заливка с битум | C28: m | D28: =D5 -> 10
A29: =A28+1 -> 23 | B29: Кофраж | C29: м2 | D29: =(5.2*2.2)+(4*2.2) -> 20.24
A30: =A29+1 -> 24 | B30: Армировка | C30: кг | D30: =D31*100 -> 166.8
A31: =A30+1 -> 25 | B31: Бетон | C31: м³ | D31: =(0.69*2.2)+(1*1*0.15) -> 1.668
A32: =A31+1 -> 26 | B32: Капак стоманена ламарина 3 мм - 80/80 см | C32: бр. | D32: 1
A33: =A32+1 -> 27 | B33: Стоманоботенов капак МБ 150 - 70/70/10 см | C33: бр. | D33: 1
A34: =A33+1 -> 28 | B34: Кофраж | C34: м2 | D34: =(0.7*0.7)+(2.8*0.1) -> 0.77
A35: =A34+1 -> 29 | B35: Арматура 10 бр/Ф8х810 | C35: кг | D35: 5
A36: =A35+1 -> 30 | B36: Бетон | C36: м³ | D36: =0.7*0.7*0.1 -> 0.049
A37: =A36+1 -> 31 | B37: Стоманоботенова плоча В15 130/130/10 | C37: бр.
A38: =A37+1 -> 32 | B38: Кофраж | C38: м2 | D38: =(1.3*1.3)+(5.2*0.1)+(0.6*0.6*0.1) -> 2.246
A39: =A38+1 -> 33 | B39: Арматура | C39: кг | D39: 13
A40: =A39+1 -> 34 | B40: Бетон | C40: м³ | D40: =1.3*1.3*0.1-(0.6*0.6*0.1) -> 0.133
A41: =A40+1 -> 35 | B41: Стъпала (Арм.желязо ф18) 18/100 | C41: бр. | D41: 5
A42: =A41+1 -> 36 | B42: Кука за капак 70/90 (от араматурно желязо) | C42: бр. | D42: 1
B43: Общо без ДДС | F43: =SUM(F5:F42) -> 0

Sheet Хармонизатор20
B2: Количествено-стойностна сметка № 20
B4: Обект: „Реконструкция на водоснабдителна система – гр.Земен”
A6: № | B6: Наименование | C6: мярка | D6: кол-во | E6: цена | F6: стойност
A7: 1 | B7: Направа на стоманобетонова шахта за воден хармонизатор 1.30/1.30/2.20м от Помощна сметка | C7: бр. | D7: 1
A8: 2 | B8: Доставка и монтаж на воден хармонизатор чрез фланец DN100 | C8: бр. | D8: =D7 -> 1
B10: ОБЩО без ДДС: | F10: =SUM(F7:F9) -> 0

Sheet КСС19
B1: Количествено-стойностна сметка № 19
B2: Обект: „Реконструкция на водоснабдителна система – гр.Земен”
F3: ул. Д.Благоев, ул. Тичък
D4: Ф110
A5: № | B5: Наименование | C5: мярка | D5: кол-во | E5: цена | F5: стойност
B6: Изпълнение на водопровод Ф110
A7: I | B7: Водопровод - строителни работи
B8: Пътни работи
A9: 1 | B9: Рязане на асфалт | C9: m' | D9: 454
A10: =A9+1 -> 2 | B10: Разваляне на съществуваща асфалтова настилка | C10: m2 | D10: 227
A11: =A10+1 -> 3 | B11: Разваляне на съществуваща трошенокаменна настилка - 0,15+0,30 m | C11: m3 | D11: 178.2
A12: =A11+1 -> 4 | B12: Натоварване на строителни отпадъци на самосвал | C12: m3 | D12: 200.9
A13: =A12+1 -> 5 | B13: Извозване на строителни отпадъци - 15 km и такса стр.отпадъци | C13: m3 | D13: 200.9
A14: =A13+1 -> 6 | B14: Доставка и полагане на 45 см трошен камък (БДС 2282-83) - Е = 200 МРа | C14: m3 | D14: 178.2
A15: =A14+1 -> 7 | B15: Доставка и полагане на плътен асфалтобетон d=4 см,(БДС 4132-90) - Е = 1200 МРа | C15: t | D15: 21.792
A16: =A15+1 -> 8 | B16: Доставка и полагане на неплътен асфалтобетон d=4 см, (БДС 4132-90)- Е = 1000 МРа | C16: t | D16: 0
A17: =A16+1 -> 9 | B17: Доставка и полагане на неплътен асфалтобетон d=6 см, (БДС 4132-90) - Е = 800 МРа | C17: t | D17: 32.688
A18: =A17+1 -> 10 | B18: Доставка и полагане на битумизиран трошен кавък d=10 см, (БДС 4132-90) - Е = 800 МРа | C18: t | D18: 0
A19: =A18+1 -> 11 | B19: Пръскане с емулсия между неплътния асфалтобетон | C19: m2 | D19: 227
A20: =A19+1 -> 12 | B20: Заливка с битум (стар/нов асфалт) | C20: m' | D20: 454
A22: =A21+1 -> 1 | B22: Разваляне на съществуващ паваж | C22: m2 | D22: 103
... A30: =A29+1 -> 6 | B30: Възстановяване на тротоари с бетонови плочи 40/40/5см (БДС 625) вкл. | C30: m2 | D30: 24
B31: - 3 см вароциментов разтвор
B32: - 18 см трошен камък (БДС 2282-83)- Е = 200 МРа
B33: Земни работи
B34: =КСС1!B$34 -> Изкопи в 20% з.п. и 80% ск.п.
B35: за водопровод | C35: м³ | D35: 727.056
B36: за сградни отклонения | C36: м³ | D36: 152.32
B37: за пожарни хидранти | C37: м³ | D37: 5.4
B38: Всичко изкопи | C38: м³ | D38: =SUM(D35:D37) -> 884.776
B39: в т.ч. земни почви | C39: м³ | D39: =D38-D40 -> 176.956
B40: скални почви | C40: м³ | D40: =ROUND(D38*80%,2) -> 707.82
A41: 1 | B41: Изкоп с багер на земни почви с ограничена шир. по улици | C41: м³ | D41: =D39-D42 -> 141.566
A42: 2 | B42: Изкоп до 1.20м шир. и до 2м дълб.земни почви - ръчно по улици | C42: м³ | D42: =ROUND(D39*20%,2) -> 35.39
A43: 3 | B43: Натоварване на земни почви с багер на транспорт | C43: м³ | D43: =D42 -> 35.39
A44: 3 | B44: Превоз земни почви със самосвал на депо | C44: м³ | D44: =D39 -> 176.956
A45: 4 | B45: Разриване с булдозер земни почви на депото или такса депо | C45: м³ | D45: =D44 -> 176.956
A46: 5 | B46: =КСС1!B$46 -> Изкоп до 1.20м шир. и до 2м. дълб. скални почви | C46: м³ | D46: =D40 -> 707.82
A47: 6 | B47: Натоварване на скални почви с багер на транспорт | C47: м³ | D47: =D46 -> 707.82
A48: 7 | B48: Превоз скални почви със самосвал на депо | C48: м³ | D48: =D46 -> 707.82
A49: 8 | B49: Разриване с булдозер скални почви с булдозер на депо или такса депо | C49: м³ | D49: =D46 -> 707.82
A50: 9 | B50: Доставка на речен пясък за засипване около тръбите с трамбоване | C50: м³ | D50: 158.4
A51: 10 | B51: Доставка и транспорт каменна фракция (едрина до 20мм) за обратен насип | C51: м³ | D51: 726.376
A52: 11 | B52: Засипване на тесни изкопи с каменна фракция, вкл. трамбоване | C52: м³ | D52: 726.376
A53: 12 | B53: Натоварване и извозване на отпадъци със самосвал и такса стр.отпадъци | C53: м³ | D53: 0.02
A54: 13 | B54: Укрепване на гърне за ПХ | C54: бр. | D54: 2
A55: 14 | B55: Укрепване на гърне за СК | C55: бр. | D55: 1
A56: 15 | B56: Направа опорни блокове на хориз. и верт. чупки и при тройници | C56: бр. | D56: 6
A57: 16 | B57: Полагане бетон В20 - неармиран за опорни блокове, ПХ и СК | C57: м³ | D57: 2.1
A58: 17 | B58: Превоз бетон | C58: м³ | D58: 2.1
A59: 18 | B59: Направа укрепване при пресичане на кабели | C59: бр. | D59: 9
A60: 19 | B60: Доставка и монтаж стоманена тръба ф 219/5 за кожух на водопровода | C60: м
A61: 20 | B61: Доставка и монтаж стоманена тръба ф 273/7 за кожух на водопровода | C61: м | D61: 40
A62: 21 | B62: Доставка и направа на топлоизолация от пенополиуретан за РЕ ф 110 | C62: м | D62: 40
A63: 22 | B63: Доставка, монтаж и демонтаж на скеле за изпълнение на окачване водопровод по моста | C63: бр. | D63: 1
A64: 23 | B64: Направа по детайл на окачване на водопровод по мостови конструкции с двойно поцинковане на елемените | C64: бр. | D64: 1
B65: Всичко водопровод - строителни работи
A67: Б | B67: Водопровод - монтажни работи
A68: 1 | B68: Доставка и полагане на РЕ тръби тип 80 в изкоп на челна заварка
B69: - ф110/10атм | C69: м | D69: 396
B70: - ф90/10атм. | C70: м
A71: 2 | B71: Доставка на РЕ фасонни парчета за челна заварка
B72: - кръстач К 110/110 | C72: бр. | D72: 1
B73: - тройник Т 140/140 | C73: бр. | D73: 1
B74: - тройник Т 110/90 | C74: бр. | D74: 1
B75: - тройник Т 90/90 | C75: бр. | D75: 1
B76: - Ко 90º/90 | C76: бр. | D76: 0
B77: - дъга ДГ 45º/63 | C77: бр.
B78: - дъга ДГ 30º/90 | C78: бр.
B79: - дъга ДГ 25º/90 | C79: бр.
B80: - дъга ДГ 22º/90 | C80: бр.
B81: - дъга ДГ 15º/90 | C81: бр.
B82: - дъга ДГ 11º/90 | C82: бр.
B83: - преход фланшов ПФ 140 | C83: бр. | D83: 1
B84: - преход фланшов ПФ 110 | C84: бр. | D84: 1
B85: - преход фланшов ПФ 90 | C85: бр.
B86: - преход фланшов ПФ 63 | C86: бр.
A87: 3 | B87: Доставка и монтаж на намалител фланшов
B88: НФ 140/90 | C88: бр. | D88: 1
B89: НФ 160/110 | C89: бр. | D89: 1
B90: НФ 110/90 | C90: бр. | D90: 1
B91: НФ 90/63 | C91: бр.
A92: 4 | B92: Направа челна заварка на тръбно съединение от полиетилен ф 63 мм | C92: бр. | D92: 0
A93: 5 | B93: Направа челна заварка на тръбно съединение от полиетилен ф 90 мм | C93: бр. | D93: 6
A94: 6 | B94: Направа челна заварка на тръбно съединение от полиетилен ф110 мм | C94: бр. | D94: 9
A95: 7 | B95: Направа челна заварка на тръбно съединение от полиетилен ф140 мм | C95: бр. | D95: 5
A96: 8 | B96: Направа челна заварка на тръбно съединение от полиетилен ф160 мм | C96: бр. | D96: 1
A97: 9 | B97: Направа челна заварка на тръбно съединение от полиетилен ф200 мм | C97: бр. | D97: 0
A98: 10 | B98: Доставка и монтаж на СК 100 с охр. гарнитура | C98: бр. | D98: 1
A99: 11 | B99: Доставка и монтаж на СК 80 с охр. гарнитура | C99: бр. | D99: 0
A100: 12 | B100: Доставка и монтаж на пожарен хидрант 70/80 - надземен | C100: бр. | D100: 2
A101: 13 | B101: Доставка и монтаж на табели СК | C101: бр. | D101: 1
A102: 14 | B102: Доставка и монтаж на табели ПХ | C102: бр. | D102: 2
A103: 15 | B103: Доставка и полагане на сигнална лента | C103: м | D103: 524
... A106: 18 | B106: Дезинфекция на водопровод | C106: м | D106: 524
B107: Всичко водопровод - монтажни работи
A108: I. | B108: Сградни отклонения 147бр. - мотажни работи
A109: 1 | B109: Доставка и монтаж на водовземна скоба :
B110: ЕО ф 110/25 | C110: бр. | D110: 18
B111: ЕО ф 90/40 | C111: бр. | D111: 1
...

Sheet КСС18
B1: Количествено-стойностна сметка № 18
B2: Обект: „Реконструкция на водоснабдителна система – гр.Земен”
F3: ул. Ивайло, ул. Л.Каравелов, ул. Тичък, ул. Струма
D4: ф90
A5: № | B5: Наименование | C5: мярка | D5: кол-во | E5: цена | F5: стойност
B6: Изпълнение на водопровод Ф90
A7: I | B7: Водопровод - строителни работи
B8: Пътни работи
A9: 1 | B9: Рязане на асфалт | C9: m' | D9: 4410
A10: =A9+1 -> 2 | B10: Разваляне на съществуваща асфалтова настилка | C10: m2 | D10: 2205
A11: =A10+1 -> 3 | B11: Разваляне на съществуваща трошенокаменна настилка - 0,15+0,30 m | C11: m3 | D11: 1081.8
A12: =A11+1 -> 4 | B12: Натоварване на строителни отпадъци на самосвал | C12: m3 | D12: 1302.3
A13: =A12+1 -> 5 | B13: Извозване на строителни отпадъци - 15 km и такса стр.отпадъци | C13: m3 | D13: 1302.3
A14: =A13+1 -> 6 | B14: Доставка и полагане на 45 см трошен камък (БДС 2282-83) - Е = 200 МРа | C14: m3 | D14: 1081.8
A15: =A14+1 -> 7 | B15: Доставка и полагане на плътен асфалтобетон d=4 см,(БДС 4132-90) - Е = 1200 МРа | C15: t | D15: 211.68
A16: =A15+1 -> 8 | B16: Доставка и полагане на неплътен асфалтобетон d=4 см, (БДС 4132-90)- Е = 1000 МРа | C16: t | D16: 0
A17: =A16+1 -> 9 | B17: Доставка и полагане на неплътен асфалтобетон d=6 см, (БДС 4132-90) - Е = 800 МРа | C17: t | D17: 317.52
A18: =A17+1 -> 10 | B18: Доставка и полагане на битумизиран трошен кавък d=10 см, (БДС 4132-90) - Е = 800 МРа | C18: t | D18: 0
A19: =A18+1 -> 11 | B19: Пръскане с емулсия между неплътния асфалтобетон | C19: m2 | D19: 2205
A20: =A19+1 -> 12 | B20: Заливка с битум (стар/нов асфалт) | C20: m' | D20: 4410
A22: =A21+1 -> 1 | B22: Разваляне на съществуващ паваж | C22: m2 | D22: 453
... A30: =A29+1 -> 6 | B30: Възстановяване на тротоари с бетонови плочи 40/40/5см (БДС 625) вкл. | C30: m2 | D30: 152.4
B31: - 3 см вароциментов разтвор
B32: - 18 см трошен камък (БДС 2282-83)- Е = 200 МРа
B33: Земни работи
B34: =КСС1!B$34 -> Изкопи в 20% з.п. и 80% ск.п.
B35: за водопровод | C35: м³ | D35: 4327.2
B36: за сградни отклонения | C36: м³ | D36: 831.215
B37: за пожарни хидранти | C37: м³ | D37: 43.2
B38: Всичко изкопи | C38: м³ | D38: =SUM(D35:D37) -> 5201.615
B39: в т.ч. земни почви | C39: м³ | D39: =D38-D40 -> 1040.325
B40: скални почви | C40: м³ | D40: =ROUND(D38*80%,2) -> 4161.29
A41: 1 | B41: Изкоп с багер на земни почви с ограничена шир. по улици | C41: м³ | D41: =D39-D42 -> 832.255
A42: 2 | B42: Изкоп до 1.20м шир. и до 2м дълб.земни почви - ръчно по улици | C42: м³ | D42: =ROUND(D39*20%,2) -> 208.07
A43: 3 | B43: Натоварване на земни почви с багер на транспорт | C43: м³ | D43: =D42 -> 208.07
A44: 3 | B44: Превоз земни почви със самосвал на депо | C44: м³ | D44: =D39 -> 1040.325
A45: 4 | B45: Разриване с булдозер земни почви на депото или такса депо | C45: м³ | D45: =D44 -> 1040.325
A46: 5 | B46: =КСС1!B$46 -> Изкоп до 1.20м шир. и до 2м. дълб. скални почви | C46: м³ | D46: =D40 -> 4161.29
A47: 6 | B47: Натоварване на скални почви с багер на транспорт | C47: м³ | D47: =D46 -> 4161.29
A48: 7 | B48: Превоз скални почви със самосвал на депо | C48: м³ | D48: =D46 -> 4161.29
A49: 8 | B49: Разриване с булдозер скални почви с булдозер на депо или такса депо | C49: м³ | D49: =D46 -> 4161.29
A50: 9 | B50: Доставка на речен пясък за засипване около тръбите с трамбоване | C50: м³ | D50: 961.6
A51: 10 | B51: Доставка и транспорт каменна фракция (едрина до 20мм) за обратен насип | C51: м³ | D51: 4240.015
A52: 11 | B52: Засипване на тесни изкопи с каменна фракция, вкл. трамбоване | C52: м³ | D52: 4240.015
A53: 12 | B53: Натоварване и извозване на отпадъци със самосвал и такса стр.отпадъци | C53: м³ | D53: 0
A54: 13 | B54: Укрепване на гърне за ПХ | C54: бр. | D54: 17
A55: 14 | B55: Укрепване на гърне за СК | C55: бр. | D55: 7
A56: 15 | B56: Направа опорни блокове на хориз. и верт. чупки и при тройници | C56: бр. | D56: 33
A57: 16 | B57: Полагане бетон В20 - неармиран за опорни блокове, ПХ и СК | C57: м³ | D57: 11.55
A58: 17 | B58: Превоз бетон | C58: м³ | D58: 11.55
A59: 18 | B59: Направа укрепване при пресичане на кабели | C59: бр. | D59: 32
A60: 19 | B60: Доставка и монтаж стоманена тръба ф 219/5 за кожух на водопровода | C60: м | D60: 8
A61: 20 | B61: Доставка и монтаж стоманена тръба ф 273/7 за кожух на водопровода | C61: м
A62: 21 | B62: Доставка и направа на топлоизолация от пенополиуретан за РЕ ф 110 | C62: м
A63: 22 | B63: Доставка, монтаж и демонтаж на скеле за изпълнение на окачване водопровод по моста | C63: бр.
A64: 23 | B64: Направа по детайл на окачване на водопровод по мостови конструкции с двойно поцинковане на елемените | C64: бр.
B65: Всичко водопровод - строителни работи
A67: Б | B67: Водопровод - монтажни работи
A68: 1 | B68: Доставка и полагане на РЕ тръби тип 80 в изкоп на челна заварка
B69: - ф110/10атм | C69: м
B70: - ф90/10атм. | C70: м | D70: 2404
A71: 2 | B71: Доставка на РЕ фасонни парчета за челна заварка
B72: - кръстач К 110/110 | C72: бр.
B73: - тройник Т 140/140 | C73: бр.
B74: - тройник Т 110/90 | C74: бр. | D74: 2
B75: - тройник Т 90/90 | C75: бр. | D75: 20
B76: - Ко 90º/90 | C76: бр. | D76: 6
B77: - дъга ДГ 45º/63 | C77: бр. | D77: 1
B78: - дъга ДГ 30º/90 | C78: бр. | D78: 2
B79: - дъга ДГ 25º/90 | C79: бр. | D79: 1
B80: - дъга ДГ 22º/90 | C80: бр. | D80: 6
B81: - дъга ДГ 15º/90 | C81: бр. | D81: 7
B82: - дъга ДГ 11º/90 | C82: бр. | D82: 16
B83: - преход фланшов ПФ 140 | C83: бр.
B84: - преход фланшов ПФ 110 | C84: бр.
B85: - преход фланшов ПФ 90 | C85: бр. | D85: 23
B86: - преход фланшов ПФ 63 | C86: бр. | D86: 1
A87: 3 | B87: Доставка и монтаж на намалител фланшов
B88: НФ 140/90 | C88: бр.
B89: НФ 160/110 | C89: бр.
B90: НФ 110/90 | C90: бр. | D90: 2
B91: НФ 90/63 | C91: бр. | D91: 1
A92: 4 | B92: Направа челна заварка на тръбно съединение от полиетилен ф 63 мм | C92: бр. | D92: 4
A93: 5 | B93: Направа челна заварка на тръбно съединение от полиетилен ф 90 мм | C93: бр. | D93: 164
A94: 6 | B94: Направа челна заварка на тръбно съединение от полиетилен ф110 мм | C94: бр. | D94: 6
A95: 7 | B95: Направа челна заварка на тръбно съединение от полиетилен ф140 мм | C95: бр. | D95: 0
A96: 8 | B96: Направа челна заварка на тръбно съединение от полиетилен ф160 мм | C96: бр. | D96: 0
A97: 9 | B97: Направа челна заварка на тръбно съединение от полиетилен ф200 мм | C97: бр. | D97: 0
A98: 10 | B98: Доставка и монтаж на СК 100 с охр. гарнитура | C98: бр. | D98: 0
A99: 11 | B99: Доставка и монтаж на СК 80 с охр. гарнитура | C99: бр. | D99: 7
A100: 12 | B100: Доставка и монтаж на пожарен хидрант 70/80 - надземен | C100: бр. | D100: 17
A101: 13 | B101: Доставка и монтаж на табели СК | C101: бр. | D101: 7
A102: 14 | B102: Доставка и монтаж на табели ПХ | C102: бр. | D102: 17
A103: 15 | B103: Доставка и полагане на сигнална лента | C103: м | D103: 3102.5
... A106: 18 | B106: Дезинфекция на водопровод | C106: м | D106: 3102.5
B107: Всичко водопровод - монтажни работи
A108: I. | B108: Сградни отклонения 147бр. - мотажни работи
A109: 1 | B109: Доставка и монтаж на водовземна скоба :
B110: ЕО ф 110/25 | C110: бр.
B111: ЕО ф 90/40 | C111: бр. | D111: 2
...

Sheet КСС17
B1: Количествено-стойностна сметка № 17
B2: Обект: „Реконструкция на водоснабдителна система – гр.Земен”
F3: ул. Хр.Смирненски, ул. Н.Вапцаров
D4: Ф140
A5: № | B5: Наименование | C5: мярка | D5: кол-во | E5: цена | F5: стойност
B6: Изпълнение на водопровод Ф140
A7: I | B7: Водопровод - строителни работи
B8: Пътни работи
A9: 1 | B9: Рязане на асфалт | C9: m' | D9: 876
A10: =A9+1 -> 2 | B10: Разваляне на съществуваща асфалтова настилка | C10: m2 | D10: 438
A11: =A10+1 -> 3 | B11: Разваляне на съществуваща трошенокаменна настилка - 0,15+0,30 m | C11: m3 | D11: 180.9
A12: =A11+1 -> 4 | B12: Натоварване на строителни отпадъци на самосвал | C12: m3 | D12: 224.7
A13: =A12+1 -> 5 | B13: Извозване на строителни отпадъци - 15 km и такса стр.отпадъци | C13: m3 | D13: 224.7
A14: =A13+1 -> 6 | B14: Доставка и полагане на 45 см трошен камък (БДС 2282-83) - Е = 200 МРа | C14: m3 | D14: 180.9
A15: =A14+1 -> 7 | B15: Доставка и полагане на плътен асфалтобетон d=4 см,(БДС 4132-90) - Е = 1200 МРа | C15: t | D15: 42.048
A16: =A15+1 -> 8 | B16: Доставка и полагане на неплътен асфалтобетон d=4 см, (БДС 4132-90)- Е = 1000 МРа | C16: t
A17: =A16+1 -> 9 | B17: Доставка и полагане на неплътен асфалтобетон d=6 см, (БДС 4132-90) - Е = 800 МРа | C17: t | D17: 63.072
A18: =A17+1 -> 10 | B18: Доставка и полагане на битумизиран трошен кавък d=10 см, (БДС 4132-90) - Е = 800 МРа | C18: t
A19: =A18+1 -> 11 | B19: Пръскане с емулсия между неплътния асфалтобетон | C19: m2 | D19: 438
A20: =A19+1 -> 12 | B20: Заливка с битум (стар/нов асфалт) | C20: m' | D20: 876
A22: =A21+1 -> 1 | B22: Разваляне на съществуващ паваж | C22: m2
A23: =A22+1 -> 2 | B23: Възстановяване на съществуващ паваж | C23: m2 | D23: 0
A25: =A24+1 -> 1 | B25: Разкъртване на бордюри | C25: m' | D25: 18
A26: =A25+1 -> 2 | B26: Развяляне на тротоари | C26: m2 | D26: 21.6
A27: =A26+1 -> 3 | B27: Натоварване на строителни отпадъци на самосвал | C27: m3 | D27: 3.78
A28: =A27+1 -> 4 | B28: Извозване на строителни отпадъци - 15 km и такса стр.отпадъци | C28: m3 | D28: 3.78
A29: =A28+1 -> 5 | B29: Възстановяване на бордюри с регула 15см, поставени върху бетонова основа. | C29: m' | D29: 18
A30: =A29+1 -> 6 | B30: Възстановяване на тротоари с бетонови плочи 40/40/5см (БДС 625) вкл. | C30: m2 | D30: 21.6
B31: - 3 см вароциментов разтвор
B32: - 18 см трошен камък (БДС 2282-83)- Е = 200 МРа
B33: Земни работи
B34: =КСС1!B$34 -> Изкопи в 20% з.п. и 80% ск.п.
B35: за водопровод | C35: м³ | D35: 759.78
B36: за сградни отклонения | C36: м³ | D36: 117.81
B37: за пожарни хидранти | C37: м³ | D37: 7.2
B38: Всичко изкопи | C38: м³ | D38: =SUM(D35:D37) -> 884.79
B39: в т.ч. земни почви | C39: м³ | D39: =D38-D40 -> 176.96
B40: скални почви | C40: м³ | D40: =ROUND(D38*80%,2) -> 707.83
A41: 1 | B41: Изкоп с багер на земни почви с ограничена шир. по улици | C41: м³ | D41: =D39-D42 -> 141.57
A42: 2 | B42: Изкоп до 1.20м шир. и до 2м дълб.земни почви - ръчно по улици | C42: м³ | D42: =ROUND(D39*20%,2) -> 35.39
A43: 3 | B43: Натоварване на земни почви с багер на транспорт | C43: м³ | D43: =D42 -> 35.39
A44: 3 | B44: Превоз земни почви със самосвал на депо | C44: м³ | D44: =D39 -> 176.96
A45: 4 | B45: Разриване с булдозер земни почви на депото или такса депо | C45: м³ | D45: =D44 -> 176.96
A46: 5 | B46: =КСС1!B$46 -> Изкоп до 1.20м шир. и до 2м. дълб. скални почви | C46: м³ | D46: =D40 -> 707.83
A47: 6 | B47: Натоварване на скални почви с багер на транспорт | C47: м³ | D47: =D46 -> 707.83
A48: 7 | B48: Превоз скални почви със самосвал на депо | C48: м³ | D48: =D46 -> 707.83
A49: 8 | B49: Разриване с булдозер скални почви с булдозер на депо или такса депо | C49: м³ | D49: =D46 -> 707.83
A50: 9 | B50: Доставка на речен пясък за засипване около тръбите с трамбоване | C50: м³ | D50: 160.8
A51: 10 | B51: Доставка и транспорт каменна фракция (едрина до 20мм) за обратен насип | C51: м³ | D51: 723.99
A52: 11 | B52: Засипване на тесни изкопи с каменна фракция, вкл. трамбоване | C52: м³ | D52: 723.99
A53: 12 | B53: Натоварване и извозване на отпадъци със самосвал и такса стр.отпадъци | C53: м³ | D53: 6.19
A54: 13 | B54: Укрепване на гърне за ПХ | C54: бр. | D54: 3
A55: 14 | B55: Укрепване на гърне за СК | C55: бр. | D55: 1
A56: 15 | B56: Направа опорни блокове на хориз. и верт. чупки и при тройници | C56: бр. | D56: 10
A57: 16 | B57: Полагане бетон В20 - неармиран за опорни блокове, ПХ и СК | C57: м³ | D57: 3.5
A58: 17 | B58: Превоз бетон | C58: м³ | D58: 3.5
A59: 18 | B59: Направа укрепване при пресичане на кабели | C59: бр. | D59: 8
B60: Всичко водопровод - строителни работи
A62: Б | B62: Водопровод - монтажни работи
A63: 1 | B63: Доставка и полагане на РЕ тръби тип 80 в изкоп на челна заварка
B64: - ф140/10атм. | C64: м | D64: 402
B65: - ф110/10атм | C65: м
B66: - ф90/10атм. | C66: м
A67: 2 | B67: Доставка на РЕ фасонни парчета за челна заварка
B68: - тройник Т 140/140 | C68: бр. | D68: 1
B69: - тройник Т 140/110 | C69: бр.
B70: - тройник Т 140/90 | C70: бр.
B71: - тройник Т 110/90 | C71: бр.
B72: - тройник Т 90/90 | C72: бр.
B73: - Ко 90º/140 | C73: бр. | D73: 1
B74: - Ко 90º/90 | C74: бр.
B75: - дъга ДГ 60º/140 | C75: бр. | D75: 1
B76: - дъга ДГ 15º/140 | C76: бр. | D76: 1
B77: - дъга ДГ 11º/110 | C77: бр.
B78: - дъга ДГ 60º/90 | C78: бр.
B79: - дъга ДГ 45º/90 | C79: бр.
B80: - дъга ДГ 30º/90 | C80: бр.
B81: - дъга ДГ 22º/90 | C81: бр.
B82: - дъга ДГ 18º/90 | C82: бр.
B83: - дъга ДГ 15º/90 | C83: бр.
B84: - дъга ДГ 11º/90 | C84: бр.
B85: - преход фланшов ПФ 140 | C85: бр. | D85: 1
B86: - преход фланшов ПФ 110 | C86: бр.
B87: - преход фланшов ПФ 90 | C87: бр.
A88: 3 | B88: Доставка и монтаж на намалител фланшов
B89: НФ 140/90 | C89: бр. | D89: 1
B90: НФ 110/90 | C90: бр.
B91: НФ 90/75 | C91: бр.
A92: 4 | B92: Направа челна заварка на тръбно съединение от полиетилен ф 90 мм | C92: бр. | D92: 1
A93: 5 | B93: Направа челна заварка на тръбно съединение от полиетилен ф110 мм | C93: бр. | D93: 0
A94: 6 | B94: Направа челна заварка на тръбно съединение от полиетилен ф140 мм | C94: бр. | D94: 11
A95: 7 | B95: Направа челна заварка на тръбно съединение от полиетилен ф160 мм | C95: бр. | D95: 0
A96: 8 | B96: Направа челна заварка на тръбно съединение от полиетилен ф200 мм | C96: бр. | D96: 0
A97: 4 | B97: Доставка и монтаж на СК 125 с охр. гарнитура | C97: бр. | D97: 1
A98: 5 | B98: Доставка и монтаж на СК 100 с охр. гарнитура | C98: бр. | D98: 0
A99: 6 | B99: Доставка и монтаж на СК 80 с охр. гарнитура | C99: бр. | D99: 0
A100: 7 | B100: Доставка и монтаж на пожарен хидрант 70/80 - надземен | C100: бр. | D100: 3
A101: 8 | B101: Доставка и монтаж на табели СК | C101: бр. | D101: 1
A102: 9 | B102: Доставка и монтаж на табели ПХ | C102: бр. | D102: 3
A103: 10 | B103: Доставка и полагане на сигнална лента | C103: м | D103: 501
...

Sheet КСС16
B1: Количествено-стойностна сметка № 16
B2: Обект: „Реконструкция на водоснабдителна система – гр.Земен”
F3: ул. Хан Аспарух
D4: Ф110
A5: № | B5: Наименование | C5: мярка | D5: кол-во | E5: цена | F5: стойност
B6: Изпълнение на водопровод Ф110
A7: I | B7: Водопровод - строителни работи
B8: Пътни работи
A9: 1 | B9: Рязане на асфалт | C9: m' | D9: 342
A10: =A9+1 -> 2 | B10: Разваляне на съществуваща асфалтова настилка | C10: m2 | D10: 171
A11: =A10+1 -> 3 | B11: Разваляне на съществуваща трошенокаменна настилка - 0,15+0,30 m | C11: m3 | D11: 68.85
A12: =A11+1 -> 4 | B12: Натоварване на строителни отпадъци на самосвал | C12: m3 | D12: 85.95
A13: =A12+1 -> 5 | B13: Извозване на строителни отпадъци - 15 km и такса стр.отпадъци | C13: m3 | D13: 85.95
A14: =A13+1 -> 6 | B14: Доставка и полагане на 45 см трошен камък (БДС 2282-83) - Е = 200 МРа | C14: m3 | D14: 68.85
A15: =A14+1 -> 7 | B15: Доставка и полагане на плътен асфалтобетон d=4 см,(БДС 4132-90) - Е = 1200 МРа | C15: t | D15: 16.416
A16: =A15+1 -> 8 | B16: Доставка и полагане на неплътен асфалтобетон d=4 см, (БДС 4132-90)- Е = 1000 МРа | C16: t
A17: =A16+1 -> 9 | B17: Доставка и полагане на неплътен асфалтобетон d=6 см, (БДС 4132-90) - Е = 800 МРа | C17: t | D17: 24.624
A18: =A17+1 -> 10 | B18: Доставка и полагане на битумизиран трошен кавък d=10 см, (БДС 4132-90) - Е = 800 МРа | C18: t
A19: =A18+1 -> 11 | B19: Пръскане с емулсия между неплътния асфалтобетон | C19: m2 | D19: 171
A20: =A19+1 -> 12 | B20: Заливка с битум (стар/нов асфалт) | C20: m' | D20: 342
A22: =A21+1 -> 1 | B22: Разваляне на съществуващ паваж | C22: m2
A23: =A22+1 -> 2 | B23: Възстановяване на съществуващ паваж | C23: m2 | D23: 0
A25: =A24+1 -> 1 | B25: Разкъртване на бордюри | C25: m' | D25: 9
A26: =A25+1 -> 2 | B26: Развяляне на тротоари | C26: m2 | D26: 10.8
A27: =A26+1 -> 3 | B27: Натоварване на строителни отпадъци на самосвал | C27: m3 | D27: 1.89
A28: =A27+1 -> 4 | B28: Извозване на строителни отпадъци - 15 km и такса стр.отпадъци | C28: m3 | D28: 1.89
A29: =A28+1 -> 5 | B29: Възстановяване на бордюри с регула 15см, поставени върху бетонова основа. | C29: m' | D29: 9
A30: =A29+1 -> 6 | B30: Възстановяване на тротоари с бетонови плочи 40/40/5см (БДС 625) вкл. | C30: m2 | D30: 10.8
B31: - 3 см вароциментов разтвор
B32: - 18 см трошен камък (БДС 2282-83)- Е = 200 МРа
B33: Земни работи
B34: =КСС1!B$34 -> Изкопи в 20% з.п. и 80% ск.п.
B35: за водопровод | C35: м³ | D35: 280.908
B36: за сградни отклонения | C36: м³ | D36: 58.905
B37: за пожарни хидранти | C37: м³ | D37: 12.6
B38: Всичко изкопи | C38: м³ | D38: =SUM(D35:D37) -> 352.413
B39: в т.ч. земни почви | C39: м³ | D39: =D38-D40 -> 70.483
B40: скални почви | C40: м³ | D40: =ROUND(D38*80%,2) -> 281.93
A41: 1 | B41: Изкоп с багер на земни почви с ограничена шир. по улици | C41: м³ | D41: =D39-D42 -> 56.383
A42: 2 | B42: Изкоп до 1.20м шир. и до 2м дълб.земни почви - ръчно по улици | C42: м³ | D42: =ROUND(D39*20%,2) -> 14.1
A43: 3 | B43: Натоварване на земни почви с багер на транспорт | C43: м³ | D43: =D42 -> 14.1
A44: 3 | B44: Превоз земни почви със самосвал на депо | C44: м³ | D44: =D39 -> 70.483
A45: 4 | B45: Разриване с булдозер земни почви на депото или такса депо | C45: м³ | D45: =D44 -> 70.483
A46: 5 | B46: =КСС1!B$46 -> Изкоп до 1.20м шир. и до 2м. дълб. скални почви | C46: м³ | D46: =D40 -> 281.93
A47: 6 | B47: Натоварване на скални почви с багер на транспорт | C47: м³ | D47: =D46 -> 281.93
A48: 7 | B48: Превоз скални почви със самосвал на депо | C48: м³ | D48: =D46 -> 281.93
A49: 8 | B49: Разриване с булдозер скални почви с булдозер на депо или такса депо | C49: м³ | D49: =D46 -> 281.93
A50: 9 | B50: Доставка на речен пясък за засипване около тръбите с трамбоване | C50: м³ | D50: 61.2
A51: 10 | B51: Доставка и транспорт каменна фракция (едрина до 20мм) за обратен насип | C51: м³ | D51: 291.213
A52: 11 | B52: Засипване на тесни изкопи с каменна фракция, вкл. трамбоване | C52: м³ | D52: 291.213
A53: 12 | B53: Натоварване и извозване на отпадъци със самосвал и такса стр.отпадъци | C53: м³ | D53: 1.45
A54: 13 | B54: Укрепване на гърне за ПХ | C54: бр. | D54: 3
A55: 14 | B55: Укрепване на гърне за СК | C55: бр. | D55: 4
A56: 15 | B56: Направа опорни блокове на хориз. и верт. чупки и при тройници | C56: бр. | D56: 4
A57: 16 | B57: Полагане бетон В20 - неармиран за опорни блокове, ПХ и СК | C57: м³ | D57: 1.4
A58: 17 | B58: Превоз бетон | C58: м³ | D58: 1.4
A59: 18 | B59: Направа укрепване при пресичане на кабели | C59: бр. | D59: 4
B60: Всичко водопровод - строителни работи
A62: Б | B62: Водопровод - монтажни работи
A63: 1 | B63: Доставка и полагане на РЕ тръби тип 80 в изкоп на челна заварка
B64: - ф140/10атм. | C64: м
B65: - ф110/10атм | C65: м | D65: 153
B66: - ф90/10атм. | C66: м
A67: 2 | B67: Доставка на РЕ фасонни парчета за челна заварка
B68: - тройник Т 140/140 | C68: бр.
B69: - тройник Т 140/110 | C69: бр. | D69: 1
B70: - тройник Т 140/90 | C70: бр.
B71: - тройник Т 110/90 | C71: бр.
B72: - тройник Т 90/90 | C72: бр.
B73: - Ко 90º/140 | C73: бр.
B74: - Ко 90º/90 | C74: бр.
B75: - дъга ДГ 60º/140 | C75: бр.
B76: - дъга ДГ 15º/140 | C76: бр.
B77: - дъга ДГ 11º/110 | C77: бр. | D77: 1
B78: - дъга ДГ 60º/90 | C78: бр.
B79: - дъга ДГ 45º/90 | C79: бр.
B80: - дъга ДГ 30º/90 | C80: бр.
B81: - дъга ДГ 22º/90 | C81: бр.
B82: - дъга ДГ 18º/90 | C82: бр.
B83: - дъга ДГ 15º/90 | C83: бр.
B84: - дъга ДГ 11º/90 | C84: бр.
B85: - преход фланшов ПФ 140 | C85: бр.
B86: - преход фланшов ПФ 110 | C86: бр. | D86: 3
B87: - преход фланшов ПФ 90 | C87: бр.
A88: 3 | B88: Доставка и монтаж на намалител фланшов
B89: НФ 140/90 | C89: бр.
B90: НФ 110/90 | C90: бр. | D90: 1
B91: НФ 90/75 | C91: бр.
A92: 4 | B92: Направа челна заварка на тръбно съединение от полиетилен ф 90 мм | C92: бр. | D92: 1
A93: 5 | B93: Направа челна заварка на тръбно съединение от полиетилен ф110 мм | C93: бр. | D93: 7
A94: 6 | B94: Направа челна заварка на тръбно съединение от полиетилен ф140 мм | C94: бр. | D94: 2
A95: 7 | B95: Направа челна заварка на тръбно съединение от полиетилен ф160 мм | C95: бр. | D95: 0
A96: 8 | B96: Направа челна заварка на тръбно съединение от полиетилен ф200 мм | C96: бр. | D96: 0
A97: 4 | B97: Доставка и монтаж на СК 125 с охр. гарнитура | C97: бр. | D97: 0
A98: 5 | B98: Доставка и монтаж на СК 100 с охр. гарнитура | C98: бр. | D98: 4
A99: 6 | B99: Доставка и монтаж на СК 80 с охр. гарнитура | C99: бр. | D99: 0
A100: 7 | B100: Доставка и монтаж на пожарен хидрант 70/80 - надземен | C100: бр. | D100: 3
A101: 8 | B101: Доставка и монтаж на табели СК | C101: бр. | D101: 4
A102: 9 | B102: Доставка и монтаж на табели ПХ | C102: бр. | D102: 3
A103: 10 | B103: Доставка и полагане на сигнална лента | C103: м | D103: 202.5
...

Sheet КСС15
B1: Количествено-стойностна сметка № 15
B2: Обект: „Реконструкция на водоснабдителна система – гр.Земен”
F3: ул. Райна Княгиня, ул. Хр.Смирненски, ул. Хан Кубрат, ул. Хан Аспарух
D4: ф90
A5: № | B5: Наименование | C5: мярка | D5: кол-во | E5: цена | F5: стойност
B6: Изпълнение на водопровод Ф90
A7: I | B7: Водопровод - строителни работи
B8: Пътни работи
A9: 1 | B9: Рязане на асфалт | C9: m' | D9: 2590
A10: =A9+1 -> 2 | B10: Разваляне на съществуваща асфалтова настилка | C10: m2 | D10: 1295
A11: =A10+1 -> 3 | B11: Разваляне на съществуваща трошенокаменна настилка - 0,15+0,30 m | C11: m3 | D11: 651.15
A12: =A11+1 -> 4 | B12: Натоварване на строителни отпадъци на самосвал | C12: m3 | D12: 780.65
A13: =A12+1 -> 5 | B13: Извозване на строителни отпадъци - 15 km и такса стр.отпадъци | C13: m3 | D13: 780.65
A14: =A13+1 -> 6 | B14: Доставка и полагане на 45 см трошен камък (БДС 2282-83) - Е = 200 МРа | C14: m3 | D14: 651.15
A15: =A14+1 -> 7 | B15: Доставка и полагане на плътен асфалтобетон d=4 см,(БДС 4132-90) - Е = 1200 МРа | C15: t | D15: 124.32
A16: =A15+1 -> 8 | B16: Доставка и полагане на неплътен асфалтобетон d=4 см, (БДС 4132-90)- Е = 1000 МРа | C16: t | D16: 71.52
A17: =A16+1 -> 9 | B17: Доставка и полагане на неплътен асфалтобетон d=6 см, (БДС 4132-90) - Е = 800 МРа | C17: t | D17: 79.2
A18: =A17+1 -> 10 | B18: Доставка и полагане на битумизиран трошен кавък d=10 см, (БДС 4132-90) - Е = 800 МРа | C18: t | D18: 178.8
A19: =A18+1 -> 11 | B19: Пръскане с емулсия между неплътния асфалтобетон | C19: m2 | D19: 1295
A20: =A19+1 -> 12 | B20: Заливка с битум (стар/нов асфалт) | C20: m' | D20: 2590
A22: =A21+1 -> 1 | B22: Разваляне на съществуващ паваж | C22: m2 | D22: 80
... A30: =A29+1 -> 6 | B30: Възстановяване на тротоари с бетонови плочи 40/40/5см (БДС 625) вкл. | C30: m2 | D30: 94.8
B31: - 3 см вароциментов разтвор
B32: - 18 см трошен камък (БДС 2282-83)- Е = 200 МРа
B33: Земни работи
B34: =КСС1!B$34 -> Изкопи в 20% з.п. и 80% ск.п.
B35: за водопровод | C35: м³ | D35: 2604.6
B36: за сградни отклонения | C36: м³ | D36: 517.055
B37: за пожарни хидранти | C37: м³ | D37: 14.4
B38: Всичко изкопи | C38: м³ | D38: =SUM(D35:D37) -> 3136.055
B39: в т.ч. земни почви | C39: м³ | D39: =D38-D40 -> 627.215
B40: скални почви | C40: м³ | D40: =ROUND(D38*80%,2) -> 2508.84
A41: 1 | B41: Изкоп с багер на земни почви с ограничена шир. по улици | C41: м³ | D41: =D39-D42 -> 501.775
A42: 2 | B42: Изкоп до 1.20м шир. и до 2м дълб.земни почви - ръчно по улици | C42: м³ | D42: =ROUND(D39*20%,2) -> 125.44
A43: 3 | B43: Натоварване на земни почви с багер на транспорт | C43: м³ | D43: =D42 -> 125.44
A44: 3 | B44: Превоз земни почви със самосвал на депо | C44: м³ | D44: =D39 -> 627.215
A45: 4 | B45: Разриване с булдозер земни почви на депото или такса депо | C45: м³ | D45: =D44 -> 627.215
A46: 5 | B46: =КСС1!B$46 -> Изкоп до 1.20м шир. и до 2м. дълб. скални почви | C46: м³ | D46: =D40 -> 2508.84
A47: 6 | B47: Натоварване на скални почви с багер на транспорт | C47: м³ | D47: =D46 -> 2508.84
A48: 7 | B48: Превоз скални почви със самосвал на депо | C48: м³ | D48: =D46 -> 2508.84
A49: 8 | B49: Разриване с булдозер скални почви с булдозер на депо или такса депо | C49: м³ | D49: =D46 -> 2508.84
A50: 9 | B50: Доставка на речен пясък за засипване около тръбите с трамбоване | C50: м³ | D50: 578.8
A51: 10 | B51: Доставка и транспорт каменна фракция (едрина до 20мм) за обратен насип | C51: м³ | D51: 2557.255
A52: 11 | B52: Засипване на тесни изкопи с каменна фракция, вкл. трамбоване | C52: м³ | D52: 2557.255
A53: 12 | B53: Натоварване и извозване на отпадъци със самосвал и такса стр.отпадъци | C53: м³ | D53: 9.21
A54: 13 | B54: Укрепване на гърне за ПХ | C54: бр. | D54: 4
A55: 14 | B55: Укрепване на гърне за СК | C55: бр. | D55: 4
A56: 15 | B56: Направа опорни блокове на хориз. и верт. чупки и при тройници | C56: бр. | D56: 35
A57: 16 | B57: Полагане бетон В20 - неармиран за опорни блокове, ПХ и СК | C57: м³ | D57: 12.25
A58: 17 | B58: Превоз бетон | C58: м³ | D58: 12.25
A59: 18 | B59: Направа укрепване при пресичане на кабели | C59: бр. | D59: 42
B60: Всичко водопровод - строителни работи
A62: Б | B62: Водопровод - монтажни работи
A63: 1 | B63: Доставка и полагане на РЕ тръби тип 80 в изкоп на челна заварка
B64: - ф140/10атм. | C64: м
B65: - ф110/10атм | C65: м
B66: - ф90/10атм. | C66: м | D66: 1447
A67: 2 | B67: Доставка на РЕ фасонни парчета за челна заварка
B68: - тройник Т 140/140 | C68: бр.
B69: - тройник Т 140/110 | C69: бр.
B70: - тройник Т 140/90 | C70: бр. | D70: 1
B71: - тройник Т 110/90 | C71: бр. | D71: 1
B72: - тройник Т 90/90 | C72: бр. | D72: 5
B73: - Ко 90º/140 | C73: бр.
B74: - Ко 90º/90 | C74: бр. | D74: 5
B75: - дъга ДГ 60º/140 | C75: бр.
B76: - дъга ДГ 15º/140 | C76: бр.
B77: - дъга ДГ 11º/110 | C77: бр.
B78: - дъга ДГ 60º/90 | C78: бр. | D78: 3
B79: - дъга ДГ 45º/90 | C79: бр. | D79: 4
B80: - дъга ДГ 30º/90 | C80: бр. | D80: 2
B81: - дъга ДГ 22º/90 | C81: бр. | D81: 4
B82: - дъга ДГ 18º/90 | C82: бр. | D82: 1
B83: - дъга ДГ 15º/90 | C83: бр. | D83: 9
B84: - дъга ДГ 11º/90 | C84: бр. | D84: 20
B85: - преход фланшов ПФ 140 | C85: бр.
B86: - преход фланшов ПФ 110 | C86: бр.
B87: - преход фланшов ПФ 90 | C87: бр. | D87: 16
A88: 3 | B88: Доставка и монтаж на намалител фланшов
B89: НФ 140/90 | C89: бр.
B90: НФ 110/90 | C90: бр.
B91: НФ 90/75 | C91: бр. | D91: 1
A92: 4 | B92: Направа челна заварка на тръбно съединение от полиетилен ф 90 мм | C92: бр. | D92: 130
A93: 5 | B93: Направа челна заварка на тръбно съединение от полиетилен ф110 мм | C93: бр. | D93: 2
A94: 6 | B94: Направа челна заварка на тръбно съединение от полиетилен ф140 мм | C94: бр. | D94: 2
A95: 7 | B95: Направа челна заварка на тръбно съединение от полиетилен ф160 мм | C95: бр. | D95: 0
A96: 8 | B96: Направа челна заварка на тръбно съединение от полиетилен ф200 мм | C96: бр. | D96: 0
A97: 4 | B97: Доставка и монтаж на СК 125 с охр. гарнитура | C97: бр. | D97: 0
A98: 5 | B98: Доставка и монтаж на СК 100 с охр. гарнитура | C98: бр. | D98: 0
A99: 6 | B99: Доставка и монтаж на СК 80 с охр. гарнитура | C99: бр. | D99: 4
A100: 7 | B100: Доставка и монтаж на пожарен хидрант 70/80 - надземен | C100: бр. | D100: 4
A101: 8 | B101: Доставка и монтаж на табели СК | C101: бр. | D101: 4
A102: 9 | B102: Доставка и монтаж на табели ПХ | C102: бр. | D102: 4
A103: 10 | B103: Доставка и полагане на сигнална лента | C103: м | D103: 1881.5
... A106: 13 | B106: Дезинфекция на водопровод | C106: м | D106: 1881.5
B107: Всичко водопровод - монтажни работи
A109: I. | B109: Сградни отклонения 106бр. - мотажни работи
A110: 1 | B110: Доставка и монтаж на водовземна скоба :
B111: ЕО ф 140/25 | C111: бр.
B112: ЕО ф 110/25 | C112: бр.
...

Sheet КСС14
B1: Количествено-стойностна сметка № 14
B2: Обект: „Реконструкция на водоснабдителна система – гр.Земен”
F3: ул. В.Левски, ул. Ал.Стамболийски, ул. Цар Асен
D4: Ф140
A5: № | B5: Наименование | C5: мярка | D5: кол-во | E5: цена | F5: стойност
B6: Изпълнение на водопровод Ф140
A7: I | B7: Водопровод - строителни работи
B8: Пътни работи
A9: 1 | B9: Рязане на асфалт | C9: m' | D9: 1194 | F9: =ROUND(D9*E9,2) -> 0
A10: =A9+1 -> 2 | B10: Разваляне на съществуваща асфалтова настилка | C10: m2 | D10: 597 | F10: =ROUND(D10*E10,2) -> 0
A11: =A10+1 -> 3 | B11: Разваляне на съществуваща трошенокаменна настилка - 0,15+0,30 m | C11: m3 | D11: 238.95 | F11: =ROUND(D11*E11,2) -> 0
A12: =A11+1 -> 4 | B12: Натоварване на строителни отпадъци на самосвал | C12: m3 | D12: 298.65 | F12: =ROUND(D12*E12,2) -> 0
A13: =A12+1 -> 5 | B13: Извозване на строителни отпадъци - 15 km и такса стр.отпадъци | C13: m3 | D13: 298.65 | F13: =ROUND(D13*E13,2) -> 0
A14: =A13+1 -> 6 | B14: Доставка и полагане на 45 см трошен камък (БДС 2282-83) - Е = 200 МРа | C14: m3 | D14: 238.95 | F14: =ROUND(D14*E14,2) -> 0
A15: =A14+1 -> 7 | B15: Доставка и полагане на плътен асфалтобетон d=4 см,(БДС 4132-90) - Е = 1200 МРа | C15: t | D15: 57.312 | F15: =ROUND(D15*E15,2) -> 0
A16: =A15+1 -> 8 | B16: Доставка и полагане на неплътен асфалтобетон d=4 см, (БДС 4132-90)- Е = 1000 МРа | C16: t | D16: 0 | F16: =ROUND(D16*E16,2) -> 0
A17: =A16+1 -> 9 | B17: Доставка и полагане на неплътен асфалтобетон d=6 см, (БДС 4132-90) - Е = 800 МРа | C17: t | D17: 85.968 | F17: =ROUND(D17*E17,2) -> 0
A18: =A17+1 -> 10 | B18: Доставка и полагане на битумизиран трошен кавък d=10 см, (БДС 4132-90) - Е = 800 МРа | C18: t | D18: 0 | F18: =ROUND(D18*E18,2) -> 0
A19: =A18+1 -> 11 | B19: Пръскане с емулсия между неплътния асфалтобетон | C19: m2 | D19: 597 | F19: =ROUND(D19*E19,2) -> 0
A20: =A19+1 -> 12 | B20: Заливка с битум (стар/нов асфалт) | C20: m' | D20: 1194 | F20: =ROUND(D20*E20,2) -> 0
A22: =A21+1 -> 1 | B22: Разваляне на съществуващ паваж | C22: m2 | D22: 0 | F22: =ROUND(D22*E22,2) -> 0
... A30: =A29+1 -> 6 | B30: Възстановяване на тротоари с бетонови плочи 40/40/5см (БДС 625) вкл. | C30: m2 | D30: 39.6 | F30: =ROUND(D30*E30,2) -> 0
B31: - 3 см вароциментов разтвор
B32: - 18 см трошен камък (БДС 2282-83)- Е = 200 МРа
B33: Земни работи
B34: =КСС1!B$34 -> Изкопи в 20% з.п. и 80% ск.п.
B35: за водопровод | C35: м³ | D35: 1003.59
B36: за сградни отклонения | C36: м³ | D36: 209.44
B37: за пожарни хидранти | C37: м³ | D37: 5.4
B38: Всичко изкопи | C38: м³ | D38: =SUM(D35:D37) -> 1218.43
B39: в т.ч. земни почви | C39: м³ | D39: =D38-D40 -> 243.69
B40: скални почви | C40: м³ | D40: =ROUND(D38*80%,2) -> 974.74
A41: 1 | B41: Изкоп с багер на земни почви с ограничена шир. по улици | C41: м³ | D41: =D39-D42 -> 194.95 | F41: =ROUND(D41*E41,2) -> 0
A42: 2 | B42: Изкоп до 1.20м шир. и до 2м дълб.земни почви - ръчно по улици | C42: м³ | D42: =ROUND(D39*20%,2) -> 48.74 | F42: =ROUND(D42*E42,2) -> 0
A43: 3 | B43: Натоварване на земни почви с багер на транспорт | C43: м³ | D43: =D42 -> 48.74 | F43: =ROUND(D43*E43,2) -> 0
A44: 3 | B44: Превоз земни почви със самосвал на депо | C44: м³ | D44: =D39 -> 243.69 | F44: =ROUND(D44*E44,2) -> 0
A45: 4 | B45: Разриване с булдозер земни почви на депото или такса депо | C45: м³ | D45: =D44 -> 243.69 | F45: =ROUND(D45*E45,2) -> 0
A46: 5 | B46: =КСС1!B$46 -> Изкоп до 1.20м шир. и до 2м. дълб. скални почви | C46: м³ | D46: =D40 -> 974.74 | F46: =ROUND(D46*E46,2) -> 0
A47: 6 | B47: Натоварване на скални почви с багер на транспорт | C47: м³ | D47: =D46 -> 974.74 | F47: =ROUND(D47*E47,2) -> 0
A48: 7 | B48: Превоз скални почви със самосвал на депо | C48: м³ | D48: =D46 -> 974.74 | F48: =ROUND(D48*E48,2) -> 0
A49: 8 | B49: Разриване с булдозер скални почви с булдозер на депо или такса депо | C49: м³ | D49: =D46 -> 974.74 | F49: =ROUND(D49*E49,2) -> 0
A50: 9 | B50: Доставка на речен пясък за засипване около тръбите с трамбоване | C50: м³ | D50: 212.4 | F50: =ROUND(D50*E50,2) -> 0
A51: 10 | B51: Доставка и транспорт каменна фракция (едрина до 20мм) за обратен насип | C51: м³ | D51: 1006.03 | F51: =ROUND(D51*E51,2) -> 0
A52: 11 | B52: Засипване на тесни изкопи с каменна фракция, вкл. трамбоване | C52: м³ | D52: 1006.03 | F52: =ROUND(D52*E52,2) -> 0
A53: 12 | B53: Натоварване и извозване на отпадъци със самосвал и такса стр.отпадъци | C53: м³ | D53: 8.17 | F53: =ROUND(D53*E53,2) -> 0
A54: 13 | B54: Укрепване на гърне за ПХ | C54: бр. | D54: 3 | F54: =ROUND(D54*E54,2) -> 0
A55: 14 | B55: Укрепване на гърне за СК | C55: бр. | D55: 1 | F55: =ROUND(D55*E55,2) -> 0
A56: 15 | B56: Направа опорни блокове на хориз. и верт. чупки и при тройници | C56: бр. | D56: 12 | F56: =ROUND(D56*E56,2) -> 0
A57: 16 | B57: Полагане бетон В20 - неармиран за опорни блокове, ПХ и СК | C57: м³ | D57: 4.2 | F57: =ROUND(D57*E57,2) -> 0
A58: 17 | B58: Превоз бетон | C58: м³ | D58: 4.2 | F58: =ROUND(D58*E58,2) -> 0
A59: 18 | B59: Направа укрепване при пресичане на кабели | C59: бр. | D59: 11 | F59: =ROUND(D59*E59,2) -> 0
B60: Всичко водопровод - строителни работи | F60: =ROUND(SUM(F8:F59),2) -> 0
A61: Б | B61: Водопровод - монтажни работи
A62: 1 | B62: Доставка и полагане на РЕ тръби тип 80 в изкоп на челна заварка
B63: - ф140/10атм. | C63: м | D63: 531 | F63: =ROUND(D63*E63,2) -> 0
B64: - ф110/10атм | C64: м | F64: =ROUND(D64*E64,2) -> 0
B65: - ф90/10атм. | C65: м | F65: =ROUND(D65*E65,2) -> 0
A66: 2 | B66: Доставка на РЕ фасонни парчета за челна заварка
B67: - тройник Т 140/140 | C67: бр. | D67: 2 | F67: =ROUND(D67*E67,2) -> 0
B68: - тройник Т 140/110 | C68: бр. | F68: =ROUND(D68*E68,2) -> 0
B69: - тройник Т 140/90 | C69: бр. | F69: =ROUND(D69*E69,2) -> 0
B70: - тройник Т 110/90 | C70: бр. | F70: =ROUND(D70*E70,2) -> 0
B71: - тройник Т 90/90 | C71: бр. | F71: =ROUND(D71*E71,2) -> 0
B72: - Ко 90º/110 | C72: бр. | F72: =ROUND(D72*E72,2) -> 0
B73: - дъга ДГ 22º/140 | C73: бр. | D73: 1 | F73: =ROUND(D73*E73,2) -> 0
B74: - дъга ДГ 11º/140 | C74: бр. | D74: 1 | F74: =ROUND(D74*E74,2) -> 0
B75: - дъга ДГ 22º/110 | C75: бр. | F75: =ROUND(D75*E75,2) -> 0
B76: - дъга ДГ 30º/90 | C76: бр. | F76: =ROUND(D76*E76,2) -> 0
B77: - дъга ДГ 25º/90 | C77: бр. | F77: =ROUND(D77*E77,2) -> 0
B78: - дъга ДГ 22º/90 | C78: бр. | F78: =ROUND(D78*E78,2) -> 0
B79: - дъга ДГ 15º/90 | C79: бр. | F79: =ROUND(D79*E79,2) -> 0
B80: - дъга ДГ 11º/90 | C80: бр. | F80: =ROUND(D80*E80,2) -> 0
B81: - преход фланшов ПФ 140 | C81: бр. | D81: 3 | F81: =ROUND(D81*E81,2) -> 0
B82: - преход фланшов ПФ 110 | C82: бр. | F82: =ROUND(D82*E82,2) -> 0
B83: - преход фланшов ПФ 90 | C83: бр. | F83: =ROUND(D83*E83,2) -> 0
A84: 3 | B84: Доставка и монтаж на намалител фланшов
B85: НФ 140/110 | C85: бр. | F85: =ROUND(D85*E85,2) -> 0
B86: НФ 140/90 | C86: бр. | F86: =ROUND(D86*E86,2) -> 0
A87: 4 | B87: Направа челна заварка на тръбно съединение от полиетилен ф 90 мм | C87: бр. | D87: 0 | F87: =ROUND(D87*E87,2) -> 0
A88: 5 | B88: Направа челна заварка на тръбно съединение от полиетилен ф110 мм | C88: бр. | D88: 0 | F88: =ROUND(D88*E88,2) -> 0
A89: 6 | B89: Направа челна заварка на тръбно съединение от полиетилен ф140 мм | C89: бр. | D89: 13 | F89: =ROUND(D89*E89,2) -> 0
A90: 7 | B90: Направа челна заварка на тръбно съединение от полиетилен ф160 мм | C90: бр. | D90: 0 | F90: =ROUND(D90*E90,2) -> 0
A91: 8 | B91: Направа челна заварка на тръбно съединение от полиетилен ф200 мм | C91: бр. | D91: 0 | F91: =ROUND(D91*E91,2) -> 0
B92: Доставка и монтаж на СК 125 с охр. гарнитура | C92: бр. | D92: 1 | F92: =ROUND(D92*E92,2) -> 0
A93: 4 | B93: Доставка и монтаж на СК 100 с охр. гарнитура | C93: бр. | F93: =ROUND(D93*E93,2) -> 0
A94: 5 | B94: Доставка и монтаж на СК 80 с охр. гарнитура | C94: бр. | F94: =ROUND(D94*E94,2) -> 0
A95: 6 | B95: Доставка и монтаж на пожарен хидрант 70/80 - надземен | C95: бр. | D95: 3 | F95: =ROUND(D95*E95,2) -> 0
A96: 7 | B96: Доставка и монтаж на табели СК | C96: бр. | D96: 1 | F96: =ROUND(D96*E96,2) -> 0
A97: 8 | B97: Доставка и монтаж на табели ПХ | C97: бр. | D97: 3 | F97: =ROUND(D97*E97,2) -> 0
A98: 9 | B98: Доставка и полагане на сигнална лента | C98: м | D98: 707 | F98: =ROUND(D98*E98,2) -> 0
A99: 10 | B99: Доставка и полагане на детекторна лента | C99: м | D99: 707 | F99: =ROUND(D99*E99,2) -> 0
A100: 11 | B100: Изпитване на водопровод до ф 140 на водоплътност | C100: м | D100: 707 | F100: =ROUND(D100*E100,2) -> 0
A101: 12 | B101: Дезинфекция на водопровод | C101: м | D101: 707 | F101: =ROUND(D101*E101,2) -> 0
B102: Всичко водопровод - монтажни работи | F102: =ROUND(SUM(F63:F101),2) -> 0
A104: I. | B104: Сградни отклонения 92бр. - мотажни работи
A105: 1 | B105: Доставка и монтаж на водовземна скоба :
B106: ЕО ф 140/50 | C106: бр. | D106: 1 | F106: =ROUND(D106*E106,2) -> 0
B107: ЕО ф 140/40 | C107: бр. | D107: 1 | F107: =ROUND(D107*E107,2) -> 0
B108: ЕО ф 140/25 | C108: бр. | D108: 31 | F108: =ROUND(D108*E108,2) -> 0
B109: ЕО ф 110/40 | C109: бр. | F109: =ROUND(D109*E109,2) -> 0
...

Sheet КСС13
B1: Количествено-стойностна сметка № 13
B2: Обект: „Реконструкция на водоснабдителна система – гр.Земен”
F3: ул. Ал.Стамболийски
D4: Ф110
A5: № | B5: Наименование | C5: мярка | D5: кол-во | E5: цена | F5: стойност
B6: Изпълнение на водопровод Ф110
A7: I | B7: Водопровод - строителни работи
B8: Пътни работи
A9: 1 | B9: Рязане на асфалт | C9: m' | D9: 510 | F9: =ROUND(D9*E9,2) -> 0
A10: =A9+1 -> 2 | B10: Разваляне на съществуваща асфалтова настилка | C10: m2 | D10: 255 | F10: =ROUND(D10*E10,2) -> 0
A11: =A10+1 -> 3 | B11: Разваляне на съществуваща трошенокаменна настилка - 0,15+0,30 m | C11: m3 | D11: 104.85 | F11: =ROUND(D11*E11,2) -> 0
A12: =A11+1 -> 4 | B12: Натоварване на строителни отпадъци на самосвал | C12: m3 | D12: 130.35 | F12: =ROUND(D12*E12,2) -> 0
A13: =A12+1 -> 5 | B13: Извозване на строителни отпадъци - 15 km и такса стр.отпадъци | C13: m3 | D13: 130.35 | F13: =ROUND(D13*E13,2) -> 0
A14: =A13+1 -> 6 | B14: Доставка и полагане на 45 см трошен камък (БДС 2282-83) - Е = 200 МРа | C14: m3 | D14: 104.85 | F14: =ROUND(D14*E14,2) -> 0
A15: =A14+1 -> 7 | B15: Доставка и полагане на плътен асфалтобетон d=4 см,(БДС 4132-90) - Е = 1200 МРа | C15: t | D15: 24.48 | F15: =ROUND(D15*E15,2) -> 0
A16: =A15+1 -> 8 | B16: Доставка и полагане на неплътен асфалтобетон d=4 см, (БДС 4132-90)- Е = 1000 МРа | C16: t | D16: 0 | F16: =ROUND(D16*E16,2) -> 0
A17: =A16+1 -> 9 | B17: Доставка и полагане на неплътен асфалтобетон d=6 см, (БДС 4132-90) - Е = 800 МРа | C17: t | D17: 36.72 | F17: =ROUND(D17*E17,2) -> 0
A18: =A17+1 -> 10 | B18: Доставка и полагане на битумизиран трошен кавък d=10 см, (БДС 4132-90) - Е = 800 МРа | C18: t | D18: 0 | F18: =ROUND(D18*E18,2) -> 0
A19: =A18+1 -> 11 | B19: Пръскане с емулсия между неплътния асфалтобетон | C19: m2 | D19: 255 | F19: =ROUND(D19*E19,2) -> 0
A20: =A19+1 -> 12 | B20: Заливка с битум (стар/нов асфалт) | C20: m' | D20: 510 | F20: =ROUND(D20*E20,2) -> 0
A22: =A21+1 -> 1 | B22: Разваляне на съществуващ паваж | C22: m2 | D22: 0 | F22: =ROUND(D22*E22,2) -> 0
... A30: =A29+1 -> 6 | B30: Възстановяване на тротоари с бетонови плочи 40/40/5см (БДС 625) вкл. | C30: m2 | D30: 13.2 | F30: =ROUND(D30*E30,2) -> 0
B31: - 3 см вароциментов разтвор
B32: - 18 см трошен камък (БДС 2282-83)- Е = 200 МРа
B33: Земни работи
B34: =КСС1!B$34 -> Изкопи в 20% з.п. и 80% ск.п.
B35: за водопровод | C35: м³ | D35: 427.788
B36: за сградни отклонения | C36: м³ | D36: 71.4
B37: за пожарни хидранти | C37: м³ | D37: 12.6
B38: Всичко изкопи | C38: м³ | D38: =SUM(D35:D37) -> 511.788
B39: в т.ч. земни почви | C39: м³ | D39: =D38-D40 -> 102.358
B40: скални почви | C40: м³ | D40: =ROUND(D38*80%,2) -> 409.43
A41: 1 | B41: Изкоп с багер на земни почви с ограничена шир. по улици | C41: м³ | D41: =D39-D42 -> 81.888 | F41: =ROUND(D41*E41,2) -> 0
A42: 2 | B42: Изкоп до 1.20м шир. и до 2м дълб.земни почви - ръчно по улици | C42: м³ | D42: =ROUND(D39*20%,2) -> 20.47 | F42: =ROUND(D42*E42,2) -> 0
A43: 3 | B43: Натоварване на земни почви с багер на транспорт | C43: м³ | D43: =D42 -> 20.47 | F43: =ROUND(D43*E43,2) -> 0
A44: 3 | B44: Превоз земни почви със самосвал на депо | C44: м³ | D44: =D39 -> 102.358 | F44: =ROUND(D44*E44,2) -> 0
A45: 4 | B45: Разриване с булдозер земни почви на депото или такса депо | C45: м³ | D45: =D44 -> 102.358 | F45: =ROUND(D45*E45,2) -> 0
A46: 5 | B46: =КСС1!B$46 -> Изкоп до 1.20м шир. и до 2м. дълб. скални почви | C46: м³ | D46: =D40 -> 409.43 | F46: =ROUND(D46*E46,2) -> 0
A47: 6 | B47: Натоварване на скални почви с багер на транспорт | C47: м³ | D47: =D46 -> 409.43 | F47: =ROUND(D47*E47,2) -> 0
A48: 7 | B48: Превоз скални почви със самосвал на депо | C48: м³ | D48: =D46 -> 409.43 | F48: =ROUND(D48*E48,2) -> 0
A49: 8 | B49: Разриване с булдозер скални почви с булдозер на депо или такса депо | C49: м³ | D49: =D46 -> 409.43 | F49: =ROUND(D49*E49,2) -> 0
A50: 9 | B50: Доставка на речен пясък за засипване около тръбите с трамбоване | C50: м³ | D50: 93.2 | F50: =ROUND(D50*E50,2) -> 0
A51: 10 | B51: Доставка и транспорт каменна фракция (едрина до 20мм) за обратен насип | C51: м³ | D51: 418.588 | F51: =ROUND(D51*E51,2) -> 0
A52: 11 | B52: Засипване на тесни изкопи с каменна фракция, вкл. трамбоване | C52: м³ | D52: 418.588 | F52: =ROUND(D52*E52,2) -> 0
A53: 12 | B53: Натоварване и извозване на отпадъци със самосвал и такса стр.отпадъци | C53: м³ | D53: 2.21 | F53: =ROUND(D53*E53,2) -> 0
A54: 13 | B54: Укрепване на гърне за ПХ | C54: бр. | D54: 3 | F54: =ROUND(D54*E54,2) -> 0
A55: 14 | B55: Укрепване на гърне за СК | C55: бр. | D55: 4 | F55: =ROUND(D55*E55,2) -> 0
A56: 15 | B56: Направа опорни блокове на хориз. и верт. чупки и при тройници | C56: бр. | D56: 5 | F56: =ROUND(D56*E56,2) -> 0
A57: 16 | B57: Полагане бетон В20 - неармиран за опорни блокове, ПХ и СК | C57: м³ | D57: 1.75 | F57: =ROUND(D57*E57,2) -> 0
A58: 17 | B58: Превоз бетон | C58: м³ | D58: 1.75 | F58: =ROUND(D58*E58,2) -> 0
A59: 18 | B59: Направа укрепване при пресичане на кабели | C59: бр. | D59: 5 | F59: =ROUND(D59*E59,2) -> 0
B60: Всичко водопровод - строителни работи | F60: =ROUND(SUM(F8:F59),2) -> 0
A61: Б | B61: Водопровод - монтажни работи
A62: 1 | B62: Доставка и полагане на РЕ тръби тип 80 в изкоп на челна заварка
B63: - ф140/10атм. | C63: м | F63: =ROUND(D63*E63,2) -> 0
B64: - ф110/10атм | C64: м | D64: 233 | F64: =ROUND(D64*E64,2) -> 0
B65: - ф90/10атм. | C65: м | F65: =ROUND(D65*E65,2) -> 0
A66: 2 | B66: Доставка на РЕ фасонни парчета за челна заварка
B67: - тройник Т 140/140 | C67: бр. | F67: =ROUND(D67*E67,2) -> 0
B68: - тройник Т 140/110 | C68: бр. | D68: 2 | F68: =ROUND(D68*E68,2) -> 0
B69: - тройник Т 140/90 | C69: бр. | F69: =ROUND(D69*E69,2) -> 0
B70: - тройник Т 110/90 | C70: бр. | F70: =ROUND(D70*E70,2) -> 0
B71: - тройник Т 90/90 | C71: бр. | F71: =ROUND(D71*E71,2) -> 0
B72: - Ко 90º/110 | C72: бр. | F72: =ROUND(D72*E72,2) -> 0
B73: - дъга ДГ 22º/140 | C73: бр. | F73: =ROUND(D73*E73,2) -> 0
B74: - дъга ДГ 11º/140 | C74: бр. | F74: =ROUND(D74*E74,2) -> 0
B75: - дъга ДГ 22º/110 | C75: бр. | D75: 1 | F75: =ROUND(D75*E75,2) -> 0
B76: - дъга ДГ 30º/90 | C76: бр. | F76: =ROUND(D76*E76,2) -> 0
B77: - дъга ДГ 25º/90 | C77: бр. | F77: =ROUND(D77*E77,2) -> 0
B78: - дъга ДГ 22º/90 | C78: бр. | F78: =ROUND(D78*E78,2) -> 0
B79: - дъга ДГ 15º/90 | C79: бр. | F79: =ROUND(D79*E79,2) -> 0
B80: - дъга ДГ 11º/90 | C80: бр. | F80: =ROUND(D80*E80,2) -> 0
B81: - преход фланшов ПФ 140 | C81: бр. | F81: =ROUND(D81*E81,2) -> 0
B82: - преход фланшов ПФ 110 | C82: бр. | D82: 4 | F82: =ROUND(D82*E82,2) -> 0
B83: - преход фланшов ПФ 90 | C83: бр. | F83: =ROUND(D83*E83,2) -> 0
A84: 3 | B84: Доставка и монтаж на намалител фланшов
B85: НФ 140/110 | C85: бр. | D85: 1 | F85: =ROUND(D85*E85,2) -> 0
B86: НФ 140/90 | C86: бр. | F86: =ROUND(D86*E86,2) -> 0
A87: 4 | B87: Направа челна заварка на тръбно съединение от полиетилен ф 90 мм | C87: бр. | D87: 0 | F87: =ROUND(D87*E87,2) -> 0
A88: 5 | B88: Направа челна заварка на тръбно съединение от полиетилен ф110 мм | C88: бр. | D88: 9 | F88: =ROUND(D88*E88,2) -> 0
A89: 6 | B89: Направа челна заварка на тръбно съединение от полиетилен ф140 мм | C89: бр. | D89: 5 | F89: =ROUND(D89*E89,2) -> 0
A90: 7 | B90: Направа челна заварка на тръбно съединение от полиетилен ф160 мм | C90: бр. | D90: 0 | F90: =ROUND(D90*E90,2) -> 0
A91: 8 | B91: Направа челна заварка на тръбно съединение от полиетилен ф200 мм | C91: бр. | D91: 0 | F91: =ROUND(D91*E91,2) -> 0
B92: Доставка и монтаж на СК 125 с охр. гарнитура | C92: бр. | F92: =ROUND(D92*E92,2) -> 0
A93: 4 | B93: Доставка и монтаж на СК 100 с охр. гарнитура | C93: бр. | D93: 4 | F93: =ROUND(D93*E93,2) -> 0
A94: 5 | B94: Доставка и монтаж на СК 80 с охр. гарнитура | C94: бр. | F94: =ROUND(D94*E94,2) -> 0
A95: 6 | B95: Доставка и монтаж на пожарен хидрант 70/80 - надземен | C95: бр. | D95: 3 | F95: =ROUND(D95*E95,2) -> 0
A96: 7 | B96: Доставка и монтаж на табели СК | C96: бр. | D96: 4 | F96: =ROUND(D96*E96,2) -> 0
A97: 8 | B97: Доставка и монтаж на табели ПХ | C97: бр. | D97: 3 | F97: =ROUND(D97*E97,2) -> 0
A98: 9 | B98: Доставка и полагане на сигнална лента | C98: м | D98: 293 | F98: =ROUND(D98*E98,2) -> 0
A99: 10 | B99: Доставка и полагане на детекторна лента | C99: м | D99: 293 | F99: =ROUND(D99*E99,2) -> 0
A100: 11 | B100: Изпитване на водопровод до ф 140 на водоплътност | C100: м | D100: 293 | F100: =ROUND(D100*E100,2) -> 0
A101: 12 | B101: Дезинфекция на водопровод | C101: м | D101: 293 | F101: =ROUND(D101*E101,2) -> 0
B102: Всичко водопровод - монтажни работи | F102: =ROUND(SUM(F63:F101),2) -> 0
A104: I. | B104: Сградни отклонения 92бр. - мотажни работи
A105: 1 | B105: Доставка и монтаж на водовземна скоба :
B106: ЕО ф 140/50 | C106: бр. | F106: =ROUND(D106*E106,2) -> 0
B107: ЕО ф 140/40 | C107: бр. | F107: =ROUND(D107*E107,2) -> 0
B108: ЕО ф 140/25 | C108: бр. | F108: =ROUND(D108*E108,2) -> 0
B109: ЕО ф 110/40 | C109: бр. | D109: 2 | F109: =ROUND(D109*E109,2) -> 0
...

Sheet КСС11
B1: Количествено-стойностна сметка № 11
B2: Обект: „Реконструкция на водоснабдителна система – гр.Земен”
F3: ул. И.Стойнев
D4: Ф140
A5: № | B5: Наименование | C5: мярка | D5: кол-во | E5: цена | F5: стойност
B6: Изпълнение на водопровод Ф140
A7: I | B7: Водопровод - строителни работи
B8: Пътни работи
A9: 1 | B9: Рязане на асфалт | C9: m' | D9: 408 | F9: =ROUND(D9*E9,2) -> 0
A10: =A9+1 -> 2 | B10: Разваляне на съществуваща асфалтова настилка | C10: m2 | D10: 204 | F10: =ROUND(D10*E10,2) -> 0
A11: =A10+1 -> 3 | B11: Разваляне на съществуваща трошенокаменна настилка - 0,15+0,30 m | C11: m3 | D11: 87.3 | F11: =ROUND(D11*E11,2) -> 0
A12: =A11+1 -> 4 | B12: Натоварване на строителни отпадъци на самосвал | C12: m3 | D12: 107.7 | F12: =ROUND(D12*E12,2) -> 0
A13: =A12+1 -> 5 | B13: Извозване на строителни отпадъци - 15 km и такса стр.отпадъци | C13: m3 | D13: 107.7 | F13: =ROUND(D13*E13,2) -> 0
A14: =A13+1 -> 6 | B14: Доставка и полагане на 45 см трошен камък (БДС 2282-83) - Е = 200 МРа | C14: m3 | D14: 87.3 | F14: =ROUND(D14*E14,2) -> 0
A15: =A14+1 -> 7 | B15: Доставка и полагане на плътен асфалтобетон d=4 см,(БДС 4132-90) - Е = 1200 МРа | C15: t | D15: 19.584 | F15: =ROUND(D15*E15,2) -> 0
A16: =A15+1 -> 8 | B16: Доставка и полагане на неплътен асфалтобетон d=4 см, (БДС 4132-90)- Е = 1000 МРа | C16: t | D16: 0 | F16: =ROUND(D16*E16,2) -> 0
A17: =A16+1 -> 9 | B17: Доставка и полагане на неплътен асфалтобетон d=6 см, (БДС 4132-90) - Е = 800 МРа | C17: t | D17: 29.376 | F17: =ROUND(D17*E17,2) -> 0
A18: =A17+1 -> 10 | B18: Доставка и полагане на битумизиран трошен кавък d=10 см, (БДС 4132-90) - Е = 800 МРа | C18: t | D18: 0 | F18: =ROUND(D18*E18,2) -> 0
A19: =A18+1 -> 11 | B19: Пръскане с емулсия между неплътния асфалтобетон | C19: m2 | D19: 204 | F19: =ROUND(D19*E19,2) -> 0
A20: =A19+1 -> 12 | B20: Заливка с битум (стар/нов асфалт) | C20: m' | D20: 408 | F20: =ROUND(D20*E20,2) -> 0
A22: =A21+1 -> 1 | B22: Разваляне на съществуващ паваж | C22: m2 | D22: 0 | F22: =ROUND(D22*E22,2) -> 0
... A30: =A29+1 -> 6 | B30: Възстановяване на тротоари с бетонови плочи 40/40/5см (БДС 625) вкл. | C30: m2 | D30: 6 | F30: =ROUND(D30*E30,2) -> 0
B31: - 3 см вароциментов разтвор
B32: - 18 см трошен камък (БДС 2282-83)- Е = 200 МРа
B33: Земни работи
B34: =КСС1!B$34 -> Изкопи в 20% з.п. и 80% ск.п.
B35: за водопровод | C35: м³ | D35: 366.66
B36: за сградни отклонения | C36: м³ | D36: 36.89
B37: за пожарни хидранти | C37: м³ | D37: 5.4
B38: Всичко изкопи | C38: м³ | D38: =SUM(D35:D37) -> 408.95
B39: в т.ч. земни почви | C39: м³ | D39: =D38-D40 -> 81.79
B40: скални почви | C40: м³ | D40: =ROUND(D38*80%,2) -> 327.16
A41: 1 | B41: Изкоп с багер на земни почви с ограничена шир. по улици | C41: м³ | D41: =D39-D42 -> 65.43 | F41: =ROUND(D41*E41,2) -> 0
A42: 2 | B42: Изкоп до 1.20м шир. и до 2м дълб.земни почви - ръчно по улици | C42: м³ | D42: =ROUND(D39*20%,2) -> 16.36 | F42: =ROUND(D42*E42,2) -> 0
A43: 3 | B43: Натоварване на земни почви с багер на транспорт | C43: м³ | D43: =D42 -> 16.36 | F43: =ROUND(D43*E43,2) -> 0
A44: 3 | B44: Превоз земни почви със самосвал на депо | C44: м³ | D44: =D39 -> 81.79 | F44: =ROUND(D44*E44,2) -> 0
A45: 4 | B45: Разриване с булдозер земни почви на депото или такса депо | C45: м³ | D45: =D44 -> 81.79 | F45: =ROUND(D45*E45,2) -> 0
A46: 5 | B46: =КСС1!B$46 -> Изкоп до 1.20м шир. и до 2м. дълб. скални почви | C46: м³ | D46: =D40 -> 327.16 | F46: =ROUND(D46*E46,2) -> 0
A47: 6 | B47: Натоварване на скални почви с багер на транспорт | C47: м³ | D47: =D46 -> 327.16 | F47: =ROUND(D47*E47,2) -> 0
A48: 7 | B48: Превоз скални почви със самосвал на депо | C48: м³ | D48: =D46 -> 327.16 | F48: =ROUND(D48*E48,2) -> 0
A49: 8 | B49: Разриване с булдозер скални почви с булдозер на депо или такса депо | C49: м³ | D49: =D46 -> 327.16 | F49: =ROUND(D49*E49,2) -> 0
A50: 9 | B50: Доставка на речен пясък за засипване около тръбите с трамбоване | C50: м³ | D50: 77.6 | F50: =ROUND(D50*E50,2) -> 0
A51: 10 | B51: Доставка и транспорт каменна фракция (едрина до 20мм) за обратен насип | C51: м³ | D51: 331.35 | F51: =ROUND(D51*E51,2) -> 0
A52: 11 | B52: Засипване на тесни изкопи с каменна фракция, вкл. трамбоване | C52: м³ | D52: 331.35 | F52: =ROUND(D52*E52,2) -> 0
A53: 12 | B53: Натоварване и извозване на отпадъци със самосвал и такса стр.отпадъци | C53: м³ | D53: 3.9 | F53: =ROUND(D53*E53,2) -> 0
A54: 13 | B54: Укрепване на гърне за ПХ | C54: бр. | D54: 1 | F54: =ROUND(D54*E54,2) -> 0
A55: 14 | B55: Укрепване на гърне за СК | C55: бр. | D55: 2 | F55: =ROUND(D55*E55,2) -> 0
A56: 15 | B56: Направа опорни блокове на хориз. и верт. чупки и при тройници | C56: бр. | D56: 6 | F56: =ROUND(D56*E56,2) -> 0
A57: 16 | B57: Полагане бетон В20 - неармиран за опорни блокове, ПХ и СК | C57: м³ | D57: 3 | F57: =ROUND(D57*E57,2) -> 0
A58: 17 | B58: Превоз бетон | C58: м³ | D58: 3 | F58: =ROUND(D58*E58,2) -> 0
A59: 18 | B59: Направа укрепване при пресичане на кабели | C59: бр. | D59: 3 | F59: =ROUND(D59*E59,2) -> 0
B60: Всичко водопровод - строителни работи | F60: =ROUND(SUM(F8:F59),2) -> 0
A62: Б | B62: Водопровод - монтажни работи
A63: 1 | B63: Доставка и полагане на РЕ тръби тип 80 в изкоп на челна заварка
B64: - ф140/10атм. | C64: м | D64: 194 | F64: =ROUND(D64*E64,2) -> 0
B65: - ф110/10атм | C65: м | F65: =ROUND(D65*E65,2) -> 0
B66: - ф90/10атм. | C66: м | F66: =ROUND(D66*E66,2) -> 0
A67: 2 | B67: Доставка на РЕ фасонни парчета за челна заварка
B68: - тройник Т 140/140 | C68: бр. | D68: 2 | F68: =ROUND(D68*E68,2) -> 0
B69: - тройник Т 140/90 | C69: бр. | F69: =ROUND(D69*E69,2) -> 0
B70: - тройник Т 110/90 | C70: бр. | F70: =ROUND(D70*E70,2) -> 0
B71: - тройник Т 90/90 | C71: бр. | F71: =ROUND(D71*E71,2) -> 0
B72: - Ко 90º/140 | C72: бр. | D72: 2 | F72: =ROUND(D72*E72,2) -> 0
B73: - Ко 90º/90 | C73: бр. | F73: =ROUND(D73*E73,2) -> 0
B74: - дъга ДГ 30º/140 | C74: бр. | D74: 1 | F74: =ROUND(D74*E74,2) -> 0
B75: - дъга ДГ 15º/140 | C75: бр. | D75: 1 | F75: =ROUND(D75*E75,2) -> 0
B76: - дъга ДГ 11º/110 | C76: бр. | F76: =ROUND(D76*E76,2) -> 0
B77: - дъга ДГ 45º/90 | C77: бр. | F77: =ROUND(D77*E77,2) -> 0
B78: - дъга ДГ 30º/90 | C78: бр. | F78: =ROUND(D78*E78,2) -> 0
B79: - дъга ДГ 22º/90 | C79: бр. | F79: =ROUND(D79*E79,2) -> 0
B80: - дъга ДГ 11º/90 | C80: бр. | F80: =ROUND(D80*E80,2) -> 0
B81: - преход фланшов ПФ 140 | C81: бр. | D81: 5 | F81: =ROUND(D81*E81,2) -> 0
B82: - преход фланшов ПФ 110 | C82: бр. | F82: =ROUND(D82*E82,2) -> 0
B83: - преход фланшов ПФ 90 | C83: бр. | F83: =ROUND(D83*E83,2) -> 0
A84: 3 | B84: Доставка и монтаж на намалител фланшов
B85: НФ 140/90 | C85: бр. | D85: 1 | F85: =ROUND(D85*E85,2) -> 0
B86: НФ 110/90 | C86: бр. | F86: =ROUND(D86*E86,2) -> 0
A87: 4 | B87: Направа челна заварка на тръбно съединение от полиетилен ф 90 мм | C87: бр. | D87: 1 | F87: =ROUND(D87*E87,2) -> 0
A88: 5 | B88: Направа челна заварка на тръбно съединение от полиетилен ф110 мм | C88: бр. | D88: 0 | F88: =ROUND(D88*E88,2) -> 0
A89: 6 | B89: Направа челна заварка на тръбно съединение от полиетилен ф140 мм | C89: бр. | D89: 20 | F89: =ROUND(D89*E89,2) -> 0
A90: 7 | B90: Направа челна заварка на тръбно съединение от полиетилен ф160 мм | C90: бр. | D90: 0 | F90: =ROUND(D90*E90,2) -> 0
A91: 8 | B91: Направа челна заварка на тръбно съединение от полиетилен ф200 мм | C91: бр. | D91: 0 | F91: =ROUND(D91*E91,2) -> 0
A92: 4 | B92: Доставка и монтаж на СК 125 с охр. гарнитура | C92: бр. | D92: 2 | F92: =ROUND(D92*E92,2) -> 0
B93: Доставка и монтаж на СК 100 с охр. гарнитура | C93: бр. | F93: =ROUND(D93*E93,2) -> 0
A94: 5 | B94: Доставка и монтаж на СК 80 с охр. гарнитура | C94: бр. | F94: =ROUND(D94*E94,2) -> 0
A95: 6 | B95: Доставка и монтаж на пожарен хидрант 70/80 - надземен | C95: бр. | D95: 1 | F95: =ROUND(D95*E95,2) -> 0
A96: 7 | B96: Доставка и монтаж на табели СК | C96: бр. | D96: 2 | F96: =ROUND(D96*E96,2) -> 0
A97: 8 | B97: Доставка и монтаж на табели ПХ | C97: бр. | D97: 1 | F97: =ROUND(D97*E97,2) -> 0
A98: 9 | B98: Доставка и полагане на сигнална лента | C98: м | D98: 225 | F98: =ROUND(D98*E98,2) -> 0
A99: 10 | B99: Доставка и полагане на детекторна лента | C99: м | D99: 225 | F99: =ROUND(D99*E99,2) -> 0
A100: 11 | B100: Изпитване на водопровод до ф 140 на водоплътност | C100: м | D100: 225 | F100: =ROUND(D100*E100,2) -> 0
A101: 12 | B101: Дезинфекция на водопровод | C101: м | D101: 225 | F101: =ROUND(D101*E101,2) -> 0
B102: Всичко водопровод - монтажни работи | F102: =ROUND(SUM(F64:F101),2) -> 0
A104: I. | B104: Сградни отклонения 163бр. - мотажни работи
A105: 1 | B105: Доставка и монтаж на водовземна скоба :
B106: ЕО ф 140/40 | C106: бр. | D106: 1 | F106: =ROUND(D106*E106,2) -> 0
B107: ЕО ф 140/25 | C107: бр. | D107: 4 | F107: =ROUND(D107*E107,2) -> 0
B108: ЕО ф 110/25 | C108: бр. | F108: =ROUND(D108*E108,2) -> 0
B109: ЕО ф 90/50 | C109: бр. | F109: =ROUND(D109*E109,2) -> 0
B110: ЕО ф 90/25 | C110: бр. | F110: =ROUND(D110*E110,2) -> 0
...

Sheet КСС10
B1: Количествено-стойностна сметка № 10
B2: Обект: „Реконструкция на водоснабдителна система – гр.Земен”
F3: ул. Р.Даскалов
D4: Ф110
A5: № | B5: Наименование | C5: мярка | D5: кол-во | E5: цена | F5: стойност
B6: Изпълнение на водопровод Ф110
A7: I | B7: Водопровод - строителни работи
B8: Пътни работи
A9: 1 | B9: Рязане на асфалт | C9: m' | D9: 562 | F9: =D9*E9 -> 0
A10: =A9+1 -> 2 | B10: Разваляне на съществуваща асфалтова настилка | C10: m2 | D10: 281 | F10: =D10*E10 -> 0
A11: =A10+1 -> 3 | B11: Разваляне на съществуваща трошенокаменна настилка - 0,15+0,30 m | C11: m3 | D11: 116.55 | F11: =D11*E11 -> 0
A12: =A11+1 -> 4 | B12: Натоварване на строителни отпадъци на самосвал | C12: m3 | D12: 144.65 | F12: =D12*E12 -> 0
A13: =A12+1 -> 5 | B13: Извозване на строителни отпадъци - 15 km и такса стр.отпадъци | C13: m3 | D13: 144.65 | F13: =D13*E13 -> 0
A14: =A13+1 -> 6 | B14: Доставка и полагане на 45 см трошен камък (БДС 2282-83) - Е = 200 МРа | C14: m3 | D14: 116.55 | F14: =D14*E14 -> 0
A15: =A14+1 -> 7 | B15: Доставка и полагане на плътен асфалтобетон d=4 см,(БДС 4132-90) - Е = 1200 МРа | C15: t | D15: 26.976 | F15: =D15*E15 -> 0
A16: =A15+1 -> 8 | B16: Доставка и полагане на неплътен асфалтобетон d=4 см, (БДС 4132-90)- Е = 1000 МРа | C16: t | D16: 0 | F16: =D16*E16 -> 0
A17: =A16+1 -> 9 | B17: Доставка и полагане на неплътен асфалтобетон d=6 см, (БДС 4132-90) - Е = 800 МРа | C17: t | D17: 40.464 | F17: =D17*E17 -> 0
A18: =A17+1 -> 10 | B18: Доставка и полагане на битумизиран трошен кавък d=10 см, (БДС 4132-90) - Е = 800 МРа | C18: t | D18: 0 | F18: =D18*E18 -> 0
A19: =A18+1 -> 11 | B19: Пръскане с емулсия между неплътния асфалтобетон | C19: m2 | D19: 281 | F19: =D19*E19 -> 0
A20: =A19+1 -> 12 | B20: Заливка с битум (стар/нов асфалт) | C20: m' | D20: 562 | F20: =D20*E20 -> 0
A22: =A21+1 -> 1 | B22: Разваляне на съществуващ паваж | C22: m2 | D22: 0 | F22: =D22*E22 -> 0
... A30: =A29+1 -> 6 | B30: Възстановяване на тротоари с бетонови плочи 40/40/5см (БДС 625) вкл. | C30: m2 | D30: 13.2 | F30: =D30*E30 -> 0
B31: - 3 см вароциментов разтвор
B32: - 18 см трошен камък (БДС 2282-83)- Е = 200 МРа
B33: Земни работи
B34: =КСС1!B$34 -> Изкопи в 20% з.п. и 80% ск.п.
B35: за водопровод | C35: м³ | D35: 475.524
B36: за сградни отклонения | C36: м³ | D36: 71.995
B37: за пожарни хидранти | C37: м³ | D37: 3.6
B38: Всичко изкопи | C38: м³ | D38: =SUM(D35:D37) -> 551.119
B39: в т.ч. земни почви | C39: м³ | D39: =D38-D40 -> 110.219
B40: скални почви | C40: м³ | D40: =ROUND(D38*80%,2) -> 440.9
A41: 1 | B41: Изкоп с багер на земни почви с ограничена шир. по улици | C41: м³ | D41: =D39-D42 -> 88.179 | F41: =ROUND(D41*E41,2) -> 0
A42: 2 | B42: Изкоп до 1.20м шир. и до 2м дълб.земни почви - ръчно по улици | C42: м³ | D42: =ROUND(D39*20%,2) -> 22.04 | F42: =ROUND(D42*E42,2) -> 0
A43: 3 | B43: Натоварване на земни почви с багер на транспорт | C43: м³ | D43: =D42 -> 22.04 | F43: =ROUND(D43*E43,2) -> 0
A44: 3 | B44: Превоз земни почви със самосвал на депо | C44: м³ | D44: =D39 -> 110.219 | F44: =ROUND(D44*E44,2) -> 0
A45: 4 | B45: Разриване с булдозер земни почви на депото или такса депо | C45: м³ | D45: =D44 -> 110.219 | F45: =ROUND(D45*E45,2) -> 0
A46: 5 | B46: =КСС1!B$46 -> Изкоп до 1.20м шир. и до 2м. дълб. скални почви | C46: м³ | D46: =D40 -> 440.9 | F46: =ROUND(D46*E46,2) -> 0
A47: 6 | B47: Натоварване на скални почви с багер на транспорт | C47: м³ | D47: =D46 -> 440.9 | F47: =ROUND(D47*E47,2) -> 0
A48: 7 | B48: Превоз скални почви със самосвал на депо | C48: м³ | D48: =D46 -> 440.9 | F48: =ROUND(D48*E48,2) -> 0
A49: 8 | B49: Разриване с булдозер скални почви с булдозер на депо или такса депо | C49: м³ | D49: =D46 -> 440.9 | F49: =ROUND(D49*E49,2) -> 0
A50: 9 | B50: Доставка на речен пясък за засипване около тръбите с трамбоване | C50: м³ | D50: 103.6 | F50: =ROUND(D50*E50,2) -> 0
A51: 10 | B51: Доставка и транспорт каменна фракция (едрина до 20мм) за обратен насип | C51: м³ | D51: 447.519 | F51: =ROUND(D51*E51,2) -> 0
A52: 11 | B52: Засипване на тесни изкопи с каменна фракция, вкл. трамбоване | C52: м³ | D52: 447.519 | F52: =ROUND(D52*E52,2) -> 0
A53: 12 | B53: Натоварване и извозване на отпадъци със самосвал и такса стр.отпадъци | C53: м³ | D53: 3.99 | F53: =ROUND(D53*E53,2) -> 0
A54: 13 | B54: Укрепване на гърне за ПХ | C54: бр. | D54: 1 | F54: =ROUND(D54*E54,2) -> 0
A55: 14 | B55: Укрепване на гърне за СК | C55: бр. | D55: 1 | F55: =ROUND(D55*E55,2) -> 0
A56: 15 | B56: Направа опорни блокове на хориз. и верт. чупки и при тройници | C56: бр. | D56: 8 | F56: =ROUND(D56*E56,2) -> 0
A57: 16 | B57: Полагане бетон В20 - неармиран за опорни блокове, ПХ и СК | C57: м³ | D57: 4 | F57: =ROUND(D57*E57,2) -> 0
A58: 17 | B58: Превоз бетон | C58: м³ | D58: 4 | F58: =ROUND(D58*E58,2) -> 0
A59: 18 | B59: Направа укрепване при пресичане на кабели | C59: бр. | D59: 8 | F59: =ROUND(D59*E59,2) -> 0
B60: Всичко водопровод - строителни работи | F60: =ROUND(SUM(F8:F59),2) -> 0
A62: Б | B62: Водопровод - монтажни работи
A63: 1 | B63: Доставка и полагане на РЕ тръби тип 80 в изкоп на челна заварка
B64: - ф140/10атм. | C64: м | F64: =ROUND(D64*E64,2) -> 0
B65: - ф110/10атм | C65: м | D65: 259 | F65: =ROUND(D65*E65,2) -> 0
B66: - ф90/10атм. | C66: м | F66: =ROUND(D66*E66,2) -> 0
A67: 2 | B67: Доставка на РЕ фасонни парчета за челна заварка
B68: - тройник Т 140/140 | C68: бр. | F68: =ROUND(D68*E68,2) -> 0
B69: - тройник Т 140/90 | C69: бр. | F69: =ROUND(D69*E69,2) -> 0
B70: - тройник Т 110/90 | C70: бр. | F70: =ROUND(D70*E70,2) -> 0
B71: - тройник Т 90/90 | C71: бр. | F71: =ROUND(D71*E71,2) -> 0
B72: - Ко 90º/140 | C72: бр. | F72: =ROUND(D72*E72,2) -> 0
B73: - Ко 90º/90 | C73: бр. | F73: =ROUND(D73*E73,2) -> 0
B74: - дъга ДГ 30º/140 | C74: бр. | F74: =ROUND(D74*E74,2) -> 0
B75: - дъга ДГ 15º/140 | C75: бр. | F75: =ROUND(D75*E75,2) -> 0
B76: - дъга ДГ 11º/110 | C76: бр. | D76: 3 | F76: =ROUND(D76*E76,2) -> 0
B77: - дъга ДГ 45º/90 | C77: бр. | F77: =ROUND(D77*E77,2) -> 0
B78: - дъга ДГ 30º/90 | C78: бр. | F78: =ROUND(D78*E78,2) -> 0
B79: - дъга ДГ 22º/90 | C79: бр. | F79: =ROUND(D79*E79,2) -> 0
B80: - дъга ДГ 11º/90 | C80: бр. | F80: =ROUND(D80*E80,2) -> 0
B81: - преход фланшов ПФ 140 | C81: бр. | F81: =ROUND(D81*E81,2) -> 0
B82: - преход фланшов ПФ 110 | C82: бр. | D82: 1 | F82: =ROUND(D82*E82,2) -> 0
B83: - преход фланшов ПФ 90 | C83: бр. | F83: =ROUND(D83*E83,2) -> 0
A84: 3 | B84: Доставка и монтаж на намалител фланшов
B85: НФ 140/90 | C85: бр. | F85: =ROUND(D85*E85,2) -> 0
B86: НФ 110/90 | C86: бр. | D86: 1 | F86: =ROUND(D86*E86,2) -> 0
A87: 4 | B87: Направа челна заварка на тръбно съединение от полиетилен ф 90 мм | C87: бр. | D87: 1 | F87: =ROUND(D87*E87,2) -> 0
A88: 5 | B88: Направа челна заварка на тръбно съединение от полиетилен ф110 мм | C88: бр. | D88: 8 | F88: =ROUND(D88*E88,2) -> 0
A89: 6 | B89: Направа челна заварка на тръбно съединение от полиетилен ф140 мм | C89: бр. | D89: 0 | F89: =ROUND(D89*E89,2) -> 0
A90: 7 | B90: Направа челна заварка на тръбно съединение от полиетилен ф160 мм | C90: бр. | D90: 0 | F90: =ROUND(D90*E90,2) -> 0
A91: 8 | B91: Направа челна заварка на тръбно съединение от полиетилен ф200 мм | C91: бр. | D91: 0 | F91: =ROUND(D91*E91,2) -> 0
A92: 4 | B92: Доставка и монтаж на СК 125 с охр. гарнитура | C92: бр. | F92: =ROUND(D92*E92,2) -> 0
B93: Доставка и монтаж на СК 100 с охр. гарнитура | C93: бр. | D93: 1 | F93: =ROUND(D93*E93,2) -> 0
A94: 5 | B94: Доставка и монтаж на СК 80 с охр. гарнитура | C94: бр. | F94: =ROUND(D94*E94,2) -> 0
A95: 6 | B95: Доставка и монтаж на пожарен хидрант 70/80 - надземен | C95: бр. | D95: 1 | F95: =ROUND(D95*E95,2) -> 0
A96: 7 | B96: Доставка и монтаж на табели СК | C96: бр. | D96: 1 | F96: =ROUND(D96*E96,2) -> 0
A97: 8 | B97: Доставка и монтаж на табели ПХ | C97: бр. | D97: 1 | F97: =ROUND(D97*E97,2) -> 0
A98: 9 | B98: Доставка и полагане на сигнална лента | C98: м | D98: 319.5 | F98: =ROUND(D98*E98,2) -> 0
A99: 10 | B99: Доставка и полагане на детекторна лента | C99: м | D99: 319.5 | F99: =ROUND(D99*E99,2) -> 0
A100: 11 | B100: Изпитване на водопровод до ф 140 на водоплътност | C100: м | D100: 319.5 | F100: =ROUND(D100*E100,2) -> 0
A101: 12 | B101: Дезинфекция на водопровод | C101: м | D101: 319.5 | F101: =ROUND(D101*E101,2) -> 0
B102: Всичко водопровод - монтажни работи | F102: =ROUND(SUM(F64:F101),2) -> 0
A104: I. | B104: Сградни отклонения 163бр. - мотажни работи
A105: 1 | B105: Доставка и монтаж на водовземна скоба :
B106: ЕО ф 140/40 | C106: бр. | F106: =ROUND(D106*E106,2) -> 0
B107: ЕО ф 140/25 | C107: бр. | F107: =ROUND(D107*E107,2) -> 0
B108: ЕО ф 110/25 | C108: бр. | D108: 11 | F108: =ROUND(D108*E108,2) -> 0
B109: ЕО ф 90/50 | C109: бр. | F109: =ROUND(D109*E109,2) -> 0
B110: ЕО ф 90/25 | C110: бр. | F110: =ROUND(D110*E110,2) -> 0
...

Sheet КСС9
B1: Количествено-стойностна сметка № 9
B2: Обект: „Реконструкция на водоснабдителна система – гр.Земен”
F3: ул. Р.Даскалов, ул. Албена, ул. Баба Тонка, ул. Петър Берон, ул. А.Златаров, ул. Х.Димитър, ул. Г.Лазаров
D4: Ф90
A5: № | B5: Наименование | C5: мярка | D5: кол-во | E5: цена | F5: стойност
B6: Изпълнение на водопровод Ф90
A7: I | B7: Водопровод - строителни работи
B8: Пътни работи
A9: 1 | B9: Рязане на асфалт | C9: m' | D9: 3164 | F9: =ROUND(D9*E9,2) -> 0
A10: =A9+1 -> 2 | B10: Разваляне на съществуваща асфалтова настилка | C10: m2 | D10: 1582 | F10: =ROUND(D10*E10,2) -> 0
A11: =A10+1 -> 3 | B11: Разваляне на съществуваща трошенокаменна настилка - 0,15+0,30 m | C11: m3 | D11: 1039.5 | F11: =ROUND(D11*E11,2) -> 0
A12: =A11+1 -> 4 | B12: Натоварване на строителни отпадъци на самосвал | C12: m3 | D12: 1197.7 | F12: =ROUND(D12*E12,2) -> 0
A13: =A12+1 -> 5 | B13: Извозване на строителни отпадъци - 15 km и такса стр.отпадъци | C13: m3 | D13: 1197.7 | F13: =ROUND(D13*E13,2) -> 0
A14: =A13+1 -> 6 | B14: Доставка и полагане на 45 см трошен камък (БДС 2282-83) - Е = 200 МРа | C14: m3 | D14: 1039.5 | F14: =ROUND(D14*E14,2) -> 0
A15: =A14+1 -> 7 | B15: Доставка и полагане на плътен асфалтобетон d=4 см,(БДС 4132-90) - Е = 1200 МРа | C15: t | D15: 151.872 | F15: =ROUND(D15*E15,2) -> 0
A16: =A15+1 -> 8 | B16: Доставка и полагане на неплътен асфалтобетон d=4 см, (БДС 4132-90)- Е = 1000 МРа | C16: t | D16: 0 | F16: =ROUND(D16*E16,2) -> 0
A17: =A16+1 -> 9 | B17: Доставка и полагане на неплътен асфалтобетон d=6 см, (БДС 4132-90) - Е = 800 МРа | C17: t | D17: 227.808 | F17: =ROUND(D17*E17,2) -> 0
A18: =A17+1 -> 10 | B18: Доставка и полагане на битумизиран трошен кавък d=10 см, (БДС 4132-90) - Е = 800 МРа | C18: t | D18: 0 | F18: =ROUND(D18*E18,2) -> 0
A19: =A18+1 -> 11 | B19: Пръскане с емулсия между неплътния асфалтобетон | C19: m2 | D19: 1582 | F19: =ROUND(D19*E19,2) -> 0
A20: =A19+1 -> 12 | B20: Заливка с битум (стар/нов асфалт) | C20: m' | D20: 3164 | F20: =ROUND(D20*E20,2) -> 0
A22: =A21+1 -> 1 | B22: Разваляне на съществуващ паваж | C22: m2 | D22: 0 | F22: =ROUND(D22*E22,2) -> 0
... A30: =A29+1 -> 6 | B30: Възстановяване на тротоари с бетонови плочи 40/40/5см (БДС 625) вкл. | C30: m2 | D30: 176.4 | F30: =ROUND(D30*E30,2) -> 0
B31: - 3 см вароциментов разтвор
B32: - 18 см трошен камък (БДС 2282-83)- Е = 200 МРа
B33: Земни работи
B34: =КСС1!B$34 -> Изкопи в 20% з.п. и 80% ск.п.
B35: за водопровод | C35: м³ | D35: 4158
B36: за сградни отклонения | C36: м³ | D36: 965.685
B37: за пожарни хидранти | C37: м³ | D37: 39.6
B38: Всичко изкопи | C38: м³ | D38: =SUM(D35:D37) -> 5163.285
B39: в т.ч. земни почви | C39: м³ | D39: =D38-D40 -> 1032.655
B40: скални почви | C40: м³ | D40: =ROUND(D38*80%,2) -> 4130.63
A41: 1 | B41: Изкоп с багер на земни почви с ограничена шир. по улици | C41: м³ | D41: =D39-D42 -> 826.125 | F41: =ROUND(D41*E41,2) -> 0
A42: 2 | B42: Изкоп до 1.20м шир. и до 2м дълб.земни почви - ръчно по улици | C42: м³ | D42: =ROUND(D39*20%,2) -> 206.53 | F42: =ROUND(D42*E42,2) -> 0
A43: 3 | B43: Натоварване на земни почви с багер на транспорт | C43: м³ | D43: =D42 -> 206.53 | F43: =ROUND(D43*E43,2) -> 0
A44: 3 | B44: Превоз земни почви със самосвал на депо | C44: м³ | D44: =D39 -> 1032.655 | F44: =ROUND(D44*E44,2) -> 0
A45: 4 | B45: Разриване с булдозер земни почви на депото или такса депо | C45: м³ | D45: =D44 -> 1032.655 | F45: =ROUND(D45*E45,2) -> 0
A46: 5 | B46: =КСС1!B$46 -> Изкоп до 1.20м шир. и до 2м. дълб. скални почви | C46: м³ | D46: =D40 -> 4130.63 | F46: =ROUND(D46*E46,2) -> 0
A47: 6 | B47: Натоварване на скални почви с багер на транспорт | C47: м³ | D47: =D46 -> 4130.63 | F47: =ROUND(D47*E47,2) -> 0
A48: 7 | B48: Превоз скални почви със самосвал на депо | C48: м³ | D48: =D46 -> 4130.63 | F48: =ROUND(D48*E48,2) -> 0
A49: 8 | B49: Разриване с булдозер скални почви с булдозер на депо или такса депо | C49: м³ | D49: =D46 -> 4130.63 | F49: =ROUND(D49*E49,2) -> 0
A50: 9 | B50: Доставка на речен пясък за засипване около тръбите с трамбоване | C50: м³ | D50: 0 | F50: =ROUND(D50*E50,2) -> 0
A51: 10 | B51: Доставка и транспорт каменна фракция (едрина до 20мм) за обратен насип | C51: м³ | D51: 5163.285 | F51: =ROUND(D51*E51,2) -> 0
A52: 11 | B52: Засипване на тесни изкопи с каменна фракция, вкл. трамбоване | C52: м³ | D52: 5163.285 | F52: =ROUND(D52*E52,2) -> 0
A53: 12 | B53: Натоварване и извозване на отпадъци със самосвал и такса стр.отпадъци | C53: м³ | D53: 21.95 | F53: =ROUND(D53*E53,2) -> 0
A54: 13 | B54: Укрепване на гърне за ПХ | C54: бр. | D54: 15 | F54: =ROUND(D54*E54,2) -> 0
A55: 14 | B55: Укрепване на гърне за СК | C55: бр. | D55: 7 | F55: =ROUND(D55*E55,2) -> 0
A56: 15 | B56: Направа опорни блокове на хориз. и верт. чупки и при тройници | C56: бр. | D56: 72 | F56: =ROUND(D56*E56,2) -> 0
A57: 16 | B57: Полагане бетон В20 - неармиран за опорни блокове, ПХ и СК | C57: м³ | D57: 36 | F57: =ROUND(D57*E57,2) -> 0
A58: 17 | B58: Превоз бетон | C58: м³ | D58: 36 | F58: =ROUND(D58*E58,2) -> 0
A59: 18 | B59: Направа укрепване при пресичане на кабели | C59: бр. | D59: 35 | F59: =ROUND(D59*E59,2) -> 0
B60: Всичко водопровод - строителни работи | F60: =ROUND(SUM(F8:F59),2) -> 0
A62: Б | B62: Водопровод - монтажни работи
A63: 1 | B63: Доставка и полагане на РЕ тръби тип 80 в изкоп на челна заварка
B64: - ф140/10атм. | C64: м | F64: =ROUND(D64*E64,2) -> 0
B65: - ф110/10атм | C65: м | F65: =ROUND(D65*E65,2) -> 0
B66: - ф90/10атм. | C66: м | D66: 2310 | F66: =ROUND(D66*E66,2) -> 0
A67: 2 | B67: Доставка на РЕ фасонни парчета за челна заварка
B68: - тройник Т 140/140 | C68: бр. | F68: =ROUND(D68*E68,2) -> 0
B69: - тройник Т 140/90 | C69: бр. | D69: 1 | F69: =ROUND(D69*E69,2) -> 0
B70: - тройник Т 110/90 | C70: бр. | D70: 5 | F70: =ROUND(D70*E70,2) -> 0
B71: - тройник Т 90/90 | C71: бр. | D71: 7 | F71: =ROUND(D71*E71,2) -> 0
B72: - Ко 90º/140 | C72: бр. | F72: =ROUND(D72*E72,2) -> 0
B73: - Ко 90º/90 | C73: бр. | D73: 6 | F73: =ROUND(D73*E73,2) -> 0
B74: - дъга ДГ 30º/140 | C74: бр. | F74: =ROUND(D74*E74,2) -> 0
B75: - дъга ДГ 15º/140 | C75: бр. | F75: =ROUND(D75*E75,2) -> 0
B76: - дъга ДГ 11º/110 | C76: бр. | F76: =ROUND(D76*E76,2) -> 0
B77: - дъга ДГ 45º/90 | C77: бр. | D77: 1 | F77: =ROUND(D77*E77,2) -> 0
B78: - дъга ДГ 30º/90 | C78: бр. | D78: 5 | F78: =ROUND(D78*E78,2) -> 0
B79: - дъга ДГ 22º/90 | C79: бр. | D79: 6 | F79: =ROUND(D79*E79,2) -> 0
B80: - дъга ДГ 11º/90 | C80: бр. | D80: 19 | F80: =ROUND(D80*E80,2) -> 0
B81: - преход фланшов ПФ 140 | C81: бр. | F81: =ROUND(D81*E81,2) -> 0
B82: - преход фланшов ПФ 110 | C82: бр. | F82: =ROUND(D82*E82,2) -> 0
B83: - преход фланшов ПФ 90 | C83: бр. | D83: 29 | F83: =ROUND(D83*E83,2) -> 0
A84: 3 | B84: Доставка и монтаж на намалител фланшов
B85: НФ 140/90 | C85: бр. | F85: =ROUND(D85*E85,2) -> 0
B86: НФ 110/90 | C86: бр. | F86: =ROUND(D86*E86,2) -> 0
A87: 4 | B87: Направа челна заварка на тръбно съединение от полиетилен ф 90 мм | C87: бр. | D87: 130 | F87: =ROUND(D87*E87,2) -> 0
A88: 5 | B88: Направа челна заварка на тръбно съединение от полиетилен ф110 мм | C88: бр. | D88: 10 | F88: =ROUND(D88*E88,2) -> 0
A89: 6 | B89: Направа челна заварка на тръбно съединение от полиетилен ф140 мм | C89: бр. | D89: 2 | F89: =ROUND(D89*E89,2) -> 0
A90: 7 | B90: Направа челна заварка на тръбно съединение от полиетилен ф160 мм | C90: бр. | D90: 0 | F90: =ROUND(D90*E90,2) -> 0
A91: 8 | B91: Направа челна заварка на тръбно съединение от полиетилен ф200 мм | C91: бр. | D91: 0 | F91: =ROUND(D91*E91,2) -> 0
A92: 4 | B92: Доставка и монтаж на СК 125 с охр. гарнитура | C92: бр. | F92: =ROUND(D92*E92,2) -> 0
B93: Доставка и монтаж на СК 100 с охр. гарнитура | C93: бр. | F93: =ROUND(D93*E93,2) -> 0
A94: 5 | B94: Доставка и монтаж на СК 80 с охр. гарнитура | C94: бр. | D94: 7 | F94: =ROUND(D94*E94,2) -> 0
A95: 6 | B95: Доставка и монтаж на пожарен хидрант 70/80 - надземен | C95: бр. | D95: 15 | F95: =ROUND(D95*E95,2) -> 0
A96: 7 | B96: Доставка и монтаж на табели СК | C96: бр. | D96: 7 | F96: =ROUND(D96*E96,2) -> 0
A97: 8 | B97: Доставка и монтаж на табели ПХ | C97: бр. | D97: 15 | F97: =ROUND(D97*E97,2) -> 0
A98: 9 | B98: Доставка и полагане на сигнална лента | C98: м | D98: 3121.5 | F98: =ROUND(D98*E98,2) -> 0
A99: 10 | B99: Доставка и полагане на детекторна лента | C99: м | D99: 3121.5 | F99: =ROUND(D99*E99,2) -> 0
A100: 11 | B100: Изпитване на водопровод до ф 140 на водоплътност | C100: м | D100: 3121.5 | F100: =ROUND(D100*E100,2) -> 0
A101: 12 | B101: Дезинфекция на водопровод | C101: м | D101: 3121.5 | F101: =ROUND(D101*E101,2) -> 0
B102: Всичко водопровод - монтажни работи | F102: =ROUND(SUM(F64:F101),2) -> 0
A104: I. | B104: Сградни отклонения 163бр. - мотажни работи
A105: 1 | B105: Доставка и монтаж на водовземна скоба :
B106: ЕО ф 140/40 | C106: бр. | F106: =ROUND(D106*E106,2) -> 0
B107: ЕО ф 140/25 | C107: бр. | F107: =ROUND(D107*E107,2) -> 0
B108: ЕО ф 110/25 | C108: бр. | F108: =ROUND(D108*E108,2) -> 0
B109: ЕО ф 90/50 | C109: бр. | D109: 1 | F109: =ROUND(D109*E109,2) -> 0
B110: ЕО ф 90/25 | C110: бр. | D110: 146 | F110: =ROUND(D110*E110,2) -> 0
...

Sheet КСС8
B1: Количествено-стойностна сметка № 8
B2: Обект: „Реконструкция на водоснабдителна система – гр.Земен”
F3: ул. Белово
D4: Ф160
A5: № | B5: Наименование | C5: мярка | D5: кол-во | E5: цена | F5: стойност
B6: Изпълнение на водопровод Ф160
A7: I | B7: Водопровод - строителни работи
B8: Пътни работи
A9: 1 | B9: Рязане на асфалт | C9: m' | D9: 18 | F9: =ROUND(D9*E9,2) -> 0
A10: =A9+1 -> 2 | B10: Разваляне на съществуваща асфалтова настилка | C10: m2 | D10: 9 | F10: =ROUND(D10*E10,2) -> 0
A11: =A10+1 -> 3 | B11: Разваляне на съществуваща трошенокаменна настилка - 0,15+0,30 m | C11: m3 | D11: 90.45 | F11: =ROUND(D11*E11,2) -> 0
A12: =A11+1 -> 4 | B12: Натоварване на строителни отпадъци на самосвал | C12: m3 | D12: 91.35 | F12: =ROUND(D12*E12,2) -> 0
A13: =A12+1 -> 5 | B13: Извозване на строителни отпадъци - 15 km и такса стр.отпадъци | C13: m3 | D13: 91.35 | F13: =ROUND(D13*E13,2) -> 0
A14: =A13+1 -> 6 | B14: Доставка и полагане на 45 см трошен камък (БДС 2282-83) - Е = 200 МРа | C14: m3 | D14: 90.45 | F14: =ROUND(D14*E14,2) -> 0
A15: =A14+1 -> 7 | B15: Доставка и полагане на плътен асфалтобетон d=4 см,(БДС 4132-90) - Е = 1200 МРа | C15: t | D15: 0.864 | F15: =ROUND(D15*E15,2) -> 0
A16: =A15+1 -> 8 | B16: Доставка и полагане на неплътен асфалтобетон d=4 см, (БДС 4132-90)- Е = 1000 МРа | C16: t | D16: 0 | F16: =ROUND(D16*E16,2) -> 0
A17: =A16+1 -> 9 | B17: Доставка и полагане на неплътен асфалтобетон d=6 см, (БДС 4132-90) - Е = 800 МРа | C17: t | D17: 1.296 | F17: =ROUND(D17*E17,2) -> 0
A18: =A17+1 -> 10 | B18: Доставка и полагане на битумизиран трошен кавък d=10 см, (БДС 4132-90) - Е = 800 МРа | C18: t | D18: 0 | F18: =ROUND(D18*E18,2) -> 0
A19: =A18+1 -> 11 | B19: Пръскане с емулсия между неплътния асфалтобетон | C19: m2 | D19: 9 | F19: =ROUND(D19*E19,2) -> 0
A20: =A19+1 -> 12 | B20: Заливка с битум (стар/нов асфалт) | C20: m' | D20: 18 | F20: =ROUND(D20*E20,2) -> 0
A22: =A21+1 -> 1 | B22: Разваляне на съществуващ паваж | C22: m2 | D22: 0 | F22: =ROUND(D22*E22,2) -> 0
... A30: =A29+1 -> 6 | B30: Възстановяване на тротоари с бетонови плочи 40/40/5см (БДС 625) вкл. | C30: m2 | D30: 0 | F30: =ROUND(D30*E30,2) -> 0
B31: - 3 см вароциментов разтвор
B32: - 18 см трошен камък (БДС 2282-83)- Е = 200 МРа
B33: Земни работи
B34: =КСС1!B$34 -> Изкопи в 20% з.п. и 80% ск.п.
B35: за водопровод | C35: м³ | D35: 387.126
B36: за сградни отклонения | C36: м³ | D36: 0
B37: за пожарни хидранти | C37: м³ | D37: 3.6
B38: Всичко изкопи | C38: м³ | D38: =SUM(D35:D37) -> 390.726
B39: в т.ч. земни почви | C39: м³ | D39: =D38-D40 -> 78.146
B40: скални почви | C40: м³ | D40: =ROUND(D38*80%,2) -> 312.58
A41: 1 | B41: Изкоп с багер на земни почви с ограничена шир. по улици | C41: м³ | D41: =D39-D42 -> 62.516 | F41: =ROUND(D41*E41,2) -> 0
A42: 2 | B42: Изкоп до 1.20м шир. и до 2м дълб.земни почви - ръчно по улици | C42: м³ | D42: =ROUND(D39*20%,2) -> 15.63 | F42: =ROUND(D42*E42,2) -> 0
A43: 3 | B43: Натоварване на земни почви с багер на транспорт | C43: м³ | D43: =D42 -> 15.63 | F43: =ROUND(D43*E43,2) -> 0
A44: 3 | B44: Превоз земни почви със самосвал на депо | C44: м³ | D44: =D39 -> 78.146 | F44: =ROUND(D44*E44,2) -> 0
A45: 4 | B45: Разриване с булдозер земни почви на депото или такса депо | C45: м³ | D45: =D44 -> 78.146 | F45: =ROUND(D45*E45,2) -> 0
A46: 5 | B46: =КСС1!B$46 -> Изкоп до 1.20м шир. и до 2м. дълб. скални почви | C46: м³ | D46: =D40 -> 312.58 | F46: =ROUND(D46*E46,2) -> 0
A47: 6 | B47: Натоварване на скални почви с багер на транспорт | C47: м³ | D47: =D46 -> 312.58 | F47: =ROUND(D47*E47,2) -> 0
A48: 7 | B48: Превоз скални почви със самосвал на депо | C48: м³ | D48: =D46 -> 312.58 | F48: =ROUND(D48*E48,2) -> 0
A49: 8 | B49: Разриване с булдозер скални почви с булдозер на депо или такса депо | C49: м³ | D49: =D46 -> 312.58 | F49: =ROUND(D49*E49,2) -> 0
A50: 9 | B50: Доставка на речен пясък за засипване около тръбите с трамбоване | C50: м³ | D50: 80.4 | F50: =ROUND(D50*E50,2) -> 0
A51: 10 | B51: Доставка и транспорт каменна фракция (едрина до 20мм) за обратен насип | C51: м³ | D51: 310.326 | F51: =ROUND(D51*E51,2) -> 0
A52: 11 | B52: Засипване на тесни изкопи с каменна фракция, вкл. трамбоване | C52: м³ | D52: 310.326 | F52: =ROUND(D52*E52,2) -> 0
A53: 12 | B53: Натоварване и извозване на отпадъци със самосвал и такса стр.отпадъци | C53: м³ | D53: 4.04 | F53: =ROUND(D53*E53,2) -> 0
A54: 13 | B54: Укрепване на гърне за ПХ | C54: бр. | D54: 1 | F54: =ROUND(D54*E54,2) -> 0
A55: 14 | B55: Укрепване на гърне за СК | C55: бр. | D55: 1 | F55: =ROUND(D55*E55,2) -> 0
A56: 15 | B56: Направа опорни блокове на хориз. и верт. чупки и при тройници | C56: бр. | D56: 9 | F56: =ROUND(D56*E56,2) -> 0
A57: 16 | B57: Полагане бетон В20 - неармиран за опорни блокове, ПХ и СК | C57: м³ | D57: 3.15 | F57: =ROUND(D57*E57,2) -> 0
A58: 17 | B58: Превоз бетон | C58: м³ | D58: 3.15 | F58: =ROUND(D58*E58,2) -> 0
A59: 18 | B59: Направа укрепване при пресичане на кабели | C59: бр. | D59: 7 | F59: =ROUND(D59*E59,2) -> 0
A60: 19 | B60: Доставка и монтаж стоманена тръба ф 219/5 за кожух на водопровода | C60: м | D60: 0 | F60: =ROUND(D60*E60,2) -> 0
B61: Всичко водопровод - строителни работи | F61: =ROUND(SUM(F8:F60),2) -> 0
A62: Б | B62: Водопровод - монтажни работи
A63: 1 | B63: Доставка и полагане на РЕ тръби тип 80 в изкоп на челна заварка
B64: - ф160/10атм. | C64: м | D64: 201 | F64: =ROUND(D64*E64,2) -> 0
B65: - ф140/10атм. | C65: м | F65: =ROUND(D65*E65,2) -> 0
B66: - ф110/10атм | C66: м | F66: =ROUND(D66*E66,2) -> 0
B67: - ф90/10атм. | C67: м | F67: =ROUND(D67*E67,2) -> 0
A68: 2 | B68: Доставка на РЕ фасонни парчета за челна заварка
B69: - кръстач К 110/110 | C69: бр. | F69: =ROUND(D69*E69,2) -> 0
B70: - тройник Т 160/160 | C70: бр. | D70: 2 | F70: =ROUND(D70*E70,2) -> 0
B71: - тройник Т 160/110 | C71: бр. | F71: =ROUND(D71*E71,2) -> 0
B72: - тройник Т 140/110 | C72: бр. | F72: =ROUND(D72*E72,2) -> 0
B73: - тройник Т 110/110 | C73: бр. | F73: =ROUND(D73*E73,2) -> 0
B74: - тройник Т 90/90 | C74: бр. | F74: =ROUND(D74*E74,2) -> 0
B75: - Ко 90º/90 | C75: бр. | F75: =ROUND(D75*E75,2) -> 0
B76: - дъга ДГ 60º/200 | C76: бр. | D76: 1 | F76: =ROUND(D76*E76,2) -> 0
B77: - дъга ДГ 45º/160 | C77: бр. | D77: 1 | F77: =ROUND(D77*E77,2) -> 0
B78: - дъга ДГ 30º/160 | C78: бр. | D78: 1 | F78: =ROUND(D78*E78,2) -> 0
B79: - дъга ДГ 11º/160 | C79: бр. | D79: 2 | F79: =ROUND(D79*E79,2) -> 0
B80: - дъга ДГ 25º/110 | C80: бр. | F80: =ROUND(D80*E80,2) -> 0
B81: - дъга ДГ 22º/110 | C81: бр. | F81: =ROUND(D81*E81,2) -> 0
B82: - дъга ДГ 15º/110 | C82: бр. | F82: =ROUND(D82*E82,2) -> 0
B83: - дъга ДГ 11º/110 | C83: бр. | F83: =ROUND(D83*E83,2) -> 0
B84: - дъга ДГ 45º/90 | C84: бр. | F84: =ROUND(D84*E84,2) -> 0
B85: - дъга ДГ 35º/90 | C85: бр. | F85: =ROUND(D85*E85,2) -> 0
B86: - дъга ДГ 22º/90 | C86: бр. | F86: =ROUND(D86*E86,2) -> 0
B87: - дъга ДГ 15º/90 | C87: бр. | F87: =ROUND(D87*E87,2) -> 0
B88: - дъга ДГ 11º/90 | C88: бр. | F88: =ROUND(D88*E88,2) -> 0
B89: - преход фланшов ПФ 200 | C89: бр. | D89: 1 | F89: =ROUND(D89*E89,2) -> 0
B90: - преход фланшов ПФ 160 | C90: бр. | D90: 1 | F90: =ROUND(D90*E90,2) -> 0
B91: - преход фланшов ПФ 110 | C91: бр. | F91: =ROUND(D91*E91,2) -> 0
B92: - преход фланшов ПФ 90 | C92: бр. | F92: =ROUND(D92*E92,2) -> 0
A93: 3 | B93: Доставка и монтаж на намалител фланшов
B94: НФ 200/160 | C94: бр. | D94: 1 | F94: =ROUND(D94*E94,2) -> 0
B95: НФ 160/110 | C95: бр. | F95: =ROUND(D95*E95,2) -> 0
B96: НФ 110/90 | C96: бр. | F96: =ROUND(D96*E96,2) -> 0
A97: 4 | B97: Направа челна заварка на тръбно съединение от полиетилен ф 90 мм | C97: бр. | D97: 0 | F97: =ROUND(D97*E97,2) -> 0
A98: 5 | B98: Направа челна заварка на тръбно съединение от полиетилен ф110 мм | C98: бр. | D98: 0 | F98: =ROUND(D98*E98,2) -> 0
A99: 6 | B99: Направа челна заварка на тръбно съединение от полиетилен ф140 мм | C99: бр. | D99: 0 | F99: =ROUND(D99*E99,2) -> 0
A100: 7 | B100: Направа челна заварка на тръбно съединение от полиетилен ф160 мм | C100: бр. | D100: 16 | F100: =ROUND(D100*E100,2) -> 0
A101: 8 | B101: Направа челна заварка на тръбно съединение от полиетилен ф200 мм | C101: бр. | D101: 4 | F101: =ROUND(D101*E101,2) -> 0
A102: 4 | B102: Доставка и монтаж на СК 150 с охр. гарнитура | C102: бр. | D102: 1 | F102: =ROUND(D102*E102,2) -> 0
B103: Доставка и монтаж на СК 100 с охр. гарнитура | C103: бр. | F103: =ROUND(D103*E103,2) -> 0
A104: 5 | B104: Доставка и монтаж на СК 80 с охр. гарнитура | C104: бр. | F104: =ROUND(D104*E104,2) -> 0
A105: 6 | B105: Доставка и монтаж на пожарен хидрант 70/80 - надземен | C105: бр. | D105: 1 | F105: =ROUND(D105*E105,2) -> 0
A106: 7 | B106: Доставка и монтаж на табели СК | C106: бр. | D106: 1 | F106: =ROUND(D106*E106,2) -> 0
A107: 8 | B107: Доставка и монтаж на табели ПХ | C107: бр. | D107: 1 | F107: =ROUND(D107*E107,2) -> 0
A108: 9 | B108: Доставка и полагане на сигнална лента | C108: м | D108: 201 | F108: =ROUND(D108*E108,2) -> 0
...

Sheet КСС7
B1: Количествено-стойностна сметка № 7
B2: Обект: „Реконструкция на водоснабдителна система – гр.Земен”
F3: ул. Груйова
D4: Ф140
A5: № | B5: Наименование | C5: мярка | D5: кол-во | E5: цена | F5: стойност
B6: Изпълнение на водопровод Ф140
A7: I | B7: Водопровод - строителни работи
B8: Пътни работи
A9: 1 | B9: Рязане на асфалт | C9: m' | D9: 204 | F9: =ROUND(D9*E9,2) -> 0
A10: =A9+1 -> 2 | B10: Разваляне на съществуваща асфалтова настилка | C10: m2 | D10: 102 | F10: =ROUND(D10*E10,2) -> 0
A11: =A10+1 -> 3 | B11: Разваляне на съществуваща трошенокаменна настилка - 0,15+0,30 m | C11: m3 | D11: 41.4 | F11: =ROUND(D11*E11,2) -> 0
A12: =A11+1 -> 4 | B12: Натоварване на строителни отпадъци на самосвал | C12: m3 | D12: 51.6 | F12: =ROUND(D12*E12,2) -> 0
A13: =A12+1 -> 5 | B13: Извозване на строителни отпадъци - 15 km и такса стр.отпадъци | C13: m3 | D13: 51.6 | F13: =ROUND(D13*E13,2) -> 0
A14: =A13+1 -> 6 | B14: Доставка и полагане на 45 см трошен камък (БДС 2282-83) - Е = 200 МРа | C14: m3 | D14: 41.4 | F14: =ROUND(D14*E14,2) -> 0
A15: =A14+1 -> 7 | B15: Доставка и полагане на плътен асфалтобетон d=4 см,(БДС 4132-90) - Е = 1200 МРа | C15: t | D15: 9.792 | F15: =ROUND(D15*E15,2) -> 0
A16: =A15+1 -> 8 | B16: Доставка и полагане на неплътен асфалтобетон d=4 см, (БДС 4132-90)- Е = 1000 МРа | C16: t | D16: 0 | F16: =ROUND(D16*E16,2) -> 0
A17: =A16+1 -> 9 | B17: Доставка и полагане на неплътен асфалтобетон d=6 см, (БДС 4132-90) - Е = 800 МРа | C17: t | D17: 14.688 | F17: =ROUND(D17*E17,2) -> 0
A18: =A17+1 -> 10 | B18: Доставка и полагане на битумизиран трошен кавък d=10 см, (БДС 4132-90) - Е = 800 МРа | C18: t | D18: 0 | F18: =ROUND(D18*E18,2) -> 0
A19: =A18+1 -> 11 | B19: Пръскане с емулсия между неплътния асфалтобетон | C19: m2 | D19: 102 | F19: =ROUND(D19*E19,2) -> 0
A20: =A19+1 -> 12 | B20: Заливка с битум (стар/нов асфалт) | C20: m' | D20: 204 | F20: =ROUND(D20*E20,2) -> 0
A22: =A21+1 -> 1 | B22: Разваляне на съществуващ паваж | C22: m2 | D22: 0 | F22: =ROUND(D22*E22,2) -> 0
... A30: =A29+1 -> 6 | B30: Възстановяване на тротоари с бетонови плочи 40/40/5см (БДС 625) вкл. | C30: m2 | D30: 6 | F30: =ROUND(D30*E30,2) -> 0
B31: - 3 см вароциментов разтвор
B32: - 18 см трошен камък (БДС 2282-83)- Е = 200 МРа
B33: Земни работи
B34: =КСС1!B$34 -> Изкопи в 20% з.п. и 80% ск.п.
B35: за водопровод | C35: м³ | D35: 173.88
B36: за сградни отклонения | C36: м³ | D36: 32.725
B37: за пожарни хидранти | C37: м³ | D37: 0
B38: Всичко изкопи | C38: м³ | D38: =SUM(D35:D37) -> 206.605
B39: в т.ч. земни почви | C39: м³ | D39: =D38-D40 -> 41.325
B40: скални почви | C40: м³ | D40: =ROUND(D38*80%,2) -> 165.28
A41: 1 | B41: Изкоп с багер на земни почви с ограничена шир. по улици | C41: м³ | D41: =D39-D42 -> 33.055 | F41: =ROUND(D41*E41,2) -> 0
A42: 2 | B42: Изкоп до 1.20м шир. и до 2м дълб.земни почви - ръчно по улици | C42: м³ | D42: =ROUND(D39*20%,2) -> 8.27 | F42: =ROUND(D42*E42,2) -> 0
A43: 3 | B43: Натоварване на земни почви с багер на транспорт | C43: м³ | D43: =D42 -> 8.27 | F43: =ROUND(D43*E43,2) -> 0
A44: 3 | B44: Превоз земни почви със самосвал на депо | C44: м³ | D44: =D39 -> 41.325 | F44: =ROUND(D44*E44,2) -> 0
A45: 4 | B45: Разриване с булдозер земни почви на депото или такса депо | C45: м³ | D45: =D44 -> 41.325 | F45: =ROUND(D45*E45,2) -> 0
A46: 5 | B46: =КСС1!B$46 -> Изкоп до 1.20м шир. и до 2м. дълб. скални почви | C46: м³ | D46: =D40 -> 165.28 | F46: =ROUND(D46*E46,2) -> 0
A47: 6 | B47: Натоварване на скални почви с багер на транспорт | C47: м³ | D47: =D46 -> 165.28 | F47: =ROUND(D47*E47,2) -> 0
A48: 7 | B48: Превоз скални почви със самосвал на депо | C48: м³ | D48: =D46 -> 165.28 | F48: =ROUND(D48*E48,2) -> 0
A49: 8 | B49: Разриване с булдозер скални почви с булдозер на депо или такса депо | C49: м³ | D49: =D46 -> 165.28 | F49: =ROUND(D49*E49,2) -> 0
A50: 9 | B50: Доставка на речен пясък за засипване около тръбите с трамбоване | C50: м³ | D50: 36.8 | F50: =ROUND(D50*E50,2) -> 0
A51: 10 | B51: Доставка и транспорт каменна фракция (едрина до 20мм) за обратен насип | C51: м³ | D51: 169.805 | F51: =ROUND(D51*E51,2) -> 0
A52: 11 | B52: Засипване на тесни изкопи с каменна фракция, вкл. трамбоване | C52: м³ | D52: 169.805 | F52: =ROUND(D52*E52,2) -> 0
A53: 12 | B53: Натоварване и извозване на отпадъци със самосвал и такса стр.отпадъци | C53: м³ | D53: 1.42 | F53: =ROUND(D53*E53,2) -> 0
A54: 13 | B54: Укрепване на гърне за ПХ | C54: бр. | D54: 0 | F54: =ROUND(D54*E54,2) -> 0
A55: 14 | B55: Укрепване на гърне за СК | C55: бр. | D55: 0 | F55: =ROUND(D55*E55,2) -> 0
A56: 15 | B56: Направа опорни блокове на хориз. и верт. чупки и при тройници | C56: бр. | D56: 0 | F56: =ROUND(D56*E56,2) -> 0
A57: 16 | B57: Полагане бетон В20 - неармиран за опорни блокове, ПХ и СК | C57: м³ | D57: 0 | F57: =ROUND(D57*E57,2) -> 0
A58: 17 | B58: Превоз бетон | C58: м³ | D58: 0 | F58: =ROUND(D58*E58,2) -> 0
A59: 18 | B59: Направа укрепване при пресичане на кабели | C59: бр. | D59: 5 | F59: =ROUND(D59*E59,2) -> 0
A60: 19 | B60: Доставка и монтаж стоманена тръба ф 219/5 за кожух на водопровода | C60: м | D60: 0 | F60: =ROUND(D60*E60,2) -> 0
B61: Всичко водопровод - строителни работи | F61: =ROUND(SUM(F8:F60),2) -> 0
A62: Б | B62: Водопровод - монтажни работи
A63: 1 | B63: Доставка и полагане на РЕ тръби тип 80 в изкоп на челна заварка
B64: - ф160/10атм. | C64: м | F64: =ROUND(D64*E64,2) -> 0
B65: - ф140/10атм. | C65: м | D65: 92 | F65: =ROUND(D65*E65,2) -> 0
B66: - ф110/10атм | C66: м | F66: =ROUND(D66*E66,2) -> 0
B67: - ф90/10атм. | C67: м | F67: =ROUND(D67*E67,2) -> 0
A68: 2 | B68: Доставка на РЕ фасонни парчета за челна заварка
B69: - кръстач К 110/110 | C69: бр. | F69: =ROUND(D69*E69,2) -> 0
B70: - тройник Т 160/160 | C70: бр. | F70: =ROUND(D70*E70,2) -> 0
B71: - тройник Т 160/110 | C71: бр. | F71: =ROUND(D71*E71,2) -> 0
B72: - тройник Т 140/110 | C72: бр. | F72: =ROUND(D72*E72,2) -> 0
B73: - тройник Т 110/110 | C73: бр. | F73: =ROUND(D73*E73,2) -> 0
B74: - тройник Т 90/90 | C74: бр. | F74: =ROUND(D74*E74,2) -> 0
B75: - Ко 90º/90 | C75: бр. | F75: =ROUND(D75*E75,2) -> 0
B76: - дъга ДГ 60º/200 | C76: бр. | F76: =ROUND(D76*E76,2) -> 0
B77: - дъга ДГ 45º/160 | C77: бр. | F77: =ROUND(D77*E77,2) -> 0
B78: - дъга ДГ 30º/160 | C78: бр. | F78: =ROUND(D78*E78,2) -> 0
B79: - дъга ДГ 11º/160 | C79: бр. | F79: =ROUND(D79*E79,2) -> 0
B80: - дъга ДГ 25º/110 | C80: бр. | F80: =ROUND(D80*E80,2) -> 0
... B92: - преход фланшов ПФ 90 | C92: бр. | F92: =ROUND(D92*E92,2) -> 0
A93: 3 | B93: Доставка и монтаж на намалител фланшов
B94: НФ 200/160 | C94: бр. | F94: =ROUND(D94*E94,2) -> 0
B95: НФ 160/110 | C95: бр. | F95: =ROUND(D95*E95,2) -> 0
B96: НФ 110/90 | C96: бр. | F96: =ROUND(D96*E96,2) -> 0
A97: 4 | B97: Направа челна заварка на тръбно съединение от полиетилен ф 90 мм | C97: бр. | D97: 0 | F97: =ROUND(D97*E97,2) -> 0
A98: 5 | B98: Направа челна заварка на тръбно съединение от полиетилен ф110 мм | C98: бр. | D98: 0 | F98: =ROUND(D98*E98,2) -> 0
A99: 6 | B99: Направа челна заварка на тръбно съединение от полиетилен ф140 мм | C99: бр. | D99: 0 | F99: =ROUND(D99*E99,2) -> 0
A100: 7 | B100: Направа челна заварка на тръбно съединение от полиетилен ф160 мм | C100: бр. | D100: 0 | F100: =ROUND(D100*E100,2) -> 0
A101: 8 | B101: Направа челна заварка на тръбно съединение от полиетилен ф200 мм | C101: бр. | D101: 0 | F101: =ROUND(D101*E101,2) -> 0
A102: 4 | B102: Доставка и монтаж на СК 150 с охр. гарнитура | C102: бр. | F102: =ROUND(D102*E102,2) -> 0
B103: Доставка и монтаж на СК 100 с охр. гарнитура | C103: бр. | F103: =ROUND(D103*E103,2) -> 0
A104: 5 | B104: Доставка и монтаж на СК 80 с охр. гарнитура | C104: бр. | F104: =ROUND(D104*E104,2) -> 0
A105: 6 | B105: Доставка и монтаж на пожарен хидрант 70/80 - надземен | C105: бр. | D105: 0 | F105: =ROUND(D105*E105,2) -> 0
A106: 7 | B106: Доставка и монтаж на табели СК | C106: бр. | D106: 0 | F106: =ROUND(D106*E106,2) -> 0
A107: 8 | B107: Доставка и монтаж на табели ПХ | C107: бр. | D107: 0 | F107: =ROUND(D107*E107,2) -> 0
A108: 9 | B108: Доставка и полагане на сигнална лента | C108: м | D108: 119.5 | F108: =ROUND(D108*E108,2) -> 0
A109: 10 | B109: Доставка и полагане на детекторна лента | C109: м | D109: 119.5 | F109: =ROUND(D109*E109,2) -> 0
A110: 11 | B110: Изпитване на водопровод до ф 140 на водоплътност | C110: м | D110: 119.5 | F110: =ROUND(D110*E110,2) -> 0
A111: 12 | B111: Дезинфекция на водопровод | C111: м | D111: 119.5 | F111: =ROUND(D111*E111,2) -> 0
B112: Всичко водопровод - монтажни работи | F112: =ROUND(SUM(F64:F111),2) -> 0
A113: I. | B113: Сградни отклонения 96бр. - мотажни работи
A114: 1 | B114: Доставка и монтаж на водовземна скоба :
B115: ЕО ф 140/25 | C115: бр. | D115: 5 | F115: =ROUND(D115*E115,2) -> 0
B116: ЕО ф 110/25 | C116: бр. | F116: =ROUND(D116*E116,2) -> 0
B117: ЕО ф 90/25 | C117: бр. | F117: =ROUND(D117*E117,2) -> 0
A118: 2 | B118: Доставка и монтаж на полиетиленови тръби ф 25 | C118: м | D118: 27.5 | F118: =ROUND(D118*E118,2) -> 0
A119: 3 | B119: Доставка и монтаж на преход с външна резба РЕ 25 | C119: бр. | D119: 10 | F119: =ROUND(D119*E119,2) -> 0
...

Sheet КСС6
B1: Количествено-стойностна сметка № 6
B2: Обект: „Реконструкция на водоснабдителна система – гр.Земен”
F3: ул. Е.Арсов, ул. Белово
D4: Ф110
A5: № | B5: Наименование | C5: мярка | D5: кол-во | E5: цена | F5: стойност
B6: Изпълнение на водопровод Ф110
A7: I | B7: Водопровод - строителни работи
B8: Пътни работи
A9: 1 | B9: Рязане на асфалт | C9: m' | D9: 978 | F9: =ROUND(D9*E9,2) -> 0
A10: =A9+1 -> 2 | B10: Разваляне на съществуваща асфалтова настилка | C10: m2 | D10: 489 | F10: =ROUND(D10*E10,2) -> 0
A11: =A10+1 -> 3 | B11: Разваляне на съществуваща трошенокаменна настилка - 0,15+0,30 m | C11: m3 | D11: 255.15 | F11: =ROUND(D11*E11,2) -> 0
A12: =A11+1 -> 4 | B12: Натоварване на строителни отпадъци на самосвал | C12: m3 | D12: 304.05 | F12: =ROUND(D12*E12,2) -> 0
A13: =A12+1 -> 5 | B13: Извозване на строителни отпадъци - 15 km и такса стр.отпадъци | C13: m3 | D13: 304.05 | F13: =ROUND(D13*E13,2) -> 0
A14: =A13+1 -> 6 | B14: Доставка и полагане на 45 см трошен камък (БДС 2282-83) - Е = 200 МРа | C14: m3 | D14: 255.15 | F14: =ROUND(D14*E14,2) -> 0
A15: =A14+1 -> 7 | B15: Доставка и полагане на плътен асфалтобетон d=4 см,(БДС 4132-90) - Е = 1200 МРа | C15: t | D15: 46.944 | F15: =ROUND(D15*E15,2) -> 0
A16: =A15+1 -> 8 | B16: Доставка и полагане на неплътен асфалтобетон d=4 см, (БДС 4132-90)- Е = 1000 МРа | C16: t | D16: 0 | F16: =ROUND(D16*E16,2) -> 0
A17: =A16+1 -> 9 | B17: Доставка и полагане на неплътен асфалтобетон d=6 см, (БДС 4132-90) - Е = 800 МРа | C17: t | D17: 70.416 | F17: =ROUND(D17*E17,2) -> 0
A18: =A17+1 -> 10 | B18: Доставка и полагане на битумизиран трошен кавък d=10 см, (БДС 4132-90) - Е = 800 МРа | C18: t | D18: 0 | F18: =ROUND(D18*E18,2) -> 0
A19: =A18+1 -> 11 | B19: Пръскане с емулсия между неплътния асфалтобетон | C19: m2 | D19: 489 | F19: =ROUND(D19*E19,2) -> 0
A20: =A19+1 -> 12 | B20: Заливка с битум (стар/нов асфалт) | C20: m' | D20: 978 | F20: =ROUND(D20*E20,2) -> 0
A22: =A21+1 -> 1 | B22: Разваляне на съществуващ паваж | C22: m2 | D22: 0 | F22: =ROUND(D22*E22,2) -> 0
... A30: =A29+1 -> 6 | B30: Възстановяване на тротоари с бетонови плочи 40/40/5см (БДС 625) вкл. | C30: m2 | D30: 21.6 | F30: =ROUND(D30*E30,2) -> 0
B31: - 3 см вароциментов разтвор
B32: - 18 см трошен камък (БДС 2282-83)- Е = 200 МРа
B33: Земни работи
B34: =КСС1!B$34 -> Изкопи в 20% з.п. и 80% ск.п.
B35: за водопровод | C35: м³ | D35: 1041.012
B36: за сградни отклонения | C36: м³ | D36: 117.81
B37: за пожарни хидранти | C37: м³ | D37: 12.6
B38: Всичко изкопи | C38: м³ | D38: =SUM(D35:D37) -> 1171.422
B39: в т.ч. земни почви | C39: м³ | D39: =D38-D40 -> 234.282
B40: скални почви | C40: м³ | D40: =ROUND(D38*80%,2) -> 937.14
A41: 1 | B41: Изкоп с багер на земни почви с ограничена шир. по улици | C41: м³ | D41: =D39-D42 -> 187.422 | F41: =ROUND(D41*E41,2) -> 0
A42: 2 | B42: Изкоп до 1.20м шир. и до 2м дълб.земни почви - ръчно по улици | C42: м³ | D42: =ROUND(D39*20%,2) -> 46.86 | F42: =ROUND(D42*E42,2) -> 0
A43: 3 | B43: Натоварване на земни почви с багер на транспорт | C43: м³ | D43: =D42 -> 46.86 | F43: =ROUND(D43*E43,2) -> 0
A44: 3 | B44: Превоз земни почви със самосвал на депо | C44: м³ | D44: =D39 -> 234.282 | F44: =ROUND(D44*E44,2) -> 0
A45: 4 | B45: Разриване с булдозер земни почви на депото или такса депо | C45: м³ | D45: =D44 -> 234.282 | F45: =ROUND(D45*E45,2) -> 0
A46: 5 | B46: =КСС1!B$46 -> Изкоп до 1.20м шир. и до 2м. дълб. скални почви | C46: м³ | D46: =D40 -> 937.14 | F46: =ROUND(D46*E46,2) -> 0
A47: 6 | B47: Натоварване на скални почви с багер на транспорт | C47: м³ | D47: =D46 -> 937.14 | F47: =ROUND(D47*E47,2) -> 0
A48: 7 | B48: Превоз скални почви със самосвал на депо | C48: м³ | D48: =D46 -> 937.14 | F48: =ROUND(D48*E48,2) -> 0
A49: 8 | B49: Разриване с булдозер скални почви с булдозер на депо или такса депо | C49: м³ | D49: =D46 -> 937.14 | F49: =ROUND(D49*E49,2) -> 0
A50: 9 | B50: Доставка на речен пясък за засипване около тръбите с трамбоване | C50: м³ | D50: 0 | F50: =ROUND(D50*E50,2) -> 0
A51: 10 | B51: Доставка и транспорт каменна фракция (едрина до 20мм) за обратен насип | C51: м³ | D51: 1171.422 | F51: =ROUND(D51*E51,2) -> 0
A52: 11 | B52: Засипване на тесни изкопи с каменна фракция, вкл. трамбоване | C52: м³ | D52: 1171.422 | F52: =ROUND(D52*E52,2) -> 0
A53: 12 | B53: Натоварване и извозване на отпадъци със самосвал и такса стр.отпадъци | C53: м³ | D53: 5.39 | F53: =ROUND(D53*E53,2) -> 0
A54: 13 | B54: Укрепване на гърне за ПХ | C54: бр. | D54: 4 | F54: =ROUND(D54*E54,2) -> 0
A55: 14 | B55: Укрепване на гърне за СК | C55: бр. | D55: 3 | F55: =ROUND(D55*E55,2) -> 0
A56: 15 | B56: Направа опорни блокове на хориз. и верт. чупки и при тройници | C56: бр. | D56: 20 | F56: =ROUND(D56*E56,2) -> 0
A57: 16 | B57: Полагане бетон В20 - неармиран за опорни блокове, ПХ и СК | C57: м³ | D57: 7 | F57: =ROUND(D57*E57,2) -> 0
A58: 17 | B58: Превоз бетон | C58: м³ | D58: 7 | F58: =ROUND(D58*E58,2) -> 0
A59: 18 | B59: Направа укрепване при пресичане на кабели | C59: бр. | D59: 11 | F59: =ROUND(D59*E59,2) -> 0
A60: 19 | B60: Доставка и монтаж стоманена тръба ф 219/5 за кожух на водопровода | C60: м | D60: 0 | F60: =ROUND(D60*E60,2) -> 0
B61: Всичко водопровод - строителни работи | F61: =ROUND(SUM(F8:F60),2) -> 0
A62: Б | B62: Водопровод - монтажни работи
A63: 1 | B63: Доставка и полагане на РЕ тръби тип 80 в изкоп на челна заварка
B64: - ф160/10атм. | C64: м | F64: =ROUND(D64*E64,2) -> 0
B65: - ф140/10атм. | C65: м | F65: =ROUND(D65*E65,2) -> 0
B66: - ф110/10атм | C66: м | D66: 567 | F66: =ROUND(D66*E66,2) -> 0
B67: - ф90/10атм. | C67: м | F67: =ROUND(D67*E67,2) -> 0
A68: 2 | B68: Доставка на РЕ фасонни парчета за челна заварка
B69: - кръстач К 110/110 | C69: бр. | D69: 1 | F69: =ROUND(D69*E69,2) -> 0
B70: - тройник Т 160/160 | C70: бр. | F70: =ROUND(D70*E70,2) -> 0
B71: - тройник Т 160/110 | C71: бр. | D71: 1 | F71: =ROUND(D71*E71,2) -> 0
B72: - тройник Т 140/110 | C72: бр. | D72: 1 | F72: =ROUND(D72*E72,2) -> 0
B73: - тройник Т 110/110 | C73: бр. | D73: 2 | F73: =ROUND(D73*E73,2) -> 0
B74: - тройник Т 90/90 | C74: бр. | F74: =ROUND(D74*E74,2) -> 0
B75: - Ко 90º/90 | C75: бр. | F75: =ROUND(D75*E75,2) -> 0
B76: - дъга ДГ 60º/200 | C76: бр. | F76: =ROUND(D76*E76,2) -> 0
B77: - дъга ДГ 45º/160 | C77: бр. | F77: =ROUND(D77*E77,2) -> 0
B78: - дъга ДГ 30º/160 | C78: бр. | F78: =ROUND(D78*E78,2) -> 0
B79: - дъга ДГ 11º/160 | C79: бр. | F79: =ROUND(D79*E79,2) -> 0
B80: - дъга ДГ 25º/110 | C80: бр. | D80: 1 | F80: =ROUND(D80*E80,2) -> 0
B81: - дъга ДГ 22º/110 | C81: бр. | D81: 2 | F81: =ROUND(D81*E81,2) -> 0
B82: - дъга ДГ 15º/110 | C82: бр. | D82: 2 | F82: =ROUND(D82*E82,2) -> 0
B83: - дъга ДГ 11º/110 | C83: бр. | D83: 3 | F83: =ROUND(D83*E83,2) -> 0
B84: - дъга ДГ 45º/90 | C84: бр. | F84: =ROUND(D84*E84,2) -> 0
B85: - дъга ДГ 35º/90 | C85: бр. | F85: =ROUND(D85*E85,2) -> 0
B86: - дъга ДГ 22º/90 | C86: бр. | F86: =ROUND(D86*E86,2) -> 0
B87: - дъга ДГ 15º/90 | C87: бр. | F87: =ROUND(D87*E87,2) -> 0
B88: - дъга ДГ 11º/90 | C88: бр. | F88: =ROUND(D88*E88,2) -> 0
B89: - преход фланшов ПФ 200 | C89: бр. | F89: =ROUND(D89*E89,2) -> 0
B90: - преход фланшов ПФ 160 | C90: бр. | F90: =ROUND(D90*E90,2) -> 0
B91: - преход фланшов ПФ 110 | C91: бр. | D91: 10 | F91: =ROUND(D91*E91,2) -> 0
B92: - преход фланшов ПФ 90 | C92: бр. | F92: =ROUND(D92*E92,2) -> 0
A93: 3 | B93: Доставка и монтаж на намалител фланшов
B94: НФ 200/160 | C94: бр. | F94: =ROUND(D94*E94,2) -> 0
B95: НФ 160/110 | C95: бр. | D95: 1 | F95: =ROUND(D95*E95,2) -> 0
B96: НФ 110/90 | C96: бр. | F96: =ROUND(D96*E96,2) -> 0
A97: 4 | B97: Направа челна заварка на тръбно съединение от полиетилен ф 90 мм | C97: бр. | D97: 0 | F97: =ROUND(D97*E97,2) -> 0
A98: 5 | B98: Направа челна заварка на тръбно съединение от полиетилен ф110 мм | C98: бр. | D98: 39 | F98: =ROUND(D98*E98,2) -> 0
A99: 6 | B99: Направа челна заварка на тръбно съединение от полиетилен ф140 мм | C99: бр. | D99: 2 | F99: =ROUND(D99*E99,2) -> 0
A100: 7 | B100: Направа челна заварка на тръбно съединение от полиетилен ф160 мм | C100: бр. | D100: 3 | F100: =ROUND(D100*E100,2) -> 0
A101: 8 | B101: Направа челна заварка на тръбно съединение от полиетилен ф200 мм | C101: бр. | D101: 0 | F101: =ROUND(D101*E101,2) -> 0
A102: 4 | B102: Доставка и монтаж на СК 150 с охр. гарнитура | C102: бр. | F102: =ROUND(D102*E102,2) -> 0
B103: Доставка и монтаж на СК 100 с охр. гарнитура | C103: бр. | D103: 3 | F103: =ROUND(D103*E103,2) -> 0
A104: 5 | B104: Доставка и монтаж на СК 80 с охр. гарнитура | C104: бр. | F104: =ROUND(D104*E104,2) -> 0
A105: 6 | B105: Доставка и монтаж на пожарен хидрант 70/80 - надземен | C105: бр. | D105: 4 | F105: =ROUND(D105*E105,2) -> 0
A106: 7 | B106: Доставка и монтаж на табели СК | C106: бр. | D106: 3 | F106: =ROUND(D106*E106,2) -> 0
A107: 8 | B107: Доставка и монтаж на табели ПХ | C107: бр. | D107: 4 | F107: =ROUND(D107*E107,2) -> 0
A108: 9 | B108: Доставка и полагане на сигнална лента | C108: м | D108: 666 | F108: =ROUND(D108*E108,2) -> 0
...

Sheet КСС5
B1: Количествено-стойностна сметка № 5
B2: Обект: „Реконструкция на водоснабдителна система – гр.Земен”
F3: ул. Ст.Стамболов, ул. Гео Милев, ул. Гео Милев, ул. Груйова
D4: Ф90
A5: № | B5: Наименование | C5: мярка | D5: кол-во | E5: цена | F5: стойност
B6: Изпълнение на водопровод Ф90
A7: I | B7: Водопровод - строителни работи
B8: Пътни работи
A9: 1 | B9: Рязане на асфалт | C9: m' | D9: 2500 | F9: =ROUND(D9*E9,2) -> 0
A10: =A9+1 -> 2 | B10: Разваляне на съществуваща асфалтова настилка | C10: m2 | D10: 1250 | F10: =ROUND(D10*E10,2) -> 0
A11: =A10+1 -> 3 | B11: Разваляне на съществуваща трошенокаменна настилка - 0,15+0,30 m | C11: m3 | D11: 496.8 | F11: =ROUND(D11*E11,2) -> 0
A12: =A11+1 -> 4 | B12: Натоварване на строителни отпадъци на самосвал | C12: m3 | D12: 621.8 | F12: =ROUND(D12*E12,2) -> 0
A13: =A12+1 -> 5 | B13: Извозване на строителни отпадъци - 15 km и такса стр.отпадъци | C13: m3 | D13: 621.8 | F13: =ROUND(D13*E13,2) -> 0
A14: =A13+1 -> 6 | B14: Доставка и полагане на 45 см трошен камък (БДС 2282-83) - Е = 200 МРа | C14: m3 | D14: 496.8 | F14: =ROUND(D14*E14,2) -> 0
A15: =A14+1 -> 7 | B15: Доставка и полагане на плътен асфалтобетон d=4 см,(БДС 4132-90) - Е = 1200 МРа | C15: t | D15: 120 | F15: =ROUND(D15*E15,2) -> 0
A16: =A15+1 -> 8 | B16: Доставка и полагане на неплътен асфалтобетон d=4 см, (БДС 4132-90)- Е = 1000 МРа | C16: t | D16: 0 | F16: =ROUND(D16*E16,2) -> 0
A17: =A16+1 -> 9 | B17: Доставка и полагане на неплътен асфалтобетон d=6 см, (БДС 4132-90) - Е = 800 МРа | C17: t | D17: 180 | F17: =ROUND(D17*E17,2) -> 0
A18: =A17+1 -> 10 | B18: Доставка и полагане на битумизиран трошен кавък d=10 см, (БДС 4132-90) - Е = 800 МРа | C18: t | D18: 0 | F18: =ROUND(D18*E18,2) -> 0
A19: =A18+1 -> 11 | B19: Пръскане с емулсия между неплътния асфалтобетон | C19: m2 | D19: 1250 | F19: =ROUND(D19*E19,2) -> 0
A20: =A19+1 -> 12 | B20: Заливка с битум (стар/нов асфалт) | C20: m' | D20: 2500 | F20: =ROUND(D20*E20,2) -> 0
A22: =A21+1 -> 1 | B22: Разваляне на съществуващ паваж | C22: m2 | D22: 0 | F22: =ROUND(D22*E22,2) -> 0
... A30: =A29+1 -> 6 | B30: Възстановяване на тротоари с бетонови плочи 40/40/5см (БДС 625) вкл. | C30: m2 | D30: 87.6 | F30: =ROUND(D30*E30,2) -> 0
B31: - 3 см вароциментов разтвор
B32: - 18 см трошен камък (БДС 2282-83)- Е = 200 МРа
B33: Земни работи
B34: =КСС1!B$34 -> Изкопи в 20% з.п. и 80% ск.п.
B35: за водопровод | C35: м³ | D35: 1987.2
B36: за сградни отклонения | C36: м³ | D36: 477.785
B37: за пожарни хидранти | C37: м³ | D37: 23.4
B38: Всичко изкопи | C38: м³ | D38: =SUM(D35:D37) -> 2488.385
B39: в т.ч. земни почви | C39: м³ | D39: =D38-D40 -> 497.675
B40: скални почви | C40: м³ | D40: =ROUND(D38*80%,2) -> 1990.71
A41: 1 | B41: Изкоп с багер на земни почви с ограничена шир. по улици | C41: м³ | D41: =D39-D42 -> 398.135 | F41: =ROUND(D41*E41,2) -> 0
A42: 2 | B42: Изкоп до 1.20м шир. и до 2м дълб.земни почви - ръчно по улици | C42: м³ | D42: =ROUND(D39*20%,2) -> 99.54 | F42: =ROUND(D42*E42,2) -> 0
A43: 3 | B43: Натоварване на земни почви с багер на транспорт | C43: м³ | D43: =D42 -> 99.54 | F43: =ROUND(D43*E43,2) -> 0
A44: 3 | B44: Превоз земни почви със самосвал на депо | C44: м³ | D44: =D39 -> 497.675 | F44: =ROUND(D44*E44,2) -> 0
A45: 4 | B45: Разриване с булдозер земни почви на депото или такса депо | C45: м³ | D45: =D44 -> 497.675 | F45: =ROUND(D45*E45,2) -> 0
A46: 5 | B46: =КСС1!B$46 -> Изкоп до 1.20м шир. и до 2м. дълб. скални почви | C46: м³ | D46: =D40 -> 1990.71 | F46: =ROUND(D46*E46,2) -> 0
A47: 6 | B47: Натоварване на скални почви с багер на транспорт | C47: м³ | D47: =D46 -> 1990.71 | F47: =ROUND(D47*E47,2) -> 0
A48: 7 | B48: Превоз скални почви със самосвал на депо | C48: м³ | D48: =D46 -> 1990.71 | F48: =ROUND(D48*E48,2) -> 0
A49: 8 | B49: Разриване с булдозер скални почви с булдозер на депо или такса депо | C49: м³ | D49: =D46 -> 1990.71 | F49: =ROUND(D49*E49,2) -> 0
A50: 9 | B50: Доставка на речен пясък за засипване около тръбите с трамбоване | C50: м³ | D50: 0 | F50: =ROUND(D50*E50,2) -> 0
A51: 10 | B51: Доставка и транспорт каменна фракция (едрина до 20мм) за обратен насип | C51: м³ | D51: 2488.385 | F51: =ROUND(D51*E51,2) -> 0
A52: 11 | B52: Засипване на тесни изкопи с каменна фракция, вкл. трамбоване | C52: м³ | D52: 2488.385 | F52: =ROUND(D52*E52,2) -> 0
A53: 12 | B53: Натоварване и извозване на отпадъци със самосвал и такса стр.отпадъци | C53: м³ | D53: 7.02 | F53: =ROUND(D53*E53,2) -> 0
A54: 13 | B54: Укрепване на гърне за ПХ | C54: бр. | D54: 8 | F54: =ROUND(D54*E54,2) -> 0
A55: 14 | B55: Укрепване на гърне за СК | C55: бр. | D55: 5 | F55: =ROUND(D55*E55,2) -> 0
A56: 15 | B56: Направа опорни блокове на хориз. и верт. чупки и при тройници | C56: бр. | D56: 44 | F56: =ROUND(D56*E56,2) -> 0
A57: 16 | B57: Полагане бетон В20 - неармиран за опорни блокове, ПХ и СК | C57: м³ | D57: 15.4 | F57: =ROUND(D57*E57,2) -> 0
A58: 17 | B58: Превоз бетон | C58: м³ | D58: 15.4 | F58: =ROUND(D58*E58,2) -> 0
A59: 18 | B59: Направа укрепване при пресичане на кабели | C59: бр. | D59: 16 | F59: =ROUND(D59*E59,2) -> 0
A60: 19 | B60: Доставка и монтаж стоманена тръба ф 219/5 за кожух на водопровода | C60: м | D60: 8 | F60: =ROUND(D60*E60,2) -> 0
B61: Всичко водопровод - строителни работи | F61: =ROUND(SUM(F8:F60),2) -> 0
A62: Б | B62: Водопровод - монтажни работи
A63: 1 | B63: Доставка и полагане на РЕ тръби тип 80 в изкоп на челна заварка
B64: - ф160/10атм. | C64: м | F64: =ROUND(D64*E64,2) -> 0
B65: - ф140/10атм. | C65: м | F65: =ROUND(D65*E65,2) -> 0
B66: - ф110/10атм | C66: м | F66: =ROUND(D66*E66,2) -> 0
B67: - ф90/10атм. | C67: м | D67: 1104 | F67: =ROUND(D67*E67,2) -> 0
A68: 2 | B68: Доставка на РЕ фасонни парчета за челна заварка
B69: - кръстач К 110/110 | C69: бр. | F69: =ROUND(D69*E69,2) -> 0
B70: - тройник Т 160/160 | C70: бр. | F70: =ROUND(D70*E70,2) -> 0
B71: - тройник Т 160/110 | C71: бр. | F71: =ROUND(D71*E71,2) -> 0
B72: - тройник Т 140/110 | C72: бр. | F72: =ROUND(D72*E72,2) -> 0
B73: - тройник Т 110/110 | C73: бр. | F73: =ROUND(D73*E73,2) -> 0
B74: - тройник Т 90/90 | C74: бр. | D74: 14 | F74: =ROUND(D74*E74,2) -> 0
B75: - Ко 90º/90 | C75: бр. | D75: 1 | F75: =ROUND(D75*E75,2) -> 0
B76: - дъга ДГ 60º/200 | C76: бр. | F76: =ROUND(D76*E76,2) -> 0
B77: - дъга ДГ 45º/160 | C77: бр. | F77: =ROUND(D77*E77,2) -> 0
B78: - дъга ДГ 30º/160 | C78: бр. | F78: =ROUND(D78*E78,2) -> 0
B79: - дъга ДГ 11º/160 | C79: бр. | F79: =ROUND(D79*E79,2) -> 0
B80: - дъга ДГ 25º/110 | C80: бр. | F80: =ROUND(D80*E80,2) -> 0
B81: - дъга ДГ 22º/110 | C81: бр. | F81: =ROUND(D81*E81,2) -> 0
B82: - дъга ДГ 15º/110 | C82: бр. | F82: =ROUND(D82*E82,2) -> 0
B83: - дъга ДГ 11º/110 | C83: бр. | F83: =ROUND(D83*E83,2) -> 0
B84: - дъга ДГ 45º/90 | C84: бр. | D84: 2 | F84: =ROUND(D84*E84,2) -> 0
B85: - дъга ДГ 35º/90 | C85: бр. | D85: 1 | F85: =ROUND(D85*E85,2) -> 0
B86: - дъга ДГ 22º/90 | C86: бр. | D86: 2 | F86: =ROUND(D86*E86,2) -> 0
B87: - дъга ДГ 15º/90 | C87: бр. | D87: 3 | F87: =ROUND(D87*E87,2) -> 0
B88: - дъга ДГ 11º/90 | C88: бр. | D88: 8 | F88: =ROUND(D88*E88,2) -> 0
B89: - преход фланшов ПФ 200 | C89: бр. | F89: =ROUND(D89*E89,2) -> 0
B90: - преход фланшов ПФ 160 | C90: бр. | F90: =ROUND(D90*E90,2) -> 0
B91: - преход фланшов ПФ 110 | C91: бр. | F91: =ROUND(D91*E91,2) -> 0
B92: - преход фланшов ПФ 90 | C92: бр. | D92: 22 | F92: =ROUND(D92*E92,2) -> 0
A93: 3 | B93: Доставка и монтаж на намалител фланшов
B94: НФ 200/160 | C94: бр. | F94: =ROUND(D94*E94,2) -> 0
B95: НФ 160/110 | C95: бр. | F95: =ROUND(D95*E95,2) -> 0
B96: НФ 110/90 | C96: бр. | D96: 5 | F96: =ROUND(D96*E96,2) -> 0
A97: 4 | B97: Направа челна заварка на тръбно съединение от полиетилен ф 90 мм | C97: бр. | D97: 103 | F97: =ROUND(D97*E97,2) -> 0
A98: 5 | B98: Направа челна заварка на тръбно съединение от полиетилен ф110 мм | C98: бр. | D98: 5 | F98: =ROUND(D98*E98,2) -> 0
A99: 6 | B99: Направа челна заварка на тръбно съединение от полиетилен ф140 мм | C99: бр. | D99: 0 | F99: =ROUND(D99*E99,2) -> 0
A100: 7 | B100: Направа челна заварка на тръбно съединение от полиетилен ф160 мм | C100: бр. | D100: 0 | F100: =ROUND(D100*E100,2) -> 0
A101: 8 | B101: Направа челна заварка на тръбно съединение от полиетилен ф200 мм | C101: бр. | D101: 0 | F101: =ROUND(D101*E101,2) -> 0
A102: 4 | B102: Доставка и монтаж на СК 150 с охр. гарнитура | C102: бр. | F102: =ROUND(D102*E102,2) -> 0
B103: Доставка и монтаж на СК 100 с охр. гарнитура | C103: бр. | F103: =ROUND(D103*E103,2) -> 0
A104: 5 | B104: Доставка и монтаж на СК 80 с охр. гарнитура | C104: бр. | D104: 5 | F104: =ROUND(D104*E104,2) -> 0
A105: 6 | B105: Доставка и монтаж на пожарен хидрант 70/80 - надземен | C105: бр. | D105: 8 | F105: =ROUND(D105*E105,2) -> 0
A106: 7 | B106: Доставка и монтаж на табели СК | C106: бр. | D106: 5 | F106: =ROUND(D106*E106,2) -> 0
A107: 8 | B107: Доставка и монтаж на табели ПХ | C107: бр. | D107: 8 | F107: =ROUND(D107*E107,2) -> 0
A108: 9 | B108: Доставка и полагане на сигнална лента | C108: м | D108: 1505.5 | F108: =ROUND(D108*E108,2) -> 0
...

Sheet КСС4
B1: Количествено-стойностна сметка № 4
B2: Обект: „Реконструкция на водоснабдителна система – гр.Земен”
F3: ул. Д-р Г.М.Димитров, ул. Цар Симеон
D4: Ф110
A5: № | B5: Наименование | C5: мярка | D5: кол-во | E5: цена | F5: стойност
B6: Изпълнение на водопровод Ф110
A7: I | B7: Водопровод - строителни работи
B8: Пътни работи
A9: 1 | B9: Рязане на асфалт | C9: m' | D9: 1960 | F9: =ROUND(D9*E9,2) -> 0
A10: =A9+1 -> 2 | B10: Разваляне на съществуваща асфалтова настилка | C10: m2 | D10: 980 | F10: =ROUND(D10*E10,2) -> 0
A11: =A10+1 -> 3 | B11: Разваляне на съществуваща трошенокаменна настилка - 0,15+0,30 m | C11: m3 | D11: 406.8 | F11: =ROUND(D11*E11,2) -> 0
A12: =A11+1 -> 4 | B12: Натоварване на строителни отпадъци на самосвал | C12: m3 | D12: 504.8 | F12: =ROUND(D12*E12,2) -> 0
A13: =A12+1 -> 5 | B13: Извозване на строителни отпадъци - 15 km и такса стр.отпадъци | C13: m3 | D13: 504.8 | F13: =ROUND(D13*E13,2) -> 0
A14: =A13+1 -> 6 | B14: Доставка и полагане на 45 см трошен камък (БДС 2282-83) - Е = 200 МРа | C14: m3 | D14: 406.8 | F14: =ROUND(D14*E14,2) -> 0
A15: =A14+1 -> 7 | B15: Доставка и полагане на плътен асфалтобетон d=4 см,(БДС 4132-90) - Е = 1200 МРа | C15: t | D15: 94.08 | F15: =ROUND(D15*E15,2) -> 0
A16: =A15+1 -> 8 | B16: Доставка и полагане на неплътен асфалтобетон d=4 см, (БДС 4132-90)- Е = 1000 МРа | C16: t | D16: 0 | F16: =ROUND(D16*E16,2) -> 0
A17: =A16+1 -> 9 | B17: Доставка и полагане на неплътен асфалтобетон d=6 см, (БДС 4132-90) - Е = 800 МРа | C17: t | D17: 141.12 | F17: =ROUND(D17*E17,2) -> 0
A18: =A17+1 -> 10 | B18: Доставка и полагане на битумизиран трошен кавък d=10 см, (БДС 4132-90) - Е = 800 МРа | C18: t | D18: 0 | F18: =ROUND(D18*E18,2) -> 0
A19: =A18+1 -> 11 | B19: Пръскане с емулсия между неплътния асфалтобетон | C19: m2 | D19: 980 | F19: =ROUND(D19*E19,2) -> 0
A20: =A19+1 -> 12 | B20: Заливка с битум (стар/нов асфалт) | C20: m' | D20: 1960 | F20: =ROUND(D20*E20,2) -> 0
A22: =A21+1 -> 1 | B22: Разваляне на съществуващ паваж | C22: m2 | D22: 0 | F22: =ROUND(D22*E22,2) -> 0
... A30: =A29+1 -> 6 | B30: Възстановяване на тротоари с бетонови плочи 40/40/5см (БДС 625) вкл. | C30: m2 | D30: 45.6 | F30: =ROUND(D30*E30,2) -> 0
B31: - 3 см вароциментов разтвор
B32: - 18 см трошен камък (БДС 2282-83)- Е = 200 МРа
B33: Земни работи
B34: =КСС1!B$34 -> Изкопи в 20% з.п. и 80% ск.п.
B35: за водопровод | C35: м³ | D35: 1659.744
B36: за сградни отклонения | C36: м³ | D36: 248.71
B37: за пожарни хидранти | C37: м³ | D37: 12.6
B38: Всичко изкопи | C38: м³ | D38: =SUM(D35:D37) -> 1921.054
B39: в т.ч. земни почви | C39: м³ | D39: =D38-D40 -> 384.214
B40: скални почви | C40: м³ | D40: =ROUND(D38*80%,2) -> 1536.84
A41: 1 | B41: Изкоп с багер на земни почви с ограничена шир. по улици | C41: м³ | D41: =D39-D42 -> 307.374 | F41: =ROUND(D41*E41,2) -> 0
A42: 2 | B42: Изкоп до 1.20м шир. и до 2м дълб.земни почви - ръчно по улици | C42: м³ | D42: =ROUND(D39*20%,2) -> 76.84 | F42: =ROUND(D42*E42,2) -> 0
A43: 3 | B43: Натоварване на земни почви с багер на транспорт | C43: м³ | D43: =D42 -> 76.84 | F43: =ROUND(D43*E43,2) -> 0
A44: 3 | B44: Превоз земни почви със самосвал на депо | C44: м³ | D44: =D39 -> 384.214 | F44: =ROUND(D44*E44,2) -> 0
A45: 4 | B45: Разриване с булдозер земни почви на депото или такса депо | C45: м³ | D45: =D44 -> 384.214 | F45: =ROUND(D45*E45,2) -> 0
A46: 5 | B46: =КСС1!B$46 -> Изкоп до 1.20м шир. и до 2м. дълб. скални почви | C46: м³ | D46: =D40 -> 1536.84 | F46: =ROUND(D46*E46,2) -> 0
A47: 6 | B47: Натоварване на скални почви с багер на транспорт | C47: м³ | D47: =D46 -> 1536.84 | F47: =ROUND(D47*E47,2) -> 0
A48: 7 | B48: Превоз скални почви със самосвал на депо | C48: м³ | D48: =D46 -> 1536.84 | F48: =ROUND(D48*E48,2) -> 0
A49: 8 | B49: Разриване с булдозер скални почви с булдозер на депо или такса депо | C49: м³ | D49: =D46 -> 1536.84 | F49: =ROUND(D49*E49,2) -> 0
A50: 9 | B50: Доставка на речен пясък за засипване около тръбите с трамбоване | C50: м³ | D50: 361.6 | F50: =ROUND(D50*E50,2) -> 0
A51: 10 | B51: Доставка и транспорт каменна фракция (едрина до 20мм) за обратен насип | C51: м³ | D51: 1559.454 | F51: =ROUND(D51*E51,2) -> 0
A52: 11 | B52: Засипване на тесни изкопи с каменна фракция, вкл. трамбоване | C52: м³ | D52: 1559.454 | F52: =ROUND(D52*E52,2) -> 0
A53: 12 | B53: Натоварване и извозване на отпадъци със самосвал и такса стр.отпадъци | C53: м³ | D53: 8.59 | F53: =ROUND(D53*E53,2) -> 0
A54: 13 | B54: Укрепване на гърне за ПХ | C54: бр. | D54: 6 | F54: =ROUND(D54*E54,2) -> 0
A55: 14 | B55: Укрепване на гърне за СК | C55: бр. | D55: 1 | F55: =ROUND(D55*E55,2) -> 0
A56: 15 | B56: Направа опорни блокове на хориз. и верт. чупки и при тройници | C56: бр. | D56: 12 | F56: =ROUND(D56*E56,2) -> 0
A57: 16 | B57: Полагане бетон В20 - неармиран за опорни блокове, ПХ и СК | C57: м³ | D57: 4.2 | F57: =ROUND(D57*E57,2) -> 0
A58: 17 | B58: Превоз бетон | C58: м³ | D58: 4.2 | F58: =ROUND(D58*E58,2) -> 0
A59: 18 | B59: Направа укрепване при пресичане на кабели | C59: бр. | D59: 14 | F59: =ROUND(D59*E59,2) -> 0
A60: 19 | B60: Доставка и монтаж стоманена тръба ф 219/5 за кожух на водопровода | C60: м | D60: 8 | F60: =ROUND(D60*E60,2) -> 0
B61: Всичко водопровод - строителни работи | F61: =ROUND(SUM(F7:F60),2) -> 0
A62: Б | B62: Водопровод - монтажни работи
A63: 1 | B63: Доставка и полагане на РЕ тръби тип 80 в изкоп на челна заварка
B64: - ф110/10атм. | C64: м | D64: 904 | F64: =ROUND(D64*E64,2) -> 0
B65: - ф90/10атм. | C65: м | F65: =ROUND(D65*E65,2) -> 0
A66: 2 | B66: Доставка на РЕ фасонни парчета за челна заварка
B67: - кръстач К 110/110 | C67: бр. | D67: 1 | F67: =ROUND(D67*E67,2) -> 0
B68: - тройник Т 160/160 | C68: бр. | D68: 1 | F68: =ROUND(D68*E68,2) -> 0
B69: - тройник Т 160/90 | C69: бр. | D69: 0 | F69: =ROUND(D69*E69,2) -> 0
B70: - тройник Т 110/110 | C70: бр. | D70: 2 | F70: =ROUND(D70*E70,2) -> 0
B71: - тройник Т 110/90 | C71: бр. | D71: 2 | F71: =ROUND(D71*E71,2) -> 0
B72: - тройник Т 90/90 | C72: бр. | D72: 0 | F72: =ROUND(D72*E72,2) -> 0
B73: - дъга ДГ 30º/110 | C73: бр. | D73: 1 | F73: =ROUND(D73*E73,2) -> 0
B74: - дъга ДГ 15º/110 | C74: бр. | D74: 4 | F74: =ROUND(D74*E74,2) -> 0
B75: - дъга ДГ 11º/110 | C75: бр. | D75: 1 | F75: =ROUND(D75*E75,2) -> 0
B76: - дъга ДГ 60º/90 | C76: бр. | D76: 0 | F76: =ROUND(D76*E76,2) -> 0
B77: - дъга ДГ 22º/90 | C77: бр. | D77: 0 | F77: =ROUND(D77*E77,2) -> 0
B78: - дъга ДГ 18º/90 | C78: бр. | D78: 0 | F78: =ROUND(D78*E78,2) -> 0
... B82: - преход фланшов ПФ 90 | C82: бр. | D82: 0 | F82: =ROUND(D82*E82,2) -> 0
A83: 3 | B83: Доставка и монтаж на намалител фланшов
B84: НФ 160/90 | C84: бр. | D84: 0 | F84: =ROUND(D84*E84,2) -> 0
B85: НФ 110/90 | C85: бр. | D85: 3 | F85: =ROUND(D85*E85,2) -> 0
A86: 4 | B86: Направа челна заварка на тръбно съединение от полиетилен ф 90 мм | C86: бр. | D86: 5 | F86: =ROUND(D86*E86,2) -> 0
A87: 5 | B87: Направа челна заварка на тръбно съединение от полиетилен ф110 мм | C87: бр. | D87: 36 | F87: =ROUND(D87*E87,2) -> 0
A88: 6 | B88: Направа челна заварка на тръбно съединение от полиетилен ф140 мм | C88: бр. | D88: 0 | F88: =ROUND(D88*E88,2) -> 0
A89: 7 | B89: Направа челна заварка на тръбно съединение от полиетилен ф160 мм | C89: бр. | D89: 4 | F89: =ROUND(D89*E89,2) -> 0
A90: 4 | B90: Доставка и монтаж на СК 100 с охр. гарнитура | C90: бр. | D90: 1 | F90: =ROUND(D90*E90,2) -> 0
A91: 5 | B91: Доставка и монтаж на СК 80 с охр. гарнитура | C91: бр. | D91: 0 | F91: =ROUND(D91*E91,2) -> 0
A92: 6 | B92: Доставка и монтаж на пожарен хидрант 70/80 - надземен | C92: бр. | D92: 6 | F92: =ROUND(D92*E92,2) -> 0
A93: 7 | B93: Доставка и монтаж на табели СК | C93: бр. | D93: 1 | F93: =ROUND(D93*E93,2) -> 0
A94: 8 | B94: Доставка и монтаж на табели ПХ | C94: бр. | D94: 6 | F94: =ROUND(D94*E94,2) -> 0
A95: 9 | B95: Доставка и полагане на сигнална лента | C95: м | D95: 1113 | F95: =ROUND(D95*E95,2) -> 0
A96: 10 | B96: Доставка и полагане на детекторна лента | C96: м | D96: 1113 | F96: =ROUND(D96*E96,2) -> 0
A97: 11 | B97: Изпитване на водопровод до ф 140 на водоплътност | C97: м | D97: 1113 | F97: =ROUND(D97*E97,2) -> 0
A98: 12 | B98: Дезинфекция на водопровод | C98: м | D98: 1113 | F98: =ROUND(D98*E98,2) -> 0
B99: Всичко водопровод - монтажни работи | F99: =ROUND(SUM(F64:F98),2) -> 0
A100: I. | B100: Сградни отклонения 123бр. - мотажни работи
A101: 1 | B101: Доставка и монтаж на водовземна скоба :
B102: ЕО ф 110/25 | C102: бр. | D102: 38 | F102: =ROUND(D102*E102,2) -> 0
B103: ЕО ф 90/25 | C103: бр. | D103: 0 | F103: =ROUND(D103*E103,2) -> 0
A104: 2 | B104: Доставка имонтаж на полиетиленови тръби ф 25 | C104: м | D104: 209 | F104: =ROUND(D104*E104,2) -> 0
A105: 3 | B105: Доставка и монтаж на преход с външна резба РЕ 25 | C105: бр. | D105: 76 | F105: =ROUND(D105*E105,2) -> 0
A106: 4 | B106: Доставка и монтаж на ТСК 3/4" | C106: бр. | D106: 38 | F106: =ROUND(D106*E106,2) -> 0
A107: 5 | B107: Бетон под тротоарните кранове | C107: м³ | D107: 1.9 | F107: =ROUND(D107*E107,2) -> 0
A108: 6 | B108: Превключване на нов водопровод със сградните отклонения | C108: бр. | D108: 38 | F108: =ROUND(D108*E108,2) -> 0
B109: Всичко сградни отклонения | F109: =ROUND(SUM(F102:F108),2) -> 0
B111: ОБЩО без ДДС:

Sheet КСС3
B1: Количествено-стойностна сметка № 3
B2: Обект: „Реконструкция на водоснабдителна система – гр.Земен”
F3: ул. Княз Борис, ул. Цар Колоян, ул. Гоце Делчев, ул. Цар Самуил
D4: Ф90
A5: № | B5: Наименование | C5: мярка | D5: кол-во | E5: цена | F5: стойност
B6: Изпълнение на водопровод Ф90
A7: I | B7: Водопровод - строителни работи
B8: Пътни работи
A9: 1 | B9: Рязане на асфалт | C9: m' | D9: 2108 | F9: =ROUND(D9*E9,2) -> 0
A10: =A9+1 -> 2 | B10: Разваляне на съществуваща асфалтова настилка | C10: m2 | D10: 1054 | F10: =ROUND(D10*E10,2) -> 0
A11: =A10+1 -> 3 | B11: Разваляне на съществуваща трошенокаменна настилка - 0,15+0,30 m | C11: m3 | D11: 479.7 | F11: =ROUND(D11*E11,2) -> 0
A12: =A11+1 -> 4 | B12: Натоварване на строителни отпадъци на самосвал | C12: m3 | D12: 585.1 | F12: =ROUND(D12*E12,2) -> 0
A13: =A12+1 -> 5 | B13: Извозване на строителни отпадъци - 15 km и такса стр.отпадъци | C13: m3 | D13: 585.1 | F13: =ROUND(D13*E13,2) -> 0
A14: =A13+1 -> 6 | B14: Доставка и полагане на 45 см трошен камък (БДС 2282-83) - Е = 200 МРа | C14: m3 | D14: 479.7 | F14: =ROUND(D14*E14,2) -> 0
A15: =A14+1 -> 7 | B15: Доставка и полагане на плътен асфалтобетон d=4 см,(БДС 4132-90) - Е = 1200 МРа | C15: t | D15: 101.184 | F15: =ROUND(D15*E15,2) -> 0
A16: =A15+1 -> 8 | B16: Доставка и полагане на неплътен асфалтобетон d=4 см, (БДС 4132-90)- Е = 1000 МРа | C16: t | D16: 0 | F16: =ROUND(D16*E16,2) -> 0
A17: =A16+1 -> 9 | B17: Доставка и полагане на неплътен асфалтобетон d=6 см, (БДС 4132-90) - Е = 800 МРа | C17: t | D17: 151.776 | F17: =ROUND(D17*E17,2) -> 0
A18: =A17+1 -> 10 | B18: Доставка и полагане на битумизиран трошен кавък d=10 см, (БДС 4132-90) - Е = 800 МРа | C18: t | D18: 0 | F18: =ROUND(D18*E18,2) -> 0
A19: =A18+1 -> 11 | B19: Пръскане с емулсия между неплътния асфалтобетон | C19: m2 | D19: 1054 | F19: =ROUND(D19*E19,2) -> 0
A20: =A19+1 -> 12 | B20: Заливка с битум (стар/нов асфалт) | C20: m' | D20: 2108 | F20: =ROUND(D20*E20,2) -> 0
A22: =A21+1 -> 1 | B22: Разваляне на съществуващ паваж | C22: m2 | D22: 67 | F22: =ROUND(D22*E22,2) -> 0
... A30: =A29+1 -> 6 | B30: Възстановяване на тротоари с бетонови плочи 40/40/5см (БДС 625) вкл. | C30: m2 | D30: 102 | F30: =ROUND(D30*E30,2) -> 0
B31: - 3 см вароциментов разтвор
B32: - 18 см трошен камък (БДС 2282-83)- Е = 200 МРа
B33: Земни работи
B34: =КСС1!B$34 -> Изкопи в 20% з.п. и 80% ск.п.
B35: за водопровод | C35: м³ | D35: 1918.8
B36: за сградни отклонения | C36: м³ | D36: 556.325
B37: за пожарни хидранти | C37: м³ | D37: 23.4
B38: Всичко изкопи | C38: м³ | D38: =SUM(D35:D37) -> 2498.525
B39: в т.ч. земни почви | C39: м³ | D39: =D38-D40 -> 499.705
B40: скални почви | C40: м³ | D40: =ROUND(D38*80%,2) -> 1998.82
A41: 1 | B41: Изкоп с багер на земни почви с ограничена шир. по улици | C41: м³ | D41: =D39-D42 -> 399.765 | F41: =ROUND(D41*E41,2) -> 0
A42: 2 | B42: Изкоп до 1.20м шир. и до 2м дълб.земни почви - ръчно по улици | C42: м³ | D42: =ROUND(D39*20%,2) -> 99.94 | F42: =ROUND(D42*E42,2) -> 0
A43: 3 | B43: Натоварване на земни почви с багер на транспорт | C43: м³ | D43: =D42 -> 99.94 | F43: =ROUND(D43*E43,2) -> 0
A44: 3 | B44: Превоз земни почви със самосвал на депо | C44: м³ | D44: =D39 -> 499.705 | F44: =ROUND(D44*E44,2) -> 0
A45: 4 | B45: Разриване с булдозер земни почви на депото или такса депо | C45: м³ | D45: =D44 -> 499.705 | F45: =ROUND(D45*E45,2) -> 0
A46: 5 | B46: =КСС1!B$46 -> Изкоп до 1.20м шир. и до 2м. дълб. скални почви | C46: м³ | D46: =D40 -> 1998.82 | F46: =ROUND(D46*E46,2) -> 0
A47: 6 | B47: Натоварване на скални почви с багер на транспорт | C47: м³ | D47: =D46 -> 1998.82 | F47: =ROUND(D47*E47,2) -> 0
A48: 7 | B48: Превоз скални почви със самосвал на депо | C48: м³ | D48: =D46 -> 1998.82 | F48: =ROUND(D48*E48,2) -> 0
A49: 8 | B49: Разриване с булдозер скални почви с булдозер на депо или такса депо | C49: м³ | D49: =D46 -> 1998.82 | F49: =ROUND(D49*E49,2) -> 0
A50: 9 | B50: Доставка на речен пясък за засипване около тръбите с трамбоване | C50: м³ | D50: 426.4 | F50: =ROUND(D50*E50,2) -> 0
A51: 10 | B51: Доставка и транспорт каменна фракция (едрина до 20мм) за обратен насип | C51: м³ | D51: 2072.125 | F51: =ROUND(D51*E51,2) -> 0
A52: 11 | B52: Засипване на тесни изкопи с каменна фракция, вкл. трамбоване | C52: м³ | D52: 2072.125 | F52: =ROUND(D52*E52,2) -> 0
A53: 12 | B53: Натоварване и извозване на отпадъци със самосвал и такса стр.отпадъци | C53: м³ | D53: 6.78 | F53: =ROUND(D53*E53,2) -> 0
A54: 13 | B54: Укрепване на гърне за ПХ | C54: бр. | D54: 9 | F54: =ROUND(D54*E54,2) -> 0
A55: 14 | B55: Укрепване на гърне за СК | C55: бр. | D55: 4 | F55: =ROUND(D55*E55,2) -> 0
A56: 15 | B56: Направа опорни блокове на хориз. и верт. чупки и при тройници | C56: бр. | D56: 28 | F56: =ROUND(D56*E56,2) -> 0
A57: 16 | B57: Полагане бетон В20 - неармиран за опорни блокове, ПХ и СК | C57: м³ | D57: 9.8 | F57: =ROUND(D57*E57,2) -> 0
A58: 17 | B58: Превоз бетон | C58: м³ | D58: 9.8 | F58: =ROUND(D58*E58,2) -> 0
A59: 18 | B59: Направа укрепване при пресичане на кабели | C59: бр. | D59: 23 | F59: =ROUND(D59*E59,2) -> 0
A60: 19 | B60: Доставка и монтаж стоманена тръба ф 219/5 за кожух на водопровода | C60: м | D60: 0 | F60: =ROUND(D60*E60,2) -> 0
B61: Всичко водопровод - строителни работи | F61: =ROUND(SUM(F7:F60),2) -> 0
A62: Б | B62: Водопровод - монтажни работи
A63: 1 | B63: Доставка и полагане на РЕ тръби тип 80 в изкоп на челна заварка
B64: - ф110/10атм. | C64: м | F64: =ROUND(D64*E64,2) -> 0
B65: - ф90/10атм. | C65: м | D65: 1066 | F65: =ROUND(D65*E65,2) -> 0
A66: 2 | B66: Доставка на РЕ фасонни парчета за челна заварка
B67: - кръстач К 110/110 | C67: бр. | D67: 0 | F67: =ROUND(D67*E67,2) -> 0
B68: - тройник Т 160/160 | C68: бр. | D68: 0 | F68: =ROUND(D68*E68,2) -> 0
B69: - тройник Т 160/90 | C69: бр. | D69: 1 | F69: =ROUND(D69*E69,2) -> 0
B70: - тройник Т 110/110 | C70: бр. | D70: 0 | F70: =ROUND(D70*E70,2) -> 0
B71: - тройник Т 110/90 | C71: бр. | D71: 3 | F71: =ROUND(D71*E71,2) -> 0
B72: - тройник Т 90/90 | C72: бр. | D72: 9 | F72: =ROUND(D72*E72,2) -> 0
B73: - дъга ДГ 30º/110 | C73: бр. | D73: 0 | F73: =ROUND(D73*E73,2) -> 0
B74: - дъга ДГ 15º/110 | C74: бр. | D74: 0 | F74: =ROUND(D74*E74,2) -> 0
B75: - дъга ДГ 11º/110 | C75: бр. | D75: 0 | F75: =ROUND(D75*E75,2) -> 0
B76: - дъга ДГ 60º/90 | C76: бр. | D76: 2 | F76: =ROUND(D76*E76,2) -> 0
B77: - дъга ДГ 22º/90 | C77: бр. | D77: 1 | F77: =ROUND(D77*E77,2) -> 0
B78: - дъга ДГ 18º/90 | C78: бр. | D78: 4 | F78: =ROUND(D78*E78,2) -> 0
... B82: - преход фланшов ПФ 90 | C82: бр. | D82: 21 | F82: =ROUND(D82*E82,2) -> 0
A83: 3 | B83: Доставка и монтаж на намалител фланшов
B84: НФ 160/90 | C84: бр. | D84: 1 | F84: =ROUND(D84*E84,2) -> 0
B85: НФ 110/90 | C85: бр. | D85: 3 | F85: =ROUND(D85*E85,2) -> 0
A86: 4 | B86: Направа челна заварка на тръбно съединение от полиетилен ф 90 мм | C86: бр. | D86: 86 | F86: =ROUND(D86*E86,2) -> 0
A87: 5 | B87: Направа челна заварка на тръбно съединение от полиетилен ф110 мм | C87: бр. | D87: 9 | F87: =ROUND(D87*E87,2) -> 0
A88: 6 | B88: Направа челна заварка на тръбно съединение от полиетилен ф140 мм | C88: бр. | D88: 0 | F88: =ROUND(D88*E88,2) -> 0
A89: 7 | B89: Направа челна заварка на тръбно съединение от полиетилен ф160 мм | C89: бр. | D89: 3 | F89: =ROUND(D89*E89,2) -> 0
A90: 4 | B90: Доставка и монтаж на СК 100 с охр. гарнитура | C90: бр. | D90: 0 | F90: =ROUND(D90*E90,2) -> 0
A91: 5 | B91: Доставка и монтаж на СК 80 с охр. гарнитура | C91: бр. | D91: 4 | F91: =ROUND(D91*E91,2) -> 0
A92: 6 | B92: Доставка и монтаж на пожарен хидрант 70/80 - надземен | C92: бр. | D92: 9 | F92: =ROUND(D92*E92,2) -> 0
A93: 7 | B93: Доставка и монтаж на табели СК | C93: бр. | D93: 4 | F93: =ROUND(D93*E93,2) -> 0
A94: 8 | B94: Доставка и монтаж на табели ПХ | C94: бр. | D94: 9 | F94: =ROUND(D94*E94,2) -> 0
A95: 9 | B95: Доставка и полагане на сигнална лента | C95: м | D95: 1533.5 | F95: =ROUND(D95*E95,2) -> 0
A96: 10 | B96: Доставка и полагане на детекторна лента | C96: м | D96: 1533.5 | F96: =ROUND(D96*E96,2) -> 0
A97: 11 | B97: Изпитване на водопровод до ф 140 на водоплътност | C97: м | D97: 1533.5 | F97: =ROUND(D97*E97,2) -> 0
A98: 12 | B98: Дезинфекция на водопровод | C98: м | D98: 1533.5 | F98: =ROUND(D98*E98,2) -> 0
B99: Всичко водопровод - монтажни работи | F99: =ROUND(SUM(F64:F98),2) -> 0
A100: I. | B100: Сградни отклонения 123бр. - мотажни работи
A101: 1 | B101: Доставка и монтаж на водовземна скоба :
B102: ЕО ф 110/25 | C102: бр. | D102: 0 | F102: =ROUND(D102*E102,2) -> 0
B103: ЕО ф 90/25 | C103: бр. | D103: 85 | F103: =ROUND(D103*E103,2) -> 0
A104: 2 | B104: Доставка имонтаж на полиетиленови тръби ф 25 | C104: м | D104: 467.5 | F104: =ROUND(D104*E104,2) -> 0
A105: 3 | B105: Доставка и монтаж на преход с външна резба РЕ 25 | C105: бр. | D105: 170 | F105: =ROUND(D105*E105,2) -> 0
A106: 4 | B106: Доставка и монтаж на ТСК 3/4" | C106: бр. | D106: 85 | F106: =ROUND(D106*E106,2) -> 0
A107: 5 | B107: Бетон под тротоарните кранове | C107: м³ | D107: 4.25 | F107: =ROUND(D107*E107,2) -> 0
A108: 6 | B108: Превключване на нов водопровод със сградните отклонения | C108: бр. | D108: 85 | F108: =ROUND(D108*E108,2) -> 0
B109: Всичко сградни отклонения | F109: =ROUND(SUM(F102:F108),2) -> 0
B111: ОБЩО без ДДС:

Sheet КСС2
B1: Количествено-стойностна сметка № 2
B2: Обект: „Реконструкция на водоснабдителна система – гр.Земен”
F3: Сметка 2: ул. Земенско кале и ул. П.Хилендарски
D4: Ф90
A5: № | B5: Наименование | C5: мярка | D5: кол-во | E5: цена | F5: стойност
B6: Изпълнение на водопровод Ф90
A7: А | B7: Водопровод - строителни работи
B8: Пътни работи
A9: 1 | B9: Рязане на асфалт | C9: m' | D9: 2990 | F9: =ROUND(D9*E9,2) -> 0
A10: =A9+1 -> 2 | B10: Разваляне на съществуваща асфалтова настилка | C10: m2 | D10: 1495 | F10: =ROUND(D10*E10,2) -> 0
A11: =A10+1 -> 3 | B11: Разваляне на съществуваща трошенокаменна настилка - 0,15+0,30 m | C11: m3 | D11: 594.45 | F11: =ROUND(D11*E11,2) -> 0
A12: =A11+1 -> 4 | B12: Натоварване на строителни отпадъци на самосвал | C12: m3 | D12: 743.95 | F12: =ROUND(D12*E12,2) -> 0
A13: =A12+1 -> 5 | B13: Извозване на строителни отпадъци - 15 km и такса стр.отпадъци | C13: m3 | D13: 743.95 | F13: =ROUND(D13*E13,2) -> 0
A14: =A13+1 -> 6 | B14: Доставка и полагане на 45 см трошен камък (БДС 2282-83) - Е = 200 МРа | C14: m3 | D14: 594.45 | F14: =ROUND(D14*E14,2) -> 0
A15: =A14+1 -> 7 | B15: Доставка и полагане на плътен асфалтобетон d=4 см,(БДС 4132-90) - Е = 1200 МРа | C15: t | D15: 143.52 | F15: =ROUND(D15*E15,2) -> 0
A16: =A15+1 -> 8 | B16: Доставка и полагане на неплътен асфалтобетон d=4 см, (БДС 4132-90)- Е = 1000 МРа | C16: t | D16: 0 | F16: =ROUND(D16*E16,2) -> 0
A17: =A16+1 -> 9 | B17: Доставка и полагане на неплътен асфалтобетон d=6 см, (БДС 4132-90) - Е = 800 МРа | C17: t | D17: 215.28 | F17: =ROUND(D17*E17,2) -> 0
A18: =A17+1 -> 10 | B18: Доставка и полагане на битумизиран трошен кавък d=10 см, (БДС 4132-90) - Е = 800 МРа | C18: t | D18: 0 | F18: =ROUND(D18*E18,2) -> 0
A19: =A18+1 -> 11 | B19: Пръскане с емулсия между неплътния асфалтобетон | C19: m2 | D19: 1495 | F19: =ROUND(D19*E19,2) -> 0
A20: =A19+1 -> 12 | B20: Заливка с битум (стар/нов асфалт) | C20: m' | D20: 2990 | F20: =ROUND(D20*E20,2) -> 0
A22: =A21+1 -> 1 | B22: Разваляне на съществуващ паваж | C22: m2 | D22: 0 | F22: =ROUND(D22*E22,2) -> 0
... A30: =A29+1 -> 6 | B30: Възстановяване на тротоари с бетонови плочи 40/40/5см (БДС 625) вкл. | C30: m2 | D30: 104.4 | F30: =ROUND(D30*E30,2) -> 0
B31: - 3 см вароциментов разтвор
B32: - 18 см трошен камък (БДС 2282-83)- Е = 200 МРа
B33: Земни работи
B34: =КСС1!B$34 -> Изкопи в 20% з.п. и 80% ск.п.
B35: за водопровод | C35: м³ | D35: 2377.8
B36: за сградни отклонения | C36: м³ | D36: 628.915
B37: за пожарни хидранти | C37: м³ | D37: 19.8
B38: Всичко изкопи | C38: м³ | D38: =SUM(D35:D37) -> 3026.515
B39: в т.ч. земни почви | C39: м³ | D39: =D38-D40 -> 605.305
B40: скални почви | C40: м³ | D40: =ROUND(D38*80%,2) -> 2421.21
A41: 1 | B41: Изкоп с багер на земни почви с ограничена шир. по улици | C41: м³ | D41: =D39-D42 -> 484.245 | F41: =ROUND(D41*E41,2) -> 0
A42: 2 | B42: Изкоп до 1.20м шир. и до 2м дълб.земни почви - ръчно по улици | C42: м³ | D42: =ROUND(D39*20%,2) -> 121.06 | F42: =ROUND(D42*E42,2) -> 0
A43: 3 | B43: Натоварване на земни почви с багер на транспорт | C43: м³ | D43: =D42 -> 121.06 | F43: =ROUND(D43*E43,2) -> 0
A44: 3 | B44: Превоз земни почви със самосвал на депо | C44: м³ | D44: =D39 -> 605.305 | F44: =ROUND(D44*E44,2) -> 0
A45: 4 | B45: Разриване с булдозер земни почви на депото или такса депо | C45: м³ | D45: =D44 -> 605.305 | F45: =ROUND(D45*E45,2) -> 0
A46: 5 | B46: =КСС1!B$46 -> Изкоп до 1.20м шир. и до 2м. дълб. скални почви | C46: м³ | D46: =D40 -> 2421.21 | F46: =ROUND(D46*E46,2) -> 0
A47: 6 | B47: Натоварване на скални почви с багер на транспорт | C47: м³ | D47: =D46 -> 2421.21 | F47: =ROUND(D47*E47,2) -> 0
A48: 7 | B48: Превоз скални почви със самосвал на депо | C48: м³ | D48: =D46 -> 2421.21 | F48: =ROUND(D48*E48,2) -> 0
A49: 8 | B49: Разриване с булдозер скални почви с булдозер на депо или такса депо | C49: м³ | D49: =D46 -> 2421.21 | F49: =ROUND(D49*E49,2) -> 0
A50: 9 | B50: Доставка на речен пясък за засипване около тръбите с трамбоване | C50: м³ | D50: 528.4 | F50: =ROUND(D50*E50,2) -> 0
A51: 10 | B51: Доставка и транспорт каменна фракция (едрина до 20мм) за обратен насип | C51: м³ | D51: 2498.115 | F51: =ROUND(D51*E51,2) -> 0
A52: 11 | B52: Засипване на тесни изкопи с каменна фракция, вкл. трамбоване | C52: м³ | D52: 2498.115 | F52: =ROUND(D52*E52,2) -> 0
A53: 12 | B53: Натоварване и извозване на отпадъци със самосвал и такса стр.отпадъци | C53: м³ | D53: 8.4 | F53: =ROUND(D53*E53,2) -> 0
A54: 13 | B54: Направа и укрепване на гърне за ПХ | C54: бр. | D54: 7 | F54: =ROUND(D54*E54,2) -> 0
A55: 14 | B55: Направа и укрепване на гърне за СК | C55: бр. | D55: 4 | F55: =ROUND(D55*E55,2) -> 0
A56: 15 | B56: Направа опорни блокове на хориз. и верт. чупки и при тройници | C56: бр. | D56: 50 | F56: =ROUND(D56*E56,2) -> 0
A57: 16 | B57: Полагане бетон В20 - неармиран за опорни блокове, ПХ и Ск | C57: м³ | D57: 37.9 | F57: =ROUND(D57*E57,2) -> 0
A58: 17 | B58: Превоз бетон | C58: м³ | D58: 37.9 | F58: =ROUND(D58*E58,2) -> 0
A59: 18 | B59: Направа укрепване при пресичане на кабели | C59: бр. | D59: 29 | F59: =ROUND(D59*E59,2) -> 0
A60: 19 | B60: Доставка и монтаж стоманена тръба ф 219/5 за кожух на водопровода | C60: м | D60: 8 | F60: =ROUND(D60*E60,2) -> 0
B61: Всичко водопровод - строителни работи : | F61: =ROUND(SUM(F7:F60),2) -> 0
A62: Б | B62: Водопровод - монтажни работи
A63: 1 | B63: Доставка и полагане на РЕ тръби тип 80 в изкоп на челна заварка
B64: - ф90/10атм. | C64: м | D64: 1321 | F64: =ROUND(D64*E64,2) -> 0
A65: 2 | B65: Доставка на РЕ фасонни парчета за челна заварка
B66: - тройник Т 90/90 | C66: бр. | D66: 22 | F66: =ROUND(D66*E66,2) -> 0
B67: - коляно Ко 90º/90 | C67: бр. | D67: 8 | F67: =ROUND(D67*E67,2) -> 0
B68: - дъга ДГ 22º/90 | C68: бр. | D68: 1 | F68: =ROUND(D68*E68,2) -> 0
B69: - дъга ДГ 18º/90 | C69: бр. | D69: 1 | F69: =ROUND(D69*E69,2) -> 0
B70: - дъга ДГ 15º/90 | C70: бр. | D70: 5 | F70: =ROUND(D70*E70,2) -> 0
B71: - дъга ДГ 11º/90 | C71: бр. | D71: 2 | F71: =ROUND(D71*E71,2) -> 0
B72: - преход фланшов ПФ 110 | C72: бр | D72: 2 | F72: =ROUND(D72*E72,2) -> 0
B73: - преход фланшов ПФ 90 | C73: бр. | D73: 18 | F73: =ROUND(D73*E73,2) -> 0
A74: 4 | B74: Направа челна заварка на тръбно съединение от полиетилен ф 90 мм | C74: бр. | D74: 120 | F74: =ROUND(D74*E74,2) -> 0
A75: 5 | B75: Доставка и монтаж на СК 80 с охр. гарнитура | C75: бр. | D75: 4 | F75: =ROUND(D75*E75,2) -> 0
A76: 6 | B76: Доставка и монтаж на ПХ 70/80 - надземен | C76: бр. | D76: 7 | F76: =ROUND(D76*E76,2) -> 0
A77: 7 | B77: Доставка и монтаж стоманена тръба ф 219/5 за кожух на водопровода | C77: м | D77: 8 | F77: =ROUND(D77*E77,2) -> 0
A78: 8 | B78: Доставка и монтаж на табели СК | C78: бр. | D78: 4 | F78: =ROUND(D78*E78,2) -> 0
A79: 9 | B79: Доставка и монтаж на табели ПХ | C79: бр. | D79: 7 | F79: =ROUND(D79*E79,2) -> 0
A80: 10 | B80: Доставка и полагане на сигнална лента | C80: м | D80: 1849.5 | F80: =ROUND(D80*E80,2) -> 0
A81: 11 | B81: Доставка и полагане детекторна лента | C81: м | D81: 1849.5 | F81: =ROUND(D81*E81,2) -> 0
A82: 12 | B82: Изпитване а водопровод до ф 140 | C82: м | D82: 1849.5 | F82: =ROUND(D82*E82,2) -> 0
A83: 13 | B83: Дезинфекция на водопровод ф 140 | C83: м | D83: 1849.5 | F83: =ROUND(D83*E83,2) -> 0
B84: Всичко Водопровод Монтажни работи | F84: =ROUND(SUM(F63:F83),2) -> 0
A85: В | B85: Сградни отклонения 93бр. - монтажни работи
A86: 1 | B86: Водовземни скоби :
B87: - ЕО ф 90/40 | C87: бр. | D87: 4 | F87: =ROUND(D87*E87,2) -> 0
B88: - ЕО ф 90/30 | C88: бр. | D88: 2 | F88: =ROUND(D88*E88,2) -> 0
B89: - ЕО ф 90/25 | C89: бр. | D89: 81 | F89: =ROUND(D89*E89,2) -> 0
A90: 2 | B90: Доставка на РЕ тръби ф 40 | C90: м | D90: 22 | F90: =ROUND(D90*E90,2) -> 0
B91: - ф 32 | C91: м | D91: 11 | F91: =ROUND(D91*E91,2) -> 0
B92: - ф 25 | C92: м | D92: 495.5 | F92: =ROUND(D92*E92,2) -> 0
A93: 3 | B93: Монтаж на РЕ тръби ф 40 | C93: м | D93: 22 | F93: =ROUND(D93*E93,2) -> 0
B94: - ф 32 | C94: м | D94: 11 | F94: =ROUND(D94*E94,2) -> 0
B95: - ф 25 | C95: м | D95: 495.5 | F95: =ROUND(D95*E95,2) -> 0
A96: 4 | B96: Доставка на преход с външна резба РЕ 40 | C96: бр. | D96: 8 | F96: =ROUND(D96*E96,2) -> 0
B97: - РЕ 32 | C97: бр. | D97: 4 | F97: =ROUND(D97*E97,2) -> 0
B98: - РЕ 25 | C98: бр. | D98: 162 | F98: =ROUND(D98*E98,2) -> 0
A99: 5 | B99: Монтаж на преход с външна резба РЕ 40 | C99: бр. | D99: 8 | F99: =ROUND(D99*E99,2) -> 0
B100: - РЕ 32 | C100: бр. | D100: 4 | F100: =ROUND(D100*E100,2) -> 0
B101: - РЕ 25 | C101: бр. | D101: 162 | F101: =ROUND(D101*E101,2) -> 0
A102: 6 | B102: Доставка и монтаж на ТСК ф 1 1/4" | C102: бр. | D102: 4 | F102: =ROUND(D102*E102,2) -> 0
A103: 7 | B103: Доставка и монтаж на ТСК ф 1" | C103: бр. | D103: 2 | F103: =ROUND(D103*E103,2) -> 0
A104: 8 | B104: Доставка и монтаж на ТСК ф 3/4" | C104: бр. | D104: 81 | F104: =ROUND(D104*E104,2) -> 0
A105: 9 | B105: Бетон под тротоарни кранове | C105: м³ | D105: 4.35 | F105: =ROUND(D105*E105,2) -> 0
A106: 10 | B106: Превключване на нов водопровод със сградните отклонения | C106: бр. | D106: 87 | F106: =ROUND(D106*E106,2) -> 0
B107: Общо сградни отклонения монтажни работи | F107: =ROUND(SUM(F87:F106),2) -> 0
B108: ОБЩО без ДДС:

Sheet КСС1
B1: Количествено-стойностна сметка № 1
B2: Обект: „Реконструкция на водоснабдителна система – гр.Земен”
F3: ул. Зем.манастир
D4: Ф140
A5: № | B5: Наименование | C5: мярка | D5: кол-во | E5: цена | F5: стойност
B6: Изпълнение на водопровод Ф140
A7: А | B7: Водопровод - строителни работи
B8: Пътни работи
A9: 1 | B9: Рязане на асфалт | C9: m' | D9: =ROUND((SUM(D66:D67)-D22-0)*2+SUM(D111:D113)*4,2) -> 2332 | F9: =ROUND(D9*E9,2) -> 0
A10: =A9+1 -> 2 | B10: Разваляне на съществуваща асфалтова настилка | C10: m2 | D10: =ROUND(SUM(D66:D67)+SUM(D111:D113)*2-D22,2) -> 1166 | F10: =ROUND(D10*E10,2) -> 0
A11: =A10+1 -> 3 | B11: Разваляне на съществуваща трошенокаменна настилка - 0,15+0,30 m | C11: m3 | D11: =ROUND(SUM(D66:D67)*0.45,2) -> 681.3 | F11: =ROUND(D11*E11,2) -> 0
A12: =A11+1 -> 4 | B12: Натоварване на строителни отпадъци на самосвал | C12: m3 | D12: =ROUND(D11+D10*0.1,2) -> 797.9 | F12: =ROUND(D12*E12,2) -> 0
A13: =A12+1 -> 5 | B13: Извозване на строителни отпадъци и такса стр.отпадъци | C13: m3 | D13: =ROUND(D12,2) -> 797.9 | F13: =ROUND(D13*E13,2) -> 0
A14: =A13+1 -> 6 | B14: Доставка и полагане на 45 см трошен камък (БДС 2282-83) - Е = 200 МРа | C14: m3 | D14: =ROUND(D11,2) -> 681.3 | F14: =ROUND(D14*E14,2) -> 0
A15: =A14+1 -> 7 | B15: Доставка и полагане на плътен асфалтобетон d=4 см,(БДС 4132-90) - Е = 1200 МРа | C15: t | D15: =ROUND(D19*0.04*2.4,2) -> 111.94 | F15: =ROUND(D15*E15,2) -> 0
A16: =A15+1 -> 8 | B16: Доставка и полагане на неплътен асфалтобетон d=4 см, (БДС 4132-90)- Е = 1000 МРа | C16: t | D16: =ROUND(0,2) -> 0 | F16: =ROUND(D16*E16,2) -> 0
A17: =A16+1 -> 9 | B17: Доставка и полагане на неплътен асфалтобетон d=6 см, (БДС 4132-90) - Е = 800 МРа | C17: t | D17: =ROUND(D19*0.06*2.4,2) -> 167.9 | F17: =ROUND(D17*E17,2) -> 0
A18: =A17+1 -> 10 | B18: Доставка и полагане на битумизиран трошен кавък d=10 см, (БДС 4132-90) - Е = 800 МРа | C18: t | D18: =ROUND(0,2) -> 0 | F18: =ROUND(D18*E18,2) -> 0
A19: =A18+1 -> 11 | B19: Пръскане с емулсия между неплътния асфалтобетон | C19: m2 | D19: =ROUND(D10,2) -> 1166 | F19: =ROUND(D19*E19,2) -> 0
A20: =A19+1 -> 12 | B20: Заливка с битум (стар/нов асфалт) | C20: m' | D20: =ROUND(D9,2) -> 2332 | F20: =ROUND(D20*E20,2) -> 0
A22: =A21+1 -> 1 | B22: Разваляне на съществуващ паваж | C22: m2 | D22: =ROUND(550,2) -> 550 | F22: =ROUND(D22*E22,2) -> 0
A23: =A22+1 -> 2 | B23: Възстановяване на съществуващ паваж | C23: m2 | D23: =ROUND(D22,2) -> 550 | F23: =ROUND(D23*E23,2) -> 0
A25: =A24+1 -> 1 | B25: Разкъртване на бордюри | C25: m' | D25: =ROUND(SUM(D111:D113)*1,2) -> 101 | F25: =ROUND(D25*E25,2) -> 0
A26: =A25+1 -> 2 | B26: Развяляне на тротоари | C26: m2 | D26: =ROUND(D25*1.2,2) -> 121.2 | F26: =ROUND(D26*E26,2) -> 0
A27: =A26+1 -> 3 | B27: Натоварване на строителни отпадъци на самосвал | C27: m3 | D27: =ROUND(D25*0.18*0.5+D26*0.1,2) -> 21.21 | F27: =ROUND(D27*E27,2) -> 0
A28: =A27+1 -> 4 | B28: Извозване на строителни отпадъци - 15 km и такса стр.отпадъци | C28: m3 | D28: =ROUND(D27,2) -> 21.21 | F28: =ROUND(D28*E28,2) -> 0
A29: =A28+1 -> 5 | B29: Възстановяване на бордюри с регула 15см, поставени върху бетонова основа. | C29: m' | D29: =ROUND(D25,2) -> 101 | F29: =ROUND(D29*E29,2) -> 0
A30: =A29+1 -> 6 | B30: Възстановяване на тротоари с бетонови плочи 40/40/5см (БДС 625) вкл. | C30: m2 | D30: =ROUND(D26,2) -> 121.2 | F30: =ROUND(D30*E30,2) -> 0
B31: - 3 см вароциментов разтвор
B32: - 18 см трошен камък (БДС 2282-83)- Е = 200 МРа
B33: Земни работи
B34: Изкопи в 20% з.п. и 80% ск.п.
B35: за водопровод | C35: м³ | D35: =ROUND((D67*1+D66*1.05)*1.8,2) -> 2861.46
B36: за сградни отклонения | C36: м³ | D36: =ROUND(SUM(D114:D116)*0.7*1.7,2) -> 740.18
B37: за пожарни хидранти | C37: м³ | D37: =ROUND(SUM(D95:D98)*1.8,2) -> 55.8
B38: Всичко изкопи | C38: м³ | D38: =SUM(D35:D37) -> 3657.44
B39: в т.ч. земни почви | C39: м³ | D39: =D38-D40 -> 731.49
B40: скални почви | C40: м³ | D40: =ROUND(D38*80%,2) -> 2925.95
A41: 1 | B41: Изкоп с багер на земни почви с ограничена шир. по улици | C41: м³ | D41: =D39-D42 -> 585.19 | F41: =ROUND(D41*E41,2) -> 0
A42: 2 | B42: Изкоп до 1.20м шир. и до 2м дълб.земни почви - ръчно по улици | C42: м³ | D42: =ROUND(D39*20%,2) -> 146.3 | F42: =ROUND(D42*E42,2) -> 0
A43: 3 | B43: Натоварване на земни почви с багер на транспорт | C43: м³ | D43: =D42 -> 146.3 | F43: =ROUND(D43*E43,2) -> 0
A44: 4 | B44: Превоз земни почви със самосвал на депо | C44: м³ | D44: =D39 -> 731.49 | F44: =ROUND(D44*E44,2) -> 0
A45: 5 | B45: Разриване с булдозер земни почви на депото или такса депо | C45: м³ | D45: =D44 -> 731.49 | F45: =ROUND(D45*E45,2) -> 0
A46: 6 | B46: Изкоп до 1.20м шир. и до 2м. дълб. скални почви | C46: м³ | D46: =D40 -> 2925.95 | F46: =ROUND(D46*E46,2) -> 0
A47: 7 | B47: Натоварване на скални почви с багер на транспорт | C47: м³ | D47: =D46 -> 2925.95 | F47: =ROUND(D47*E47,2) -> 0
A48: 8 | B48: Превоз скални почви със самосвал на депо | C48: м³ | D48: =D46 -> 2925.95 | F48: =ROUND(D48*E48,2) -> 0
A49: 9 | B49: Разриване с булдозер скални почви с булдозер на депо или такса депо | C49: м³ | D49: =D46 -> 2925.95 | F49: =ROUND(D49*E49,2) -> 0
A50: 10 | B50: Доставка на речен пясък за засипване около тръбите с трамбоване | C50: м³ | D50: =SUM(D66:D67)*0.4 -> 605.6 | F50: =ROUND(D50*E50,2) -> 0
A51: 11 | B51: Доставка и транспорт каменна фракция (едрина до 20мм) за обратен насип | C51: м³ | D51: =D38-D50 -> 3051.84 | F51: =ROUND(D51*E51,2) -> 0
A52: 12 | B52: Засипване на тесни изкопи с каменна фракция, вкл. трамбоване | C52: м³ | D52: =D51 -> 3051.84 | F52: =ROUND(D52*E52,2) -> 0
A53: 13 | B53: Натоварване и извозване на отпадъци със самосвал и такса стр.отпадъци | C53: м³ | D53: 13.5 | F53: =ROUND(D53*E53,2) -> 0
A54: 14 | B54: Укрепване на гърне за ПХ | C54: бр. | D54: 6 | F54: =ROUND(D54*E54,2) -> 0
A55: 15 | B55: Укрепване на гърне за СК | C55: бр. | D55: 52 | F55: =ROUND(D55*E55,2) -> 0
A56: 16 | B56: Направа опорни блокове на хориз. и верт. чупки и при тройници | C56: бр. | D56: 39 | F56: =ROUND(D56*E56,2) -> 0
A57: 17 | B57: Полагане бетон В20 - неармиран за опорни блокове, ПХ и Ск | C57: м³ | D57: 13.65 | F57: =ROUND(D57*E57,2) -> 0
A58: 18 | B58: Превоз бетон | C58: м³ | D58: 13.65 | F58: =ROUND(D58*E58,2) -> 0
A59: 19 | B59: Направа укрепване при пресичане на кабели | C59: бр. | D59: 48 | F59: =ROUND(D59*E59,2) -> 0
A60: 20 | B60: Доставка и монтаж стоманена тръба ф 219/5 за кожух на водопровода | C60: м | D60: 16 | F60: =ROUND(D60*E60,2) -> 0
A61: 21 | B61: Преминаване на водопровод под жп коловоз с "къртица" | C61: м | D61: =D60 -> 16 | F61: =ROUND(D61*E61,2) -> 0
A62: 22 | B62: Транспортни разходи по пренасяне на съоръженията за пробиване | C62: бр. | D62: 2 | F62: =ROUND(D62*E62,2) -> 0
B63: Всичко водопровод - строителни работи : | F63: =ROUND(SUM(F8:F62),2) -> 0
A64: Б | B64: Водопровод - монтажни работи
A65: 1 | B65: Доставка и полагане на РЕ тръби тип 80 в изкоп на челна заварка
B66: - ф140/10атм. | C66: м | D66: 1514 | F66: =ROUND(D66*E66,2) -> 0
B67: - ф90/10атм. | C67: м | D67: 0 | F67: =ROUND(D67*E67,2) -> 0
A68: 2 | B68: Доставка на РЕ фасонни парчета за челна заварка
B69: - кръстач К 140/140 | C69: бр. | D69: 2 | F69: =ROUND(D69*E69,2) -> 0
B70: - тройник Т 160/140 | C70: бр. | D70: 1 | F70: =ROUND(D70*E70,2) -> 0
B71: - тройник Т 140/140 | C71: бр. | D71: 5 | F71: =ROUND(D71*E71,2) -> 0
B72: - тройник Т 140/110 | C72: бр. | D72: 2 | F72: =ROUND(D72*E72,2) -> 0
B73: - тройник Т 140/90 | C73: бр. | D73: 8 | F73: =ROUND(D73*E73,2) -> 0
B74: - тройник Т 90/90 | C74: бр. | D74: 6 | F74: =ROUND(D74*E74,2) -> 0
B75: - коляно Ко 90º/140 | C75: бр. | D75: 5 | F75: =ROUND(D75*E75,2) -> 0
B76: - дъга ДГ 60º/140 | C76: бр. | D76: 1 | F76: =ROUND(D76*E76,2) -> 0
B77: - дъга ДГ 45º/140 | C77: бр. | D77: 1 | F77: =ROUND(D77*E77,2) -> 0
B78: - дъга ДГ 35º/140 | C78: бр. | D78: 2 | F78: =ROUND(D78*E78,2) -> 0
B79: - дъга ДГ 30º/140 | C79: бр. | D79: 2 | F79: =ROUND(D79*E79,2) -> 0
B80: - дъга ДГ 22º/140 | C80: бр. | D80: 2 | F80: =ROUND(D80*E80,2) -> 0
... B87: - преход фланшов ПФ 90 | C87: бр. | D87: 19 | F87: =ROUND(D87*E87,2) -> 0
A88: 3 | B88: Доставка и монтаж на намалител фланшов
B89: НФ 140/110 | C89: бр. | D89: 2 | F89: =ROUND(D89*E89,2) -> 0
B90: НФ 140/90 | C90: бр. | D90: 4 | F90: =ROUND(D90*E90,2) -> 0
A91: 4 | B91: Направа челна заварка на тръбно съединение от полиетилен ф 90 мм | C91: бр. | D91: 43 | F91: =ROUND(D91*E91,2) -> 0
A92: 5 | B92: Направа челна заварка на тръбно съединение от полиетилен ф110 мм | C92: бр. | D92: 4 | F92: =ROUND(D92*E92,2) -> 0
A93: 6 | B93: Направа челна заварка на тръбно съединение от полиетилен ф140 мм | C93: бр. | D93: 122 | F93: =ROUND(D93*E93,2) -> 0
A94: 7 | B94: Направа челна заварка на тръбно съединение от полиетилен ф160 мм | C94: бр. | D94: 2 | F94: =ROUND(D94*E94,2) -> 0
A95: 9 | B95: Доставка и монтаж на СК 125 с охр. гарнитура | C95: бр. | D95: 9 | F95: =ROUND(D95*E95,2) -> 0
A96: 10 | B96: Доставка и монтаж на СК 100 с охр. гарнитура | C96: бр. | D96: 4 | F96: =ROUND(D96*E96,2) -> 0
A97: 11 | B97: Доставка и монтаж на СК 80 с охр. гарнитура | C97: бр. | D97: 12 | F97: =ROUND(D97*E97,2) -> 0
A98: 12 | B98: Доставка и монтаж на ПХ 70/80 - надземен | C98: бр. | D98: 6 | F98: =ROUND(D98*E98,2) -> 0
A99: 13 | B99: Доставка и монтаж стоманена тръба ф 219/5 за кожух на водопровода | C99: м | D99: 8 | F99: =ROUND(D99*E99,2) -> 0
A100: 14 | B100: Доставка и монтаж стоманена тръба ф 273/7 за кожух на водопровода | C100: м | D100: 16 | F100: =ROUND(D100*E100,2) -> 0
A101: 15 | B101: Доставка и монтаж на табели СК | C101: бр. | D101: 23 | F101: =ROUND(D101*E101,2) -> 0
A102: 16 | B102: Доставка и монтаж на табели ПХ | C102: бр. | D102: 6 | F102: =ROUND(D102*E102,2) -> 0
A103: 14 | B103: Доставка и полагане на сигнална лента | C103: м | D103: 2136 | F103: =ROUND(D103*E103,2) -> 0
A104: 15 | B104: Доставка и полгане детекторна лента | C104: м | D104: =D103 -> 2136 | F104: =ROUND(D104*E104,2) -> 0
A105: 16 | B105: Изпитване а водопровод до ф 140 | C105: м | D105: =D103 -> 2136 | F105: =ROUND(D105*E105,2) -> 0
A106: 17 | B106: Дезинфекция на водопровод ф 140 | C106: м | D106: =D103 -> 2136 | F106: =ROUND(D106*E106,2) -> 0
B107: Всичко Водопровод Монтажни работи | F107: =ROUND(SUM(F66:F106),2) -> 0
A109: В | B109: Сградни отклонения 101бр. - монтажни работи
...

Sheet Настилки
B1: ПОДРОБНА КОЛИЧЕСТВЕНА СМЕТКА
B2: Възстановяване на настилки - гр.Земен
C3: Настилка | E3: Диаметър Водопровод | M3: Настилка | N3: КСС
A4: № | B4: Наименование на улици | C4: вид | D4: детайл | E4: 25-40 | F4: 90 | G4: 110 | H4: 140 | I4: 160 | J4: Диа-метър | K4: ширина изкоп | L4: Дължина | M4: Площ | N4: № | O4: 1 | P4: 2 | Q4: 3 | R4: 4 | S4: 5 | T4: 6 | U4: 7 | V4: 8
E5: /мм/ | K5: /м/ | L5: /м/ | M5: /м2/ | O5: /м2/ | P5: /м2/ | Q5: /м2/ | R5: /м2/ | S5: /м2/ | T5: /м2/ | U5: /м2/ | V5: /м2/
A7: 45 | B7: ул."Земенски манастир" | C7: а | D7: леко | E7: =SUM(#REF!) -> #REF! | F7: 19 | H7: =1590-H8 -> 1040 | J7: 140 | K7: 1.34 | L7: 975 | M7: =K7*L7 -> 1306.5 | N7: 1 | O7: =IF($N7=O$4,$M7,) -> 1306.5 | P7: =IF($N7=P$4,$M7,) -> 0 | Q7: =IF($N7=Q$4,$M7,) -> 0 | R7: =IF($N7=R$4,$M7,) -> 0 | S7: =IF($N7=S$4,$M7,) -> 0 | T7: =IF($N7=T$4,$M7,) -> 0 | U7: =IF($N7=U$4,$M7,) -> 0 | V7: =IF($N7=V$4,$M7,) -> 0
A8: 46 | B8: ул."Земенски манастир" | C8: п | H8: 550 | J8: 140 | K8: 1.34 | L8: 550 | M8: =K8*L8 -> 737 | N8: 1 | O8: =IF($N8=O$4,$M8,) -> 737 | P8: =IF($N8=P$4,$M8,) -> 0 | Q8: =IF($N8=Q$4,$M8,) -> 0 | R8: =IF($N8=R$4,$M8,) -> 0 | S8: =IF($N8=S$4,$M8,) -> 0 | T8: =IF($N8=T$4,$M8,) -> 0 | U8: =IF($N8=U$4,$M8,) -> 0 | V8: =IF($N8=V$4,$M8,) -> 0
A9: 47 | B9: ул.”Земенско кале” | C9: а | D9: леко | F9: 1213 | J9: 90 | K9: 1 | L9: 1171 | M9: =K9*L9 -> 1171 | N9: 2 | O9: =IF($N9=O$4,$M9,) -> 0 | P9: =IF($N9=P$4,$M9,) -> 1171 | Q9: =IF($N9=Q$4,$M9,) -> 0 | R9: =IF($N9=R$4,$M9,) -> 0 | S9: =IF($N9=S$4,$M9,) -> 0 | T9: =IF($N9=T$4,$M9,) -> 0 | U9: =IF($N9=U$4,$M9,) -> 0 | V9: =IF($N9=V$4,$M9,) -> 0
A10: 29 | B10: ул.”Кирил и Методий" | C10: а | D10: леко | F10: 97 | J10: 90 | K10: 1 | L10: 98 | M10: =K10*L10 -> 98 | N10: 2 | O10: =IF($N10=O$4,$M10,) -> 0 | P10: =IF($N10=P$4,$M10,) -> 98 | Q10: =IF($N10=Q$4,$M10,) -> 0 | R10: =IF($N10=R$4,$M10,) -> 0 | S10: =IF($N10=S$4,$M10,) -> 0 | T10: =IF($N10=T$4,$M10,) -> 0 | U10: =IF($N10=U$4,$M10,) -> 0 | V10: =IF($N10=V$4,$M10,) -> 0
A11: 34 | B11: ул.”П.Хилендарски” | C11: а | D11: леко | F11: 108 | J11: 90 | K11: 1 | L11: 108 | M11: =K11*L11 -> 108 | N11: 2 | O11: =IF($N11=O$4,$M11,) -> 0 | P11: =IF($N11=P$4,$M11,) -> 108 | Q11: =IF($N11=Q$4,$M11,) -> 0 | R11: =IF($N11=R$4,$M11,) -> 0 | S11: =IF($N11=S$4,$M11,) -> 0 | T11: =IF($N11=T$4,$M11,) -> 0 | U11: =IF($N11=U$4,$M11,) -> 0 | V11: =IF($N11=V$4,$M11,) -> 0
A12: 11 | B12: ул.”Д-р Г.М.Димитров” | C12: а | D12: леко | G12: 579 | J12: 90 | K12: 1 | L12: 590 | M12: =K12*L12 -> 590 | N12: 3 | O12: =IF($N12=O$4,$M12,) -> 0 | P12: =IF($N12=P$4,$M12,) -> 0 | Q12: =IF($N12=Q$4,$M12,) -> 590 | R12: =IF($N12=R$4,$M12,) -> 0 | S12: =IF($N12=S$4,$M12,) -> 0 | T12: =IF($N12=T$4,$M12,) -> 0 | U12: =IF($N12=U$4,$M12,) -> 0 | V12: =IF($N12=V$4,$M12,) -> 0
A13: 8 | B13: ул.”Цар Симеон” | C13: а | D13: леко | G13: 325 | J13: 110 | K13: 1 | L13: 327 | M13: =K13*L13 -> 327 | N13: 3 | O13: =IF($N13=O$4,$M13,) -> 0 | P13: =IF($N13=P$4,$M13,) -> 0 | Q13: =IF($N13=Q$4,$M13,) -> 327 | R13: =IF($N13=R$4,$M13,) -> 0 | S13: =IF($N13=S$4,$M13,) -> 0 | T13: =IF($N13=T$4,$M13,) -> 0 | U13: =IF($N13=U$4,$M13,) -> 0 | V13: =IF($N13=V$4,$M13,) -> 0
A14: 30 | B14: ул.”Княз Борис” | C14: а | D14: леко | F14: 165 | J14: 90 | K14: 1 | L14: 170 | M14: =K14*L14 -> 170 | N14: 3 | O14: =IF($N14=O$4,$M14,) -> 0 | P14: =IF($N14=P$4,$M14,) -> 0 | Q14: =IF($N14=Q$4,$M14,) -> 170 | R14: =IF($N14=R$4,$M14,) -> 0 | S14: =IF($N14=S$4,$M14,) -> 0 | T14: =IF($N14=T$4,$M14,) -> 0 | U14: =IF($N14=U$4,$M14,) -> 0 | V14: =IF($N14=V$4,$M14,) -> 0
A15: 26 | B15: ул.”Калоян” | C15: а | D15: леко | F15: =600-F16-F17 -> 418 | J15: 90 | K15: 1 | L15: 450 | M15: =K15*L15 -> 450 | N15: 3 | O15: =IF($N15=O$4,$M15,) -> 0 | P15: =IF($N15=P$4,$M15,) -> 0 | Q15: =IF($N15=Q$4,$M15,) -> 450 | R15: =IF($N15=R$4,$M15,) -> 0 | S15: =IF($N15=S$4,$M15,) -> 0 | T15: =IF($N15=T$4,$M15,) -> 0 | U15: =IF($N15=U$4,$M15,) -> 0 | V15: =IF($N15=V$4,$M15,) -> 0
A16: 27 | B16: ул.”Калоян” | C16: п | F16: 67 | J16: 90 | K16: 1 | L16: 67 | M16: =K16*L16 -> 67 | N16: 3 | O16: =IF($N16=O$4,$M16,) -> 0 | P16: =IF($N16=P$4,$M16,) -> 0 | Q16: =IF($N16=Q$4,$M16,) -> 67 | R16: =IF($N16=R$4,$M16,) -> 0 | S16: =IF($N16=S$4,$M16,) -> 0 | T16: =IF($N16=T$4,$M16,) -> 0 | U16: =IF($N16=U$4,$M16,) -> 0 | V16: =IF($N16=V$4,$M16,) -> 0
A17: 28 | B17: ул.”Калоян” | C17: тр.к. | F17: 115 | J17: 90 | K17: 1 | L17: 115 | M17: =K17*L17 -> 115 | N17: 3 | O17: =IF($N17=O$4,$M17,) -> 0 | P17: =IF($N17=P$4,$M17,) -> 0 | Q17: =IF($N17=Q$4,$M17,) -> 115 | R17: =IF($N17=R$4,$M17,) -> 0 | S17: =IF($N17=S$4,$M17,) -> 0 | T17: =IF($N17=T$4,$M17,) -> 0 | U17: =IF($N17=U$4,$M17,) -> 0 | V17: =IF($N17=V$4,$M17,) -> 0
A18: 15 | B18: ул.”Гоце Делчев” | C18: а | D18: леко | F18: 134 | J18: 90 | K18: 1 | L18: 134 | M18: =K18*L18 -> 134 | N18: 3 | O18: =IF($N18=O$4,$M18,) -> 0 | P18: =IF($N18=P$4,$M18,) -> 0 | Q18: =IF($N18=Q$4,$M18,) -> 134 | R18: =IF($N18=R$4,$M18,) -> 0 | S18: =IF($N18=S$4,$M18,) -> 0 | T18: =IF($N18=T$4,$M18,) -> 0 | U18: =IF($N18=U$4,$M18,) -> 0 | V18: =IF($N18=V$4,$M18,) -> 0
A19: 7 | B19: ул.”Цар Самуил” | C19: а | D19: леко | F19: 167 | J19: 90 | K19: 1 | L19: 170 | M19: =K19*L19 -> 170 | N19: 3 | O19: =IF($N19=O$4,$M19,) -> 0 | P19: =IF($N19=P$4,$M19,) -> 0 | Q19: =IF($N19=Q$4,$M19,) -> 170 | R19: =IF($N19=R$4,$M19,) -> 0 | S19: =IF($N19=S$4,$M19,) -> 0 | T19: =IF($N19=T$4,$M19,) -> 0 | U19: =IF($N19=U$4,$M19,) -> 0 | V19: =IF($N19=V$4,$M19,) -> 0
A20: 12 | B20: ул.”Евтим Арсов” | C20: а | D20: леко | J20: 110 | K20: 1 | L20: 456 | M20: =K20*L20 -> 456 | N20: 4 | O20: =IF($N20=O$4,$M20,) -> 0 | P20: =IF($N20=P$4,$M20,) -> 0 | Q20: =IF($N20=Q$4,$M20,) -> 0 | R20: =IF($N20=R$4,$M20,) -> 456 | S20: =IF($N20=S$4,$M20,) -> 0 | T20: =IF($N20=T$4,$M20,) -> 0 | U20: =IF($N20=U$4,$M20,) -> 0 | V20: =IF($N20=V$4,$M20,) -> 0
A21: 5 | B21: ул.”Белово" | C21: тр.к. | J21: 110/160 | K21: 1 | L21: 316.5 | M21: =K21*L21 -> 316.5 | N21: 4 | O21: =IF($N21=O$4,$M21,) -> 0 | P21: =IF($N21=P$4,$M21,) -> 0 | Q21: =IF($N21=Q$4,$M21,) -> 0 | R21: =IF($N21=R$4,$M21,) -> 316.5 | S21: =IF($N21=S$4,$M21,) -> 0 | T21: =IF($N21=T$4,$M21,) -> 0 | U21: =IF($N21=U$4,$M21,) -> 0 | V21: =IF($N21=V$4,$M21,) -> 0
B22: ул."Стефан Стамболов" | C22: а | D22: леко | F22: 134 | J22: 90 | K22: 1 | L22: 232 | M22: =K22*L22 -> 232 | N22: 4 | O22: =IF($N22=O$4,$M22,) -> 0 | P22: =IF($N22=P$4,$M22,) -> 0 | Q22: =IF($N22=Q$4,$M22,) -> 0 | R22: =IF($N22=R$4,$M22,) -> 232 | S22: =IF($N22=S$4,$M22,) -> 0 | T22: =IF($N22=T$4,$M22,) -> 0 | U22: =IF($N22=U$4,$M22,) -> 0 | V22: =IF($N22=V$4,$M22,) -> 0
A23: 14 | B23: ул.”Гео Милев” | C23: а | D23: леко | J23: 90 | K23: 1 | L23: 544 | M23: =K23*L23 -> 544 | N23: 4 | O23: =IF($N23=O$4,$M23,) -> 0 | P23: =IF($N23=P$4,$M23,) -> 0 | Q23: =IF($N23=Q$4,$M23,) -> 0 | R23: =IF($N23=R$4,$M23,) -> 544 | S23: =IF($N23=S$4,$M23,) -> 0 | T23: =IF($N23=T$4,$M23,) -> 0 | U23: =IF($N23=U$4,$M23,) -> 0 | V23: =IF($N23=V$4,$M23,) -> 0
A24: 16 | B24: ул.”Груйова” | C24: а | D24: леко | J24: 90 | K24: 1 | L24: 422 | M24: =K24*L24 -> 422 | N24: 4 | O24: =IF($N24=O$4,$M24,) -> 0 | P24: =IF($N24=P$4,$M24,) -> 0 | Q24: =IF($N24=Q$4,$M24,) -> 0 | R24: =IF($N24=R$4,$M24,) -> 422 | S24: =IF($N24=S$4,$M24,) -> 0 | T24: =IF($N24=T$4,$M24,) -> 0 | U24: =IF($N24=U$4,$M24,) -> 0 | V24: =IF($N24=V$4,$M24,) -> 0
A25: 32 | B25: ул.”Иван Стойнев” | C25: а | D25: леко | J25: 140 | K25: 1.34 | L25: 194 | M25: =K25*L25 -> 259.96 | N25: 5 | O25: =IF($N25=O$4,$M25,) -> 0 | P25: =IF($N25=P$4,$M25,) -> 0 | Q25: =IF($N25=Q$4,$M25,) -> 0 | R25: =IF($N25=R$4,$M25,) -> 0 | S25: =IF($N25=S$4,$M25,) -> 259.96 | T25: =IF($N25=T$4,$M25,) -> 0 | U25: =IF($N25=U$4,$M25,) -> 0 | V25: =IF($N25=V$4,$M25,) -> 0
A26: 36 | B26: ул.”Райко Даскалов” | C26: а | D26: леко | J26: 90/110 | K26: 1 | L26: 452 | M26: =K26*L26 -> 452 | N26: 5 | O26: =IF($N26=O$4,$M26,) -> 0 | P26: =IF($N26=P$4,$M26,) -> 0 | Q26: =IF($N26=Q$4,$M26,) -> 0 | R26: =IF($N26=R$4,$M26,) -> 0 | S26: =IF($N26=S$4,$M26,) -> 452 | T26: =IF($N26=T$4,$M26,) -> 0 | U26: =IF($N26=U$4,$M26,) -> 0 | V26: =IF($N26=V$4,$M26,) -> 0
A27: 3 | B27: ул. "Албена" | C27: а | D27: леко | J27: 90 | K27: 1 | L27: 515 | M27: =K27*L27 -> 515 | N27: 5 | O27: =IF($N27=O$4,$M27,) -> 0 | P27: =IF($N27=P$4,$M27,) -> 0 | Q27: =IF($N27=Q$4,$M27,) -> 0 | R27: =IF($N27=R$4,$M27,) -> 0 | S27: =IF($N27=S$4,$M27,) -> 515 | T27: =IF($N27=T$4,$M27,) -> 0 | U27: =IF($N27=U$4,$M27,) -> 0 | V27: =IF($N27=V$4,$M27,) -> 0
A28: 4 | B28: ул.”Баба Тонка" | C28: тр.к. | J28: 90 | K28: 1 | L28: 337 | M28: =K28*L28 -> 337 | N28: 5 | O28: =IF($N28=O$4,$M28,) -> 0 | P28: =IF($N28=P$4,$M28,) -> 0 | Q28: =IF($N28=Q$4,$M28,) -> 0 | R28: =IF($N28=R$4,$M28,) -> 0 | S28: =IF($N28=S$4,$M28,) -> 337 | T28: =IF($N28=T$4,$M28,) -> 0 | U28: =IF($N28=U$4,$M28,) -> 0 | V28: =IF($N28=V$4,$M28,) -> 0
A29: 35 | B29: ул.”Петър Берон" | C29: тр.к. | J29: 90 | K29: 1 | L29: 381 | M29: =K29*L29 -> 381 | N29: 5 | O29: =IF($N29=O$4,$M29,) -> 0 | P29: =IF($N29=P$4,$M29,) -> 0 | Q29: =IF($N29=Q$4,$M29,) -> 0 | R29: =IF($N29=R$4,$M29,) -> 0 | S29: =IF($N29=S$4,$M29,) -> 381 | T29: =IF($N29=T$4,$M29,) -> 0 | U29: =IF($N29=U$4,$M29,) -> 0 | V29: =IF($N29=V$4,$M29,) -> 0
A30: 1 | B30: ул.”А.Златарев” | C30: тр.к. | J30: 90 | K30: 1 | L30: 304 | M30: =K30*L30 -> 304 | N30: 5 | O30: =IF($N30=O$4,$M30,) -> 0 | P30: =IF($N30=P$4,$M30,) -> 0 | Q30: =IF($N30=Q$4,$M30,) -> 0 | R30: =IF($N30=R$4,$M30,) -> 0 | S30: =IF($N30=S$4,$M30,) -> 304 | T30: =IF($N30=T$4,$M30,) -> 0 | U30: =IF($N30=U$4,$M30,) -> 0 | V30: =IF($N30=V$4,$M30,) -> 0
A31: 17 | B31: ул.”Хаджи Димитър” | C31: а | D31: леко | J31: 90 | K31: 1 | L31: 463 | M31: =K31*L31 -> 463 | N31: 5 | O31: =IF($N31=O$4,$M31,) -> 0 | P31: =IF($N31=P$4,$M31,) -> 0 | Q31: =IF($N31=Q$4,$M31,) -> 0 | R31: =IF($N31=R$4,$M31,) -> 0 | S31: =IF($N31=S$4,$M31,) -> 463 | T31: =IF($N31=T$4,$M31,) -> 0 | U31: =IF($N31=U$4,$M31,) -> 0 | V31: =IF($N31=V$4,$M31,) -> 0
A32: 13 | B32: ул.”Г. Лазаров”-"Никола Петков" | C32: а | D32: леко | J32: 90 | K32: 1 | L32: 127 | M32: =K32*L32 -> 127 | N32: 5 | O32: =IF($N32=O$4,$M32,) -> 0 | P32: =IF($N32=P$4,$M32,) -> 0 | Q32: =IF($N32=Q$4,$M32,) -> 0 | R32: =IF($N32=R$4,$M32,) -> 0 | S32: =IF($N32=S$4,$M32,) -> 127 | T32: =IF($N32=T$4,$M32,) -> 0 | U32: =IF($N32=U$4,$M32,) -> 0 | V32: =IF($N32=V$4,$M32,) -> 0
A33: 43 | B33: ул.”Васил Левски” | C33: а | D33: леко | J33: 90/140 | K33: 1.34 | L33: =322+193 -> 515 | M33: =K33*L33 -> 690.1 | N33: 6 | O33: =IF($N33=O$4,$M33,) -> 0 | P33: =IF($N33=P$4,$M33,) -> 0 | Q33: =IF($N33=Q$4,$M33,) -> 0 | R33: =IF($N33=R$4,$M33,) -> 0 | S33: =IF($N33=S$4,$M33,) -> 0 | T33: =IF($N33=T$4,$M33,) -> 690.1 | U33: =IF($N33=U$4,$M33,) -> 0 | V33: =IF($N33=V$4,$M33,) -> 0
A34: 2 | B34: ул. "Ал.Стамболийски" | C34: а | D34: леко | J34: 110 | K34: 1 | L34: 322 | M34: =K34*L34 -> 322 | N34: 6 | O34: =IF($N34=O$4,$M34,) -> 0 | P34: =IF($N34=P$4,$M34,) -> 0 | Q34: =IF($N34=Q$4,$M34,) -> 0 | R34: =IF($N34=R$4,$M34,) -> 0 | S34: =IF($N34=S$4,$M34,) -> 0 | T34: =IF($N34=T$4,$M34,) -> 322 | U34: =IF($N34=U$4,$M34,) -> 0 | V34: =IF($N34=V$4,$M34,) -> 0
A35: 44 | B35: ул.”Вл.Заимов” | C35: а | D35: леко | J35: 90 | K35: 1 | L35: 103 | M35: =K35*L35 -> 103 | N35: 6 | O35: =IF($N35=O$4,$M35,) -> 0 | P35: =IF($N35=P$4,$M35,) -> 0 | Q35: =IF($N35=Q$4,$M35,) -> 0 | R35: =IF($N35=R$4,$M35,) -> 0 | S35: =IF($N35=S$4,$M35,) -> 0 | T35: =IF($N35=T$4,$M35,) -> 103 | U35: =IF($N35=U$4,$M35,) -> 0 | V35: =IF($N35=V$4,$M35,) -> 0
A36: 21 | B36: ул.”Христо Ботев" | C36: п | J36: 90 | K36: 1 | L36: 261 | M36: =K36*L36 -> 261 | N36: 6 | O36: =IF($N36=O$4,$M36,) -> 0 | P36: =IF($N36=P$4,$M36,) -> 0 | Q36: =IF($N36=Q$4,$M36,) -> 0 | R36: =IF($N36=R$4,$M36,) -> 0 | S36: =IF($N36=S$4,$M36,) -> 0 | T36: =IF($N36=T$4,$M36,) -> 261 | U36: =IF($N36=U$4,$M36,) -> 0 | V36: =IF($N36=V$4,$M36,) -> 0
A37: 25 | B37: ул.”Иван Вазов” | C37: а | D37: леко | J37: 90 | K37: 1 | L37: 110 | M37: =K37*L37 -> 110 | N37: 6 | O37: =IF($N37=O$4,$M37,) -> 0 | P37: =IF($N37=P$4,$M37,) -> 0 | Q37: =IF($N37=Q$4,$M37,) -> 0 | R37: =IF($N37=R$4,$M37,) -> 0 | S37: =IF($N37=S$4,$M37,) -> 0 | T37: =IF($N37=T$4,$M37,) -> 110 | U37: =IF($N37=U$4,$M37,) -> 0 | V37: =IF($N37=V$4,$M37,) -> 0
A38: 23 | B38: ул.”Ильо войвода" | C38: а | D38: леко | J38: 90 | K38: 1 | L38: 141 | M38: =K38*L38 -> 141 | N38: 6 | O38: =IF($N38=O$4,$M38,) -> 0 | P38: =IF($N38=P$4,$M38,) -> 0 | Q38: =IF($N38=Q$4,$M38,) -> 0 | R38: =IF($N38=R$4,$M38,) -> 0 | S38: =IF($N38=S$4,$M38,) -> 0 | T38: =IF($N38=T$4,$M38,) -> 141 | U38: =IF($N38=U$4,$M38,) -> 0 | V38: =IF($N38=V$4,$M38,) -> 0
A39: 6 | B39: ул.”Цар Асен" | C39: а | D39: леко | J39: 140 | K39: 1.34 | L39: 132 | M39: =K39*L39 -> 176.88 | N39: 6 | O39: =IF($N39=O$4,$M39,) -> 0 | P39: =IF($N39=P$4,$M39,) -> 0 | Q39: =IF($N39=Q$4,$M39,) -> 0 | R39: =IF($N39=R$4,$M39,) -> 0 | S39: =IF($N39=S$4,$M39,) -> 0 | T39: =IF($N39=T$4,$M39,) -> 176.88 | U39: =IF($N39=U$4,$M39,) -> 0 | V39: =IF($N39=V$4,$M39,) -> 0
A40: 37 | B40: ул.”Райна Княгиня” | C40: а | D40: леко | J40: 90 | K40: 1 | L40: 90 | M40: =K40*L40 -> 90 | N40: 7 | O40: =IF($N40=O$4,$M40,) -> 0 | P40: =IF($N40=P$4,$M40,) -> 0 | Q40: =IF($N40=Q$4,$M40,) -> 0 | R40: =IF($N40=R$4,$M40,) -> 0 | S40: =IF($N40=S$4,$M40,) -> 0 | T40: =IF($N40=T$4,$M40,) -> 0 | U40: =IF($N40=U$4,$M40,) -> 90 | V40: =IF($N40=V$4,$M40,) -> 0
A41: 38 | B41: ул.”Райна Княгиня” | C41: тр.к. | J41: 90 | K41: 1 | L41: 230 | M41: =K41*L41 -> 230 | N41: 7 | O41: =IF($N41=O$4,$M41,) -> 0 | P41: =IF($N41=P$4,$M41,) -> 0 | Q41: =IF($N41=Q$4,$M41,) -> 0 | R41: =IF($N41=R$4,$M41,) -> 0 | S41: =IF($N41=S$4,$M41,) -> 0 | T41: =IF($N41=T$4,$M41,) -> 0 | U41: =IF($N41=U$4,$M41,) -> 230 | V41: =IF($N41=V$4,$M41,) -> 0
A42: 39 | B42: ул.”Райна Княгиня” | C42: п | J42: 90 | K42: 1 | L42: 80 | M42: =K42*L42 -> 80 | N42: 7 | O42: =IF($N42=O$4,$M42,) -> 0 | P42: =IF($N42=P$4,$M42,) -> 0 | Q42: =IF($N42=Q$4,$M42,) -> 0 | R42: =IF($N42=R$4,$M42,) -> 0 | S42: =IF($N42=S$4,$M42,) -> 0 | T42: =IF($N42=T$4,$M42,) -> 0 | U42: =IF($N42=U$4,$M42,) -> 80 | V42: =IF($N42=V$4,$M42,) -> 0
A43: 22 | B43: ул.”Хр.Смирненски” | C43: а | D43: средно | J43: 90 | K43: 1 | L43: 414 | M43: =K43*L43 -> 414 | N43: 7 | O43: =IF($N43=O$4,$M43,) -> 0 | P43: =IF($N43=P$4,$M43,) -> 0 | Q43: =IF($N43=Q$4,$M43,) -> 0 | R43: =IF($N43=R$4,$M43,) -> 0 | S43: =IF($N43=S$4,$M43,) -> 0 | T43: =IF($N43=T$4,$M43,) -> 0 | U43: =IF($N43=U$4,$M43,) -> 414 | V43: =IF($N43=V$4,$M43,) -> 0
A44: 33 | B44: ул.”Н.Вапцаров” | C44: а | D44: леко | J44: 140 | K44: 1.34 | L44: 307 | M44: =K44*L44 -> 411.38 | N44: 7 | O44: =IF($N44=O$4,$M44,) -> 0 | P44: =IF($N44=P$4,$M44,) -> 0 | Q44: =IF($N44=Q$4,$M44,) -> 0 | R44: =IF($N44=R$4,$M44,) -> 0 | S44: =IF($N44=S$4,$M44,) -> 0 | T44: =IF($N44=T$4,$M44,) -> 0 | U44: =IF($N44=U$4,$M44,) -> 411.38 | V44: =IF($N44=V$4,$M44,) -> 0
A45: 20 | B45: ул.”Хан Кубрат" | C45: а | D45: средно | J45: 90 | K45: 1 | L45: 331 | M45: =K45*L45 -> 331 | N45: 7 | O45: =IF($N45=O$4,$M45,) -> 0 | P45: =IF($N45=P$4,$M45,) -> 0 | Q45: =IF($N45=Q$4,$M45,) -> 0 | R45: =IF($N45=R$4,$M45,) -> 0 | S45: =IF($N45=S$4,$M45,) -> 0 | T45: =IF($N45=T$4,$M45,) -> 0 | U45: =IF($N45=U$4,$M45,) -> 331 | V45: =IF($N45=V$4,$M45,) -> 0
A46: 18 | B46: ул.”Хан Аспарух” | C46: а | D46: леко | J46: 90 | K46: 1 | L46: 219 | M46: =K46*L46 -> 219 | N46: 7 | O46: =IF($N46=O$4,$M46,) -> 0 | P46: =IF($N46=P$4,$M46,) -> 0 | Q46: =IF($N46=Q$4,$M46,) -> 0 | R46: =IF($N46=R$4,$M46,) -> 0 | S46: =IF($N46=S$4,$M46,) -> 0 | T46: =IF($N46=T$4,$M46,) -> 0 | U46: =IF($N46=U$4,$M46,) -> 219 | V46: =IF($N46=V$4,$M46,) -> 0
A47: 19 | B47: ул.”Хан Аспарух”-2 | C47: а | D47: леко | J47: 110 | K47: 1 | L47: 153 | M47: =K47*L47 -> 153 | N47: 7 | O47: =IF($N47=O$4,$M47,) -> 0 | P47: =IF($N47=P$4,$M47,) -> 0 | Q47: =IF($N47=Q$4,$M47,) -> 0 | R47: =IF($N47=R$4,$M47,) -> 0 | S47: =IF($N47=S$4,$M47,) -> 0 | T47: =IF($N47=T$4,$M47,) -> 0 | U47: =IF($N47=U$4,$M47,) -> 153 | V47: =IF($N47=V$4,$M47,) -> 0
A48: 9 | B48: ул.”Димитър Благоев” | C48: а | D48: леко | J48: 110 | K48: 1 | L48: 190 | M48: =K48*L48 -> 190 | N48: 8 | O48: =IF($N48=O$4,$M48,) -> 0 | P48: =IF($N48=P$4,$M48,) -> 0 | Q48: =IF($N48=Q$4,$M48,) -> 0 | R48: =IF($N48=R$4,$M48,) -> 0 | S48: =IF($N48=S$4,$M48,) -> 0 | T48: =IF($N48=T$4,$M48,) -> 0 | U48: =IF($N48=U$4,$M48,) -> 0 | V48: =IF($N48=V$4,$M48,) -> 190
A49: 24 | B49: ул.”Ивайло” | C49: а | D49: леко | J49: 90 | K49: 1 | L49: 467 | M49: =K49*L49 -> 467 | N49: 8 | O49: =IF($N49=O$4,$M49,) -> 0 | P49: =IF($N49=P$4,$M49,) -> 0 | Q49: =IF($N49=Q$4,$M49,) -> 0 | R49: =IF($N49=R$4,$M49,) -> 0 | S49: =IF($N49=S$4,$M49,) -> 0 | T49: =IF($N49=T$4,$M49,) -> 0 | U49: =IF($N49=U$4,$M49,) -> 0 | V49: =IF($N49=V$4,$M49,) -> 467
A50: 31 | B50: ул.”Л.Каравелов” | C50: а | D50: леко | J50: 90 | K50: 1 | L50: 366 | M50: =K50*L50 -> 366 | N50: 8 | O50: =IF($N50=O$4,$M50,) -> 0 | P50: =IF($N50=P$4,$M50,) -> 0 | Q50: =IF($N50=Q$4,$M50,) -> 0 | R50: =IF($N50=R$4,$M50,) -> 0 | S50: =IF($N50=S$4,$M50,) -> 0 | T50: =IF($N50=T$4,$M50,) -> 0 | U50: =IF($N50=U$4,$M50,) -> 0 | V50: =IF($N50=V$4,$M50,) -> 366
A51: 10 | B51: ул.”Димитър Благоев” | C51: тр.к. | J51: 110 | K51: 1 | L51: 106 | M51: =K51*L51 -> 106 | N51: 8 | O51: =IF($N51=O$4,$M51,) -> 0 | P51: =IF($N51=P$4,$M51,) -> 0 | Q51: =IF($N51=Q$4,$M51,) -> 0 | R51: =IF($N51=R$4,$M51,) -> 0 | S51: =IF($N51=S$4,$M51,) -> 0 | T51: =IF($N51=T$4,$M51,) -> 0 | U51: =IF($N51=U$4,$M51,) -> 0 | V51: =IF($N51=V$4,$M51,) -> 106
A52: 41 | B52: ул.”Тичък” | C52: п | J52: 90/110 | K52: 1 | L52: 556 | M52: =K52*L52 -> 556 | N52: 8 | O52: =IF($N52=O$4,$M52,) -> 0 | P52: =IF($N52=P$4,$M52,) -> 0 | Q52: =IF($N52=Q$4,$M52,) -> 0 | R52: =IF($N52=R$4,$M52,) -> 0 | S52: =IF($N52=S$4,$M52,) -> 0 | T52: =IF($N52=T$4,$M52,) -> 0 | U52: =IF($N52=U$4,$M52,) -> 0 | V52: =IF($N52=V$4,$M52,) -> 556
A53: 40 | B53: ул."Струма" | C53: а | D53: леко | J53: 90 | K53: 1 | L53: 767 | M53: =K53*L53 -> 767 | N53: 8 | O53: =IF($N53=O$4,$M53,) -> 0 | P53: =IF($N53=P$4,$M53,) -> 0 | Q53: =IF($N53=Q$4,$M53,) -> 0 | R53: =IF($N53=R$4,$M53,) -> 0 | S53: =IF($N53=S$4,$M53,) -> 0 | T53: =IF($N53=T$4,$M53,) -> 0 | U53: =IF($N53=U$4,$M53,) -> 0 | V53: =IF($N53=V$4,$M53,) -> 767
A54: 42 | B54: ул.”В.Левски” и ул."Л.Каравелов" | C54: а | D54: леко | J54: 90 | K54: 1 | L54: 361 | M54: =K54*L54 -> 361 | N54: 8 | O54: =IF($N54=O$4,$M54,) -> 0 | P54: =IF($N54=P$4,$M54,) -> 0 | Q54: =IF($N54=Q$4,$M54,) -> 0 | R54: =IF($N54=R$4,$M54,) -> 0 | S54: =IF($N54=S$4,$M54,) -> 0 | T54: =IF($N54=T$4,$M54,) -> 0 | U54: =IF($N54=U$4,$M54,) -> 0 | V54: =IF($N54=V$4,$M54,) -> 361
B56: Общо: | L56: =SUM(L7:L54) -> 15889.5 | M56: =SUM(M7:M54) -> 16798.32 | O56: =SUM(O7:O54) -> 2043.5 | P56: =SUM(P7:P54) -> 1377 | Q56: =SUM(Q7:Q54) -> 2023 | R56: =SUM(R7:R54) -> 1970.5 | S56: =SUM(S7:S54) -> 2838.96 | T56: =SUM(T7:T54) -> 1803.98 | U56: =SUM(U7:U54) -> 1928.38 | V56: =SUM(V7:V54) -> 2813
B62: асфалт | C62: а | E62: разваляне асф. | L62: =SUMIF($C$7:$M$54,$C62,L$7:L$54) -> 12586 | M62: =SUMIF($C$7:$M$54,$C62,M$7:M$54) -> 13307.82 | O62: =SUMIF($C$7:$M$54,$C62,O$7:O$54) -> 1306.5 | P62: =SUMIF($C$7:$M$54,$C62,P$7:P$54) -> 1377 | Q62: =SUMIF($C$7:$M$54,$C62,Q$7:Q$54) -> 1841 | R62: =SUMIF($C$7:$M$54,$C62,R$7:R$54) -> 1654 | S62: =SUMIF($C$7:$M$54,$C62,S$7:S$54) -> 1816.96 | T62: =SUMIF($C$7:$M$54,$C62,T$7:T$54) -> 1542.98 | U62: =SUMIF($C$7:$M$54,$C62,U$7:U$54) -> 1618.38 | V62: =SUMIF($C$7:$M$54,$C62,V$7:V$54) -> 2151
B63: тр.камък | C63: тр.к. | E63: трошен камък | L63: =SUMIF($C$7:$M$54,$C63,L$7:L$54) -> 1789.5 | M63: =SUMIF($C$7:$M$54,$C63,M$7:M$54) -> 1789.5 | O63: =SUMIF($C$7:$M$54,$C63,O$7:O$54) -> 0 | P63: =SUMIF($C$7:$M$54,$C63,P$7:P$54) -> 0 | Q63: =SUMIF($C$7:$M$54,$C63,Q$7:Q$54) -> 115 | R63: =SUMIF($C$7:$M$54,$C63,R$7:R$54) -> 316.5 | S63: =SUMIF($C$7:$M$54,$C63,S$7:S$54) -> 1022 | T63: =SUMIF($C$7:$M$54,$C63,T$7:T$54) -> 0 | U63: =SUMIF($C$7:$M$54,$C63,U$7:U$54) -> 230 | V63: =SUMIF($C$7:$M$54,$C63,V$7:V$54) -> 106
B64: паваж | C64: п | E64: разваляне паважна настилка | L64: =SUMIF($C$7:$M$54,$C64,L$7:L$54) -> 1514 | M64: =SUMIF($C$7:$M$54,$C64,M$7:M$54) -> 1701 | O64: =SUMIF($C$7:$M$54,$C64,O$7:O$54) -> 737 | P64: =SUMIF($C$7:$M$54,$C64,P$7:P$54) -> 0 | Q64: =SUMIF($C$7:$M$54,$C64,Q$7:Q$54) -> 67 | R64: =SUMIF($C$7:$M$54,$C64,R$7:R$54) -> 0 | S64: =SUMIF($C$7:$M$54,$C64,S$7:S$54) -> 0 | T64: =SUMIF($C$7:$M$54,$C64,T$7:T$54) -> 261 | U64: =SUMIF($C$7:$M$54,$C64,U$7:U$54) -> 80 | V64: =SUMIF($C$7:$M$54,$C64,V$7:V$54) -> 556
B66: Общо: | L66: =SUM(L62:L64) -> 15889.5 | M66: =SUM(M62:M64) -> 16798.32 | O66: =SUM(O62:O64) -> 2043.5 | P66: =SUM(P62:P64) -> 1377 | Q66: =SUM(Q62:Q64) -> 2023 | R66: =SUM(R62:R64) -> 1970.5 | S66: =SUM(S62:S64) -> 2838.96 | T66: =SUM(T62:T64) -> 1803.98 | U66: =SUM(U62:U64) -> 1928.38 | V66: =SUM(V62:V64) -> 2813
A69: СР | B69: Конструкция тип „А” за “средно” движение с Е=255МРа
B70: - 4 см плътен асфалтобетон (БДС 4132-90) - Е = 1200 МРа
B71: - 4 см неплътен асфалтобетон (БДС 4132-90) - Е = 1000 МРа
B72: - 10 см битумизиран трошен камък (БДС 4132-90) - Е = 800 МРа
B73: - 45 см трошен камък (БДС 2282-83) - Е = 250 МРа
B74: 63см обща дебелина на настилката при земно легло с Е=30 МРа
A76: ЛЕ | B76: конструкция тип "А" за "леко" движение с Е=170МРа, а именно:
B77: - 4 см плътен асфалтобетон (БДС 4132-90) - Е = 1200 МРа
B78: - 6 см битумизиран трошен камък (БДС 4132-90) - Е = 800 МРа
B79: - 45 см трошен камък (БДС 2282-83) - Е = 200 МРа
B80: 55см обща дебелина на настилката при земно легло с Е=30 МРа
A82: Б | B82: Разрушените бордюри при изграждането на водопровода и сградните отклонения ще се възстановят с нови бетонови бордюри с регула 15см, поставени върху бетонова основа.
A83: Т | B83: Възстановяването на разрушената настилка на тротоара ще се извърши със следната конструкция:
B84: - бетонови плочи 40/40/5см (БДС 625)
B85: - 3 см вароциментов разтвор
B86: - 18 см трошен камък (БДС 2282-83)- Е = 200 МРа
B87: 26см обща дебелина на настилката за 1тон колесно
B88: натоварване при земно легло с Е = 30 МРа
B91: 1. по ул. "Земенски манастир" съществуващият водопровод с тръби стомана ф 80 и АЦ ф 125 да се подмени с PEHD тръби ф140/10атм , с обща дължина 1514м, а също да се подменят и 94 броя сградни отклонения (СВО) с PEHD тръби ф25, 4 броя с PEHD тръби ф32 и 3 броя с PEHD тръби ф40.
B92: 2. по ул. "Земенско кале" съществуващият водопровод е АЦ 80 и АЦ 150 ще се подмени с PEHD тръби ф 90 с обща дължина 1213м, а също да се подменят и 75 броя сградни отклонения (СВО) с PEHD тръби ф25, 2 броя с PEHD тръби ф32 и 4 броя с PEHD тръби ф40 . | D92: 75 | E92: 2 | F92: 4
B93: 3. по ул. "Кирил и Методий" не е съществувал водопровод. С настоящият проект се предвижда PEHD ф 90 с обща дължина 97м, а също да се подменят и 6 броя сградни отклонения (СВО) с PEHD тръби ф 25. | D93: 6
B94: 4. по ул. "Паисий Хилендарски" съществуващият водопровод е АЦ 80 и ще се подмени с PEHD тръби ф 90 с обща дължина 108м , а също да се подменят и 6 броя сградни отклонения (СВО) с PEHD тръби ф25. | D94: 6
B95: 5. по ул. "д-р Г.М Димитров " съществуващият водопровод е АЦ 80 и АЦ 125 ще се подменят с PEHD тръби ф 110 с обща дължина 579м, а също да се подменят и 38 броя сградни отклонения (СВО) с PEHD тръби ф 25.
B96: 6. по ул. "Цар Симеон" съществуващият водопровод е АЦ 80 и ще се подмени с PEHD тръби ф 110 с обща дължина 325м, а също да се подменят и 26 броя сградни отклонения (СВО) с PEHD тръби ф25.
B97: 7. по ул. "Княз Борис" съществуващият водопровод е АЦ 80 и ще се подмени с PEHD тръби ф 90 с обща дължина 165м, а също да се подменят и 15 броя сградни отклонения (СВО) с PEHD тръби ф25.
B98: 8. по ул. "Цар Калоян" съществуващият водопровод е АЦ 80 и ще се подмени с PEHD тръби ф 90 с обща дължина 600м, а също да се подменят и 25 броя сградни отклонения (СВО) с PEHD тръби ф25.
B99: 9. по ул. "Гоце Делчев" съществуващият водопровод е АЦ 80 и ще се подмени с PEHD тръби ф 90 с обща дължина 134м, а също да се подменят и 12 броя сградни отклонения (СВО) с PEHD тръби ф25.
B100: 10. по ул. "Цар Самуил" съществуващият водопровод е АЦ 80 и ще се подмени с PEHD тръби ф 90 с обща дължина 167м, а също да се подменят и 7 броя сградни отклонения (СВО) с PEHD тръби ф25.
B101: 11. по ул."Евтим Арсов" съществуващият водопровод е АЦ 80 и ще се подмени с PEHD тръби ф 110 с обща дължина 448м, а също да се подменят и 25 броя сградни отклонения (СВО) с PEHD тръби ф25.
B102: 12. по ул."Белово" съществуващият водопровод е АЦ 125 и ще се подмени с PEHD тръби ф 160 и ф 110 с обща дължина 319м, а също да се подменят и 4 броя сградни отклонения (СВО) с PEHD тръби ф25.
B103: 13. по ул. "Стефан Стамболов" съществуващият водопровод е АЦ 80 и ще се подмени с PEHD тръби ф 90 с обща дължина 232 м, а също да се подменят и 16 броя сградни отклонения (СВО) с PEHD тръби ф25
B104: 14. по ул. "Райко Даскалов" съществуващият водопровод е АЦ 80 и ще се подмени с PEHD тръби ф 110 с обща дължина 456м, а също да се подменят и 22 броя сградни отклонения (СВО) с PEHD тръби ф 25 и 1 брой ф 50.
B105: 15. по ул. "Гео Милев" съществуващият водопровод е АЦ 80 и ще се подмени с PEHD тръби ф 90 и с обща дължина 544м, а също да се подменят и 21 броя сградни отклонения (СВО) с PEHD тръби ф25.
B106: 16. по ул. "Груйова" съществуващият водопровод е АЦ 80 и ще се подмени с PEHD тръби ф 140 и ф 90 с обща дължина 414м, а също да се подменят и 30 броя сградни отклонения (СВО) с PEHD тръби ф25.
... B130: 40. по ул. "Струма" - съществуващият водопровод е АЦ 80 и ще се подмени с PEHD тръби ф 90 и с обща дължина 765м, а също да се подменят и 32 броя сградни отклонения (СВО) с PEHD тръби ф25, 1 брой с ф 32 и 2 броя с ф 40.

Sheet Улици
A1: Папка с | B1: Улица | C1: Дължина | D1: Дължина с отклонения, без СВО | E1: в т.ч. | G1: Ф90 | H1: Ф110 | I1: Ф140 | J1: Ф160
A2: чертежи | C2: по профил
A3: І-ва | B3: 1
B4: Зем.манастир | C4: Ф140 – 1514м | D4: Ф90 - 1514м
B5: 2
B6: Земенско кале | C6: Ф90 – 1213м | D6: Ф90 – 1213м
B7: Кирил и Методи | C7: Ф90 – 97м | D7: Ф90 – 97м
B8: П.Хилендарски | C8: Ф90 – 108м | D8: Ф90 – 108м
B9: 3
B10: Д-р Г.М.Димитров | C10: Ф110 – 579м | D10: Ф110 –579м | H10: ул. Д-р Г.М.Димитров, ул. Цар Симеон
B11: Цар Симеон | C11: Ф110 – 325м | D11: Ф110 –325м
B12: Княз Борис | C12: Ф90 – 165м | D12: Ф90 – 165м | G12: ул. Княз Борис, ул. Цар Колоян, ул. Гоце Делчев, ул. Цар Самуил
B13: Цар Колоян | C13: Ф90 – 600м | D13: Ф90 – 600м
B14: Гоце Делчев | C14: Ф90 – 134м | D14: Ф90 – 134м
B15: Цар Самуил | C15: Ф90 – 167м | D15: Ф90 – 167м
A16: ІІ-ра | B16: 4
B17: Е.Арсов | C17: Ф110 – 448м | D17: Ф110 – 448м | H17: ул. Е.Арсов, ул. Белово
B18: Белово | C18: Ф160 – 201м | D18: Ф160 –201м | J18: ул. Белово
C19: Ф110 – 119м | D19: Ф110 –119м
B20: Ст.Стамболов | C20: Ф90 – 232м | D20: Ф90 – 232м | G20: ул. Ст.Стамболов, ул. Гео Милев, ул. Гео Милев, ул. Груйова
B21: Гео Милев | C21: Ф90 – 544м | D21: Ф90 – 544м
B22: Груйова | C22: Ф140 – 92м | D22: Ф140 – 92м | I22: ул. Груйова
C23: Ф90 – 328м | D23: Ф90 – 328м
B24: 5
B25: И.Стойнев | C25: Ф140 – 194м | D25: Ф140 – 194м | I25: ул. И.Стойнев
B26: Р.Даскалов | C26: Ф110 – 259м | D26: Ф110 – 259м | H26: ул. Р.Даскалов
C27: Ф90 – 197м | D27: Ф90 – 197м | G27: ул. Р.Даскалов, ул. Албена, ул. Баба Тонка, ул. Петър Берон, ул. А.Златаров, ул. Х.Димитър, ул. Г.Лазаров
B28: Албена | C28: Ф90 – 527м | D28: Ф90 – 527м
B29: Баба Тонка | C29: Ф90 – 335м | D29: Ф90 – 335м
A30: ІІІ-та | B30: Петър Берон | C30: Ф90 – 380м | D30: Ф90 – 380м
B31: А.Златаров | C31: Ф90 – 304м | D31: Ф90 – 304м
B32: Х.Димитър | C32: Ф90 – 443м | D32: Ф90 – 443м
B33: Г.Лазаров | C33: Ф90 – 124м | D33: Ф90 – 124м
B34: 6
B35: В.Левски | C35: Ф140 – 312м | D35: Ф140 – 312м | I35: ул. В.Левски, ул. Ал.Стамболийски, ул. Цар Асен
C36: Ф90 – 193м | D36: Ф90 – 193м | G36: ул. В.Левски, ул. Вл.Заимов, ул. Хр.Ботев, ул. Иван Вазов, ул. Ильо Войвода
B37: Ал.Стамболийски | C37: Ф140 – 87м | D37: Ф140 – 87м
C38: Ф110 – 233м | D38: Ф110 – 233м | H38: ул. Ал.Стамболийски
B39: Вл.Заимов | C39: Ф90 – 103м | D39: Ф90 – 103м
B40: Хр.Ботев | C40: Ф90 – 259м | D40: Ф90 – 259м
B41: Иван Вазов | C41: Ф90 – 103м | D41: Ф90 – 103м
B42: Ильо Войвода | C42: Ф90 – 109м | D42: Ф90 – 109м
B43: Цар Асен | C43: Ф140 – 132м | D43: Ф140 – 132м
B44: 7
A45: ІV-та | B45: Райна Княгиня | C45: Ф90 – 428м | D45: Ф90 – 428м | G45: ул. Райна Княгиня, ул. Хр.Смирненски, ул. Хан Кубрат, ул. Хан Аспарух
B46: Хр.Смирненски | C46: Ф140 – 77м | D46: Ф140 – 77м | I46: ул. Хр.Смирненски, ул. Н.Вапцаров
C47: Ф90 – 304м | D47: Ф90 – 304м
A48: ІV-та | B48: Н.Вапцаров | C48: Ф140 – 325м | D48: Ф140 – 325м | E48: Ф90-отклонение -67м
D49: Ф90 – 67м
B50: Хан Кубрат | C50: Ф90 – 331м | D50: Ф90 – 331м
B51: Хан Аспарух | C51: Ф110 – 153м | D51: Ф110 – 153м | E51: Ф90- отклонение 99м. | H51: ул. Хан Аспарух
C52: Ф90 – 218м | D52: Ф90 – 317м
B53: 8
B54: Ивайло | C54: Ф90 – 467м | D54: Ф90 – 467м | G54: ул. Ивайло, ул. Л.Каравелов, ул. Тичък, ул. Струма
B55: Л.Каравелов | C55: Ф90 – 541м | D55: Ф90 – 572м | E55: Ф90 - отклонение 31м
B56: Д.Благоев | C56: Ф110 – 293м | D56: Ф110 – 293м | H56: ул. Д.Благоев, ул. Тичък
D57: Ф90 -38м | E57: Ф90 - отклонение 38м
B58: Тичък | C58: Ф110 – 103м | D58: Ф110 – 103м
C59: Ф90 – 452м | D59: Ф90 – 452м
B60: Струма | C60: Ф90 – 764м | D60: Ф90 – 875м | E60: Ф90 - отклонение 111м
